{"text_format":"1","workbook":"xlsx","n_sheets":4,"sheets":["Print Form","SO Analysis","WH1","WH2"],"not_rendered":{"charts":0,"images":0,"macros":1,"external_links":0,"defined_names":4,"comments":0,"pivot_tables":0},"unopened":[],"bounds":{"document_bytes":16777216,"sheet_cells":100000,"rows_first":2000,"rows_last":500,"rows_between":2000,"halvings":0,"cell_chars":16384,"cell_head_chars":4096},"cells_cut":0,"cells_raw":0,"read":"row_number_cap","date_system":"1900"}

{"sheet":"Print Form","index":0,"n_rows":3000,"n_cols":11,"rows_kept":3000,"cut":false,"hidden":false,"merged":[[1,7,1,10],[5,9,5,10],[4,9,4,10],[8,9,8,10],[10,1,11,1],[10,2,11,2],[10,8,10,9],[10,5,10,7],[10,10,11,10],[10,3,11,3],[10,4,11,4]],"read":"row_number_cap"}
[]
[null,null,null,null,null,null,null,"STOCK OPNAME FORM"]
[]
[null,null,null,null,null,null,"DOC. NO."]
[null,"ITEM GROUP",null,null,null,null,"EXECUTION DATE FROM"]
[null,"WH. GROUP",null,null,null,null,"EXECUTION DATE TO"]
[null,"WH. CODE",null,null,null,null,"LOCATION FROM"]
[null,"PIC",null,null,null,null,"LOCATION TO"]
[null,null,null,null,null,null,"PAGE"]
[]
[null,"SEQ.","ITEM CODE","ITEM NAME","LOCATION","SYSTEM QTY",null,null,"AUDITOR",null,"OPERATOR"]
[null,null,null,null,null,"OH","ALLOC","AVAIL","TOTAL","BROKEN"]
[null,{"$f":"IF(C13=\"\",\"\",ROW()-12)","v":""},null,null,null,{"$f":"SUMIFS('SO Analysis'!E:E,'SO Analysis'!B:B,'Print Form'!C13,'SO Analysis'!D:D,'Print Form'!E13)","v":0},{"$f":"SUMIFS('SO Analysis'!F:F,'SO Analysis'!B:B,'Print Form'!C13,'SO Analysis'!D:D,'Print Form'!E13)","v":0},{"$f":"SUMIFS('SO Analysis'!G:G,'SO Analysis'!B:B,'Print Form'!C13,'SO Analysis'!D:D,'Print Form'!E13)","v":0}]
[null,{"$f":"IF(C14=\"\",\"\",ROW()-12)","v":""},null,null,null,{"$f":"SUMIFS('SO Analysis'!E:E,'SO Analysis'!B:B,'Print Form'!C14,'SO Analysis'!D:D,'Print Form'!E14)","v":0},{"$f":"SUMIFS('SO Analysis'!F:F,'SO Analysis'!B:B,'Print Form'!C14,'SO Analysis'!D:D,'Print Form'!E14)","v":0},{"$f":"SUMIFS('SO Analysis'!G:G,'SO Analysis'!B:B,'Print Form'!C14,'SO Analysis'!D:D,'Print Form'!E14)","v":0}]
[null,"",null,null,null,{"$f":"SUMIFS('SO Analysis'!E:E,'SO Analysis'!B:B,'Print Form'!C15,'SO Analysis'!D:D,'Print Form'!E15)","v":0},{"$f":"SUMIFS('SO Analysis'!F:F,'SO Analysis'!B:B,'Print Form'!C15,'SO Analysis'!D:D,'Print Form'!E15)","v":0},{"$f":"SUMIFS('SO Analysis'!G:G,'SO Analysis'!B:B,'Print Form'!C15,'SO Analysis'!D:D,'Print Form'!E15)","v":0}]
[null,"",null,null,null,{"$f":"SUMIFS('SO Analysis'!E:E,'SO Analysis'!B:B,'Print Form'!C16,'SO Analysis'!D:D,'Print Form'!E16)","v":0},{"$f":"SUMIFS('SO Analysis'!F:F,'SO Analysis'!B:B,'Print Form'!C16,'SO Analysis'!D:D,'Print Form'!E16)","v":0},{"$f":"SUMIFS('SO Analysis'!G:G,'SO Analysis'!B:B,'Print Form'!C16,'SO Analysis'!D:D,'Print Form'!E16)","v":0}]
[null,"",null,null,null,{"$f":"SUMIFS('SO Analysis'!E:E,'SO Analysis'!B:B,'Print Form'!C17,'SO Analysis'!D:D,'Print Form'!E17)","v":0},{"$f":"SUMIFS('SO Analysis'!F:F,'SO Analysis'!B:B,'Print Form'!C17,'SO Analysis'!D:D,'Print Form'!E17)","v":0},{"$f":"SUMIFS('SO Analysis'!G:G,'SO Analysis'!B:B,'Print Form'!C17,'SO Analysis'!D:D,'Print Form'!E17)","v":0}]
[null,"",null,null,null,{"$f":"SUMIFS('SO Analysis'!E:E,'SO Analysis'!B:B,'Print Form'!C18,'SO Analysis'!D:D,'Print Form'!E18)","v":0},{"$f":"SUMIFS('SO Analysis'!F:F,'SO Analysis'!B:B,'Print Form'!C18,'SO Analysis'!D:D,'Print Form'!E18)","v":0},{"$f":"SUMIFS('SO Analysis'!G:G,'SO Analysis'!B:B,'Print Form'!C18,'SO Analysis'!D:D,'Print Form'!E18)","v":0}]
[null,"",null,null,null,{"$f":"SUMIFS('SO Analysis'!E:E,'SO Analysis'!B:B,'Print Form'!C19,'SO Analysis'!D:D,'Print Form'!E19)","v":0},{"$f":"SUMIFS('SO Analysis'!F:F,'SO Analysis'!B:B,'Print Form'!C19,'SO Analysis'!D:D,'Print Form'!E19)","v":0},{"$f":"SUMIFS('SO Analysis'!G:G,'SO Analysis'!B:B,'Print Form'!C19,'SO Analysis'!D:D,'Print Form'!E19)","v":0}]
[null,"",null,null,null,{"$f":"SUMIFS('SO Analysis'!E:E,'SO Analysis'!B:B,'Print Form'!C20,'SO Analysis'!D:D,'Print Form'!E20)","v":0},{"$f":"SUMIFS('SO Analysis'!F:F,'SO Analysis'!B:B,'Print Form'!C20,'SO Analysis'!D:D,'Print Form'!E20)","v":0},{"$f":"SUMIFS('SO Analysis'!G:G,'SO Analysis'!B:B,'Print Form'!C20,'SO Analysis'!D:D,'Print Form'!E20)","v":0}]
[null,"",null,null,null,{"$f":"SUMIFS('SO Analysis'!E:E,'SO Analysis'!B:B,'Print Form'!C21,'SO Analysis'!D:D,'Print Form'!E21)","v":0},{"$f":"SUMIFS('SO Analysis'!F:F,'SO Analysis'!B:B,'Print Form'!C21,'SO Analysis'!D:D,'Print Form'!E21)","v":0},{"$f":"SUMIFS('SO Analysis'!G:G,'SO Analysis'!B:B,'Print Form'!C21,'SO Analysis'!D:D,'Print Form'!E21)","v":0}]
[null,"",null,null,null,{"$f":"SUMIFS('SO Analysis'!E:E,'SO Analysis'!B:B,'Print Form'!C22,'SO Analysis'!D:D,'Print Form'!E22)","v":0},{"$f":"SUMIFS('SO Analysis'!F:F,'SO Analysis'!B:B,'Print Form'!C22,'SO Analysis'!D:D,'Print Form'!E22)","v":0},{"$f":"SUMIFS('SO Analysis'!G:G,'SO Analysis'!B:B,'Print Form'!C22,'SO Analysis'!D:D,'Print Form'!E22)","v":0}]
[null,"",null,null,null,{"$f":"SUMIFS('SO Analysis'!E:E,'SO Analysis'!B:B,'Print Form'!C23,'SO Analysis'!D:D,'Print Form'!E23)","v":0},{"$f":"SUMIFS('SO Analysis'!F:F,'SO Analysis'!B:B,'Print Form'!C23,'SO Analysis'!D:D,'Print Form'!E23)","v":0},{"$f":"SUMIFS('SO Analysis'!G:G,'SO Analysis'!B:B,'Print Form'!C23,'SO Analysis'!D:D,'Print Form'!E23)","v":0}]
[null,"",null,null,null,{"$f":"SUMIFS('SO Analysis'!E:E,'SO Analysis'!B:B,'Print Form'!C24,'SO Analysis'!D:D,'Print Form'!E24)","v":0},{"$f":"SUMIFS('SO Analysis'!F:F,'SO Analysis'!B:B,'Print Form'!C24,'SO Analysis'!D:D,'Print Form'!E24)","v":0},{"$f":"SUMIFS('SO Analysis'!G:G,'SO Analysis'!B:B,'Print Form'!C24,'SO Analysis'!D:D,'Print Form'!E24)","v":0}]
[null,"",null,null,null,{"$f":"SUMIFS('SO Analysis'!E:E,'SO Analysis'!B:B,'Print Form'!C25,'SO Analysis'!D:D,'Print Form'!E25)","v":0},{"$f":"SUMIFS('SO Analysis'!F:F,'SO Analysis'!B:B,'Print Form'!C25,'SO Analysis'!D:D,'Print Form'!E25)","v":0},{"$f":"SUMIFS('SO Analysis'!G:G,'SO Analysis'!B:B,'Print Form'!C25,'SO Analysis'!D:D,'Print Form'!E25)","v":0}]
[null,"",null,null,null,{"$f":"SUMIFS('SO Analysis'!E:E,'SO Analysis'!B:B,'Print Form'!C26,'SO Analysis'!D:D,'Print Form'!E26)","v":0},{"$f":"SUMIFS('SO Analysis'!F:F,'SO Analysis'!B:B,'Print Form'!C26,'SO Analysis'!D:D,'Print Form'!E26)","v":0},{"$f":"SUMIFS('SO Analysis'!G:G,'SO Analysis'!B:B,'Print Form'!C26,'SO Analysis'!D:D,'Print Form'!E26)","v":0}]
[null,"",null,null,null,{"$f":"SUMIFS('SO Analysis'!E:E,'SO Analysis'!B:B,'Print Form'!C27,'SO Analysis'!D:D,'Print Form'!E27)","v":0},{"$f":"SUMIFS('SO Analysis'!F:F,'SO Analysis'!B:B,'Print Form'!C27,'SO Analysis'!D:D,'Print Form'!E27)","v":0},{"$f":"SUMIFS('SO Analysis'!G:G,'SO Analysis'!B:B,'Print Form'!C27,'SO Analysis'!D:D,'Print Form'!E27)","v":0}]
[null,"",null,null,null,{"$f":"SUMIFS('SO Analysis'!E:E,'SO Analysis'!B:B,'Print Form'!C28,'SO Analysis'!D:D,'Print Form'!E28)","v":0},{"$f":"SUMIFS('SO Analysis'!F:F,'SO Analysis'!B:B,'Print Form'!C28,'SO Analysis'!D:D,'Print Form'!E28)","v":0},{"$f":"SUMIFS('SO Analysis'!G:G,'SO Analysis'!B:B,'Print Form'!C28,'SO Analysis'!D:D,'Print Form'!E28)","v":0}]
[null,"",null,null,null,{"$f":"SUMIFS('SO Analysis'!E:E,'SO Analysis'!B:B,'Print Form'!C29,'SO Analysis'!D:D,'Print Form'!E29)","v":0},{"$f":"SUMIFS('SO Analysis'!F:F,'SO Analysis'!B:B,'Print Form'!C29,'SO Analysis'!D:D,'Print Form'!E29)","v":0},{"$f":"SUMIFS('SO Analysis'!G:G,'SO Analysis'!B:B,'Print Form'!C29,'SO Analysis'!D:D,'Print Form'!E29)","v":0}]
[null,"",null,null,null,{"$f":"SUMIFS('SO Analysis'!E:E,'SO Analysis'!B:B,'Print Form'!C30,'SO Analysis'!D:D,'Print Form'!E30)","v":0},{"$f":"SUMIFS('SO Analysis'!F:F,'SO Analysis'!B:B,'Print Form'!C30,'SO Analysis'!D:D,'Print Form'!E30)","v":0},{"$f":"SUMIFS('SO Analysis'!G:G,'SO Analysis'!B:B,'Print Form'!C30,'SO Analysis'!D:D,'Print Form'!E30)","v":0}]
[null,"",null,null,null,{"$f":"SUMIFS('SO Analysis'!E:E,'SO Analysis'!B:B,'Print Form'!C31,'SO Analysis'!D:D,'Print Form'!E31)","v":0},{"$f":"SUMIFS('SO Analysis'!F:F,'SO Analysis'!B:B,'Print Form'!C31,'SO Analysis'!D:D,'Print Form'!E31)","v":0},{"$f":"SUMIFS('SO Analysis'!G:G,'SO Analysis'!B:B,'Print Form'!C31,'SO Analysis'!D:D,'Print Form'!E31)","v":0}]
[null,"",null,null,null,{"$f":"SUMIFS('SO Analysis'!E:E,'SO Analysis'!B:B,'Print Form'!C32,'SO Analysis'!D:D,'Print Form'!E32)","v":0},{"$f":"SUMIFS('SO Analysis'!F:F,'SO Analysis'!B:B,'Print Form'!C32,'SO Analysis'!D:D,'Print Form'!E32)","v":0},{"$f":"SUMIFS('SO Analysis'!G:G,'SO Analysis'!B:B,'Print Form'!C32,'SO Analysis'!D:D,'Print Form'!E32)","v":0}]
[null,"",null,null,null,{"$f":"SUMIFS('SO Analysis'!E:E,'SO Analysis'!B:B,'Print Form'!C33,'SO Analysis'!D:D,'Print Form'!E33)","v":0},{"$f":"SUMIFS('SO Analysis'!F:F,'SO Analysis'!B:B,'Print Form'!C33,'SO Analysis'!D:D,'Print Form'!E33)","v":0},{"$f":"SUMIFS('SO Analysis'!G:G,'SO Analysis'!B:B,'Print Form'!C33,'SO Analysis'!D:D,'Print Form'!E33)","v":0}]
[null,"",null,null,null,{"$f":"SUMIFS('SO Analysis'!E:E,'SO Analysis'!B:B,'Print Form'!C34,'SO Analysis'!D:D,'Print Form'!E34)","v":0},{"$f":"SUMIFS('SO Analysis'!F:F,'SO Analysis'!B:B,'Print Form'!C34,'SO Analysis'!D:D,'Print Form'!E34)","v":0},{"$f":"SUMIFS('SO Analysis'!G:G,'SO Analysis'!B:B,'Print Form'!C34,'SO Analysis'!D:D,'Print Form'!E34)","v":0}]
[null,"",null,null,null,{"$f":"SUMIFS('SO Analysis'!E:E,'SO Analysis'!B:B,'Print Form'!C35,'SO Analysis'!D:D,'Print Form'!E35)","v":0},{"$f":"SUMIFS('SO Analysis'!F:F,'SO Analysis'!B:B,'Print Form'!C35,'SO Analysis'!D:D,'Print Form'!E35)","v":0},{"$f":"SUMIFS('SO Analysis'!G:G,'SO Analysis'!B:B,'Print Form'!C35,'SO Analysis'!D:D,'Print Form'!E35)","v":0}]
[null,"",null,null,null,{"$f":"SUMIFS('SO Analysis'!E:E,'SO Analysis'!B:B,'Print Form'!C36,'SO Analysis'!D:D,'Print Form'!E36)","v":0},{"$f":"SUMIFS('SO Analysis'!F:F,'SO Analysis'!B:B,'Print Form'!C36,'SO Analysis'!D:D,'Print Form'!E36)","v":0},{"$f":"SUMIFS('SO Analysis'!G:G,'SO Analysis'!B:B,'Print Form'!C36,'SO Analysis'!D:D,'Print Form'!E36)","v":0}]
[null,"",null,null,null,{"$f":"SUMIFS('SO Analysis'!E:E,'SO Analysis'!B:B,'Print Form'!C37,'SO Analysis'!D:D,'Print Form'!E37)","v":0},{"$f":"SUMIFS('SO Analysis'!F:F,'SO Analysis'!B:B,'Print Form'!C37,'SO Analysis'!D:D,'Print Form'!E37)","v":0},{"$f":"SUMIFS('SO Analysis'!G:G,'SO Analysis'!B:B,'Print Form'!C37,'SO Analysis'!D:D,'Print Form'!E37)","v":0}]
[null,"",null,null,null,{"$f":"SUMIFS('SO Analysis'!E:E,'SO Analysis'!B:B,'Print Form'!C38,'SO Analysis'!D:D,'Print Form'!E38)","v":0},{"$f":"SUMIFS('SO Analysis'!F:F,'SO Analysis'!B:B,'Print Form'!C38,'SO Analysis'!D:D,'Print Form'!E38)","v":0},{"$f":"SUMIFS('SO Analysis'!G:G,'SO Analysis'!B:B,'Print Form'!C38,'SO Analysis'!D:D,'Print Form'!E38)","v":0}]
[null,"",null,null,null,{"$f":"SUMIFS('SO Analysis'!E:E,'SO Analysis'!B:B,'Print Form'!C39,'SO Analysis'!D:D,'Print Form'!E39)","v":0},{"$f":"SUMIFS('SO Analysis'!F:F,'SO Analysis'!B:B,'Print Form'!C39,'SO Analysis'!D:D,'Print Form'!E39)","v":0},{"$f":"SUMIFS('SO Analysis'!G:G,'SO Analysis'!B:B,'Print Form'!C39,'SO Analysis'!D:D,'Print Form'!E39)","v":0}]
[null,"",null,null,null,{"$f":"SUMIFS('SO Analysis'!E:E,'SO Analysis'!B:B,'Print Form'!C40,'SO Analysis'!D:D,'Print Form'!E40)","v":0},{"$f":"SUMIFS('SO Analysis'!F:F,'SO Analysis'!B:B,'Print Form'!C40,'SO Analysis'!D:D,'Print Form'!E40)","v":0},{"$f":"SUMIFS('SO Analysis'!G:G,'SO Analysis'!B:B,'Print Form'!C40,'SO Analysis'!D:D,'Print Form'!E40)","v":0}]
[null,"",null,null,null,{"$f":"SUMIFS('SO Analysis'!E:E,'SO Analysis'!B:B,'Print Form'!C41,'SO Analysis'!D:D,'Print Form'!E41)","v":0},{"$f":"SUMIFS('SO Analysis'!F:F,'SO Analysis'!B:B,'Print Form'!C41,'SO Analysis'!D:D,'Print Form'!E41)","v":0},{"$f":"SUMIFS('SO Analysis'!G:G,'SO Analysis'!B:B,'Print Form'!C41,'SO Analysis'!D:D,'Print Form'!E41)","v":0}]
[null,"",null,null,null,{"$f":"SUMIFS('SO Analysis'!E:E,'SO Analysis'!B:B,'Print Form'!C42,'SO Analysis'!D:D,'Print Form'!E42)","v":0},{"$f":"SUMIFS('SO Analysis'!F:F,'SO Analysis'!B:B,'Print Form'!C42,'SO Analysis'!D:D,'Print Form'!E42)","v":0},{"$f":"SUMIFS('SO Analysis'!G:G,'SO Analysis'!B:B,'Print Form'!C42,'SO Analysis'!D:D,'Print Form'!E42)","v":0}]
[null,"",null,null,null,{"$f":"SUMIFS('SO Analysis'!E:E,'SO Analysis'!B:B,'Print Form'!C43,'SO Analysis'!D:D,'Print Form'!E43)","v":0},{"$f":"SUMIFS('SO Analysis'!F:F,'SO Analysis'!B:B,'Print Form'!C43,'SO Analysis'!D:D,'Print Form'!E43)","v":0},{"$f":"SUMIFS('SO Analysis'!G:G,'SO Analysis'!B:B,'Print Form'!C43,'SO Analysis'!D:D,'Print Form'!E43)","v":0}]
[null,"",null,null,null,{"$f":"SUMIFS('SO Analysis'!E:E,'SO Analysis'!B:B,'Print Form'!C44,'SO Analysis'!D:D,'Print Form'!E44)","v":0},{"$f":"SUMIFS('SO Analysis'!F:F,'SO Analysis'!B:B,'Print Form'!C44,'SO Analysis'!D:D,'Print Form'!E44)","v":0},{"$f":"SUMIFS('SO Analysis'!G:G,'SO Analysis'!B:B,'Print Form'!C44,'SO Analysis'!D:D,'Print Form'!E44)","v":0}]
[null,"",null,null,null,{"$f":"SUMIFS('SO Analysis'!E:E,'SO Analysis'!B:B,'Print Form'!C45,'SO Analysis'!D:D,'Print Form'!E45)","v":0},{"$f":"SUMIFS('SO Analysis'!F:F,'SO Analysis'!B:B,'Print Form'!C45,'SO Analysis'!D:D,'Print Form'!E45)","v":0},{"$f":"SUMIFS('SO Analysis'!G:G,'SO Analysis'!B:B,'Print Form'!C45,'SO Analysis'!D:D,'Print Form'!E45)","v":0}]
[null,"",null,null,null,{"$f":"SUMIFS('SO Analysis'!E:E,'SO Analysis'!B:B,'Print Form'!C46,'SO Analysis'!D:D,'Print Form'!E46)","v":0},{"$f":"SUMIFS('SO Analysis'!F:F,'SO Analysis'!B:B,'Print Form'!C46,'SO Analysis'!D:D,'Print Form'!E46)","v":0},{"$f":"SUMIFS('SO Analysis'!G:G,'SO Analysis'!B:B,'Print Form'!C46,'SO Analysis'!D:D,'Print Form'!E46)","v":0}]
[null,"",null,null,null,{"$f":"SUMIFS('SO Analysis'!E:E,'SO Analysis'!B:B,'Print Form'!C47,'SO Analysis'!D:D,'Print Form'!E47)","v":0},{"$f":"SUMIFS('SO Analysis'!F:F,'SO Analysis'!B:B,'Print Form'!C47,'SO Analysis'!D:D,'Print Form'!E47)","v":0},{"$f":"SUMIFS('SO Analysis'!G:G,'SO Analysis'!B:B,'Print Form'!C47,'SO Analysis'!D:D,'Print Form'!E47)","v":0}]
[null,"",null,null,null,{"$f":"SUMIFS('SO Analysis'!E:E,'SO Analysis'!B:B,'Print Form'!C48,'SO Analysis'!D:D,'Print Form'!E48)","v":0},{"$f":"SUMIFS('SO Analysis'!F:F,'SO Analysis'!B:B,'Print Form'!C48,'SO Analysis'!D:D,'Print Form'!E48)","v":0},{"$f":"SUMIFS('SO Analysis'!G:G,'SO Analysis'!B:B,'Print Form'!C48,'SO Analysis'!D:D,'Print Form'!E48)","v":0}]
[null,"",null,null,null,{"$f":"SUMIFS('SO Analysis'!E:E,'SO Analysis'!B:B,'Print Form'!C49,'SO Analysis'!D:D,'Print Form'!E49)","v":0},{"$f":"SUMIFS('SO Analysis'!F:F,'SO Analysis'!B:B,'Print Form'!C49,'SO Analysis'!D:D,'Print Form'!E49)","v":0},{"$f":"SUMIFS('SO Analysis'!G:G,'SO Analysis'!B:B,'Print Form'!C49,'SO Analysis'!D:D,'Print Form'!E49)","v":0}]
[null,"",null,null,null,{"$f":"SUMIFS('SO Analysis'!E:E,'SO Analysis'!B:B,'Print Form'!C50,'SO Analysis'!D:D,'Print Form'!E50)","v":0},{"$f":"SUMIFS('SO Analysis'!F:F,'SO Analysis'!B:B,'Print Form'!C50,'SO Analysis'!D:D,'Print Form'!E50)","v":0},{"$f":"SUMIFS('SO Analysis'!G:G,'SO Analysis'!B:B,'Print Form'!C50,'SO Analysis'!D:D,'Print Form'!E50)","v":0}]
[null,"",null,null,null,{"$f":"SUMIFS('SO Analysis'!E:E,'SO Analysis'!B:B,'Print Form'!C51,'SO Analysis'!D:D,'Print Form'!E51)","v":0},{"$f":"SUMIFS('SO Analysis'!F:F,'SO Analysis'!B:B,'Print Form'!C51,'SO Analysis'!D:D,'Print Form'!E51)","v":0},{"$f":"SUMIFS('SO Analysis'!G:G,'SO Analysis'!B:B,'Print Form'!C51,'SO Analysis'!D:D,'Print Form'!E51)","v":0}]
[null,"",null,null,null,{"$f":"SUMIFS('SO Analysis'!E:E,'SO Analysis'!B:B,'Print Form'!C52,'SO Analysis'!D:D,'Print Form'!E52)","v":0},{"$f":"SUMIFS('SO Analysis'!F:F,'SO Analysis'!B:B,'Print Form'!C52,'SO Analysis'!D:D,'Print Form'!E52)","v":0},{"$f":"SUMIFS('SO Analysis'!G:G,'SO Analysis'!B:B,'Print Form'!C52,'SO Analysis'!D:D,'Print Form'!E52)","v":0}]
[null,"",null,null,null,{"$f":"SUMIFS('SO Analysis'!E:E,'SO Analysis'!B:B,'Print Form'!C53,'SO Analysis'!D:D,'Print Form'!E53)","v":0},{"$f":"SUMIFS('SO Analysis'!F:F,'SO Analysis'!B:B,'Print Form'!C53,'SO Analysis'!D:D,'Print Form'!E53)","v":0},{"$f":"SUMIFS('SO Analysis'!G:G,'SO Analysis'!B:B,'Print Form'!C53,'SO Analysis'!D:D,'Print Form'!E53)","v":0}]
[null,"",null,null,null,{"$f":"SUMIFS('SO Analysis'!E:E,'SO Analysis'!B:B,'Print Form'!C54,'SO Analysis'!D:D,'Print Form'!E54)","v":0},{"$f":"SUMIFS('SO Analysis'!F:F,'SO Analysis'!B:B,'Print Form'!C54,'SO Analysis'!D:D,'Print Form'!E54)","v":0},{"$f":"SUMIFS('SO Analysis'!G:G,'SO Analysis'!B:B,'Print Form'!C54,'SO Analysis'!D:D,'Print Form'!E54)","v":0}]
[null,"",null,null,null,{"$f":"SUMIFS('SO Analysis'!E:E,'SO Analysis'!B:B,'Print Form'!C55,'SO Analysis'!D:D,'Print Form'!E55)","v":0},{"$f":"SUMIFS('SO Analysis'!F:F,'SO Analysis'!B:B,'Print Form'!C55,'SO Analysis'!D:D,'Print Form'!E55)","v":0},{"$f":"SUMIFS('SO Analysis'!G:G,'SO Analysis'!B:B,'Print Form'!C55,'SO Analysis'!D:D,'Print Form'!E55)","v":0}]
[null,"",null,null,null,{"$f":"SUMIFS('SO Analysis'!E:E,'SO Analysis'!B:B,'Print Form'!C56,'SO Analysis'!D:D,'Print Form'!E56)","v":0},{"$f":"SUMIFS('SO Analysis'!F:F,'SO Analysis'!B:B,'Print Form'!C56,'SO Analysis'!D:D,'Print Form'!E56)","v":0},{"$f":"SUMIFS('SO Analysis'!G:G,'SO Analysis'!B:B,'Print Form'!C56,'SO Analysis'!D:D,'Print Form'!E56)","v":0}]
[null,"",null,null,null,{"$f":"SUMIFS('SO Analysis'!E:E,'SO Analysis'!B:B,'Print Form'!C57,'SO Analysis'!D:D,'Print Form'!E57)","v":0},{"$f":"SUMIFS('SO Analysis'!F:F,'SO Analysis'!B:B,'Print Form'!C57,'SO Analysis'!D:D,'Print Form'!E57)","v":0},{"$f":"SUMIFS('SO Analysis'!G:G,'SO Analysis'!B:B,'Print Form'!C57,'SO Analysis'!D:D,'Print Form'!E57)","v":0}]
[null,"",null,null,null,{"$f":"SUMIFS('SO Analysis'!E:E,'SO Analysis'!B:B,'Print Form'!C58,'SO Analysis'!D:D,'Print Form'!E58)","v":0},{"$f":"SUMIFS('SO Analysis'!F:F,'SO Analysis'!B:B,'Print Form'!C58,'SO Analysis'!D:D,'Print Form'!E58)","v":0},{"$f":"SUMIFS('SO Analysis'!G:G,'SO Analysis'!B:B,'Print Form'!C58,'SO Analysis'!D:D,'Print Form'!E58)","v":0}]
[null,"",null,null,null,{"$f":"SUMIFS('SO Analysis'!E:E,'SO Analysis'!B:B,'Print Form'!C59,'SO Analysis'!D:D,'Print Form'!E59)","v":0},{"$f":"SUMIFS('SO Analysis'!F:F,'SO Analysis'!B:B,'Print Form'!C59,'SO Analysis'!D:D,'Print Form'!E59)","v":0},{"$f":"SUMIFS('SO Analysis'!G:G,'SO Analysis'!B:B,'Print Form'!C59,'SO Analysis'!D:D,'Print Form'!E59)","v":0}]
[null,"",null,null,null,{"$f":"SUMIFS('SO Analysis'!E:E,'SO Analysis'!B:B,'Print Form'!C60,'SO Analysis'!D:D,'Print Form'!E60)","v":0},{"$f":"SUMIFS('SO Analysis'!F:F,'SO Analysis'!B:B,'Print Form'!C60,'SO Analysis'!D:D,'Print Form'!E60)","v":0},{"$f":"SUMIFS('SO Analysis'!G:G,'SO Analysis'!B:B,'Print Form'!C60,'SO Analysis'!D:D,'Print Form'!E60)","v":0}]
[null,"",null,null,null,{"$f":"SUMIFS('SO Analysis'!E:E,'SO Analysis'!B:B,'Print Form'!C61,'SO Analysis'!D:D,'Print Form'!E61)","v":0},{"$f":"SUMIFS('SO Analysis'!F:F,'SO Analysis'!B:B,'Print Form'!C61,'SO Analysis'!D:D,'Print Form'!E61)","v":0},{"$f":"SUMIFS('SO Analysis'!G:G,'SO Analysis'!B:B,'Print Form'!C61,'SO Analysis'!D:D,'Print Form'!E61)","v":0}]
[null,"",null,null,null,{"$f":"SUMIFS('SO Analysis'!E:E,'SO Analysis'!B:B,'Print Form'!C62,'SO Analysis'!D:D,'Print Form'!E62)","v":0},{"$f":"SUMIFS('SO Analysis'!F:F,'SO Analysis'!B:B,'Print Form'!C62,'SO Analysis'!D:D,'Print Form'!E62)","v":0},{"$f":"SUMIFS('SO Analysis'!G:G,'SO Analysis'!B:B,'Print Form'!C62,'SO Analysis'!D:D,'Print Form'!E62)","v":0}]
[null,"",null,null,null,{"$f":"SUMIFS('SO Analysis'!E:E,'SO Analysis'!B:B,'Print Form'!C63,'SO Analysis'!D:D,'Print Form'!E63)","v":0},{"$f":"SUMIFS('SO Analysis'!F:F,'SO Analysis'!B:B,'Print Form'!C63,'SO Analysis'!D:D,'Print Form'!E63)","v":0},{"$f":"SUMIFS('SO Analysis'!G:G,'SO Analysis'!B:B,'Print Form'!C63,'SO Analysis'!D:D,'Print Form'!E63)","v":0}]
[null,"",null,null,null,{"$f":"SUMIFS('SO Analysis'!E:E,'SO Analysis'!B:B,'Print Form'!C64,'SO Analysis'!D:D,'Print Form'!E64)","v":0},{"$f":"SUMIFS('SO Analysis'!F:F,'SO Analysis'!B:B,'Print Form'!C64,'SO Analysis'!D:D,'Print Form'!E64)","v":0},{"$f":"SUMIFS('SO Analysis'!G:G,'SO Analysis'!B:B,'Print Form'!C64,'SO Analysis'!D:D,'Print Form'!E64)","v":0}]
[null,"",null,null,null,{"$f":"SUMIFS('SO Analysis'!E:E,'SO Analysis'!B:B,'Print Form'!C65,'SO Analysis'!D:D,'Print Form'!E65)","v":0},{"$f":"SUMIFS('SO Analysis'!F:F,'SO Analysis'!B:B,'Print Form'!C65,'SO Analysis'!D:D,'Print Form'!E65)","v":0},{"$f":"SUMIFS('SO Analysis'!G:G,'SO Analysis'!B:B,'Print Form'!C65,'SO Analysis'!D:D,'Print Form'!E65)","v":0}]
[null,"",null,null,null,{"$f":"SUMIFS('SO Analysis'!E:E,'SO Analysis'!B:B,'Print Form'!C66,'SO Analysis'!D:D,'Print Form'!E66)","v":0},{"$f":"SUMIFS('SO Analysis'!F:F,'SO Analysis'!B:B,'Print Form'!C66,'SO Analysis'!D:D,'Print Form'!E66)","v":0},{"$f":"SUMIFS('SO Analysis'!G:G,'SO Analysis'!B:B,'Print Form'!C66,'SO Analysis'!D:D,'Print Form'!E66)","v":0}]
[null,"",null,null,null,{"$f":"SUMIFS('SO Analysis'!E:E,'SO Analysis'!B:B,'Print Form'!C67,'SO Analysis'!D:D,'Print Form'!E67)","v":0},{"$f":"SUMIFS('SO Analysis'!F:F,'SO Analysis'!B:B,'Print Form'!C67,'SO Analysis'!D:D,'Print Form'!E67)","v":0},{"$f":"SUMIFS('SO Analysis'!G:G,'SO Analysis'!B:B,'Print Form'!C67,'SO Analysis'!D:D,'Print Form'!E67)","v":0}]
[null,"",null,null,null,{"$f":"SUMIFS('SO Analysis'!E:E,'SO Analysis'!B:B,'Print Form'!C68,'SO Analysis'!D:D,'Print Form'!E68)","v":0},{"$f":"SUMIFS('SO Analysis'!F:F,'SO Analysis'!B:B,'Print Form'!C68,'SO Analysis'!D:D,'Print Form'!E68)","v":0},{"$f":"SUMIFS('SO Analysis'!G:G,'SO Analysis'!B:B,'Print Form'!C68,'SO Analysis'!D:D,'Print Form'!E68)","v":0}]
[null,"",null,null,null,{"$f":"SUMIFS('SO Analysis'!E:E,'SO Analysis'!B:B,'Print Form'!C69,'SO Analysis'!D:D,'Print Form'!E69)","v":0},{"$f":"SUMIFS('SO Analysis'!F:F,'SO Analysis'!B:B,'Print Form'!C69,'SO Analysis'!D:D,'Print Form'!E69)","v":0},{"$f":"SUMIFS('SO Analysis'!G:G,'SO Analysis'!B:B,'Print Form'!C69,'SO Analysis'!D:D,'Print Form'!E69)","v":0}]
[null,"",null,null,null,{"$f":"SUMIFS('SO Analysis'!E:E,'SO Analysis'!B:B,'Print Form'!C70,'SO Analysis'!D:D,'Print Form'!E70)","v":0},{"$f":"SUMIFS('SO Analysis'!F:F,'SO Analysis'!B:B,'Print Form'!C70,'SO Analysis'!D:D,'Print Form'!E70)","v":0},{"$f":"SUMIFS('SO Analysis'!G:G,'SO Analysis'!B:B,'Print Form'!C70,'SO Analysis'!D:D,'Print Form'!E70)","v":0}]
[null,"",null,null,null,{"$f":"SUMIFS('SO Analysis'!E:E,'SO Analysis'!B:B,'Print Form'!C71,'SO Analysis'!D:D,'Print Form'!E71)","v":0},{"$f":"SUMIFS('SO Analysis'!F:F,'SO Analysis'!B:B,'Print Form'!C71,'SO Analysis'!D:D,'Print Form'!E71)","v":0},{"$f":"SUMIFS('SO Analysis'!G:G,'SO Analysis'!B:B,'Print Form'!C71,'SO Analysis'!D:D,'Print Form'!E71)","v":0}]
[null,"",null,null,null,{"$f":"SUMIFS('SO Analysis'!E:E,'SO Analysis'!B:B,'Print Form'!C72,'SO Analysis'!D:D,'Print Form'!E72)","v":0},{"$f":"SUMIFS('SO Analysis'!F:F,'SO Analysis'!B:B,'Print Form'!C72,'SO Analysis'!D:D,'Print Form'!E72)","v":0},{"$f":"SUMIFS('SO Analysis'!G:G,'SO Analysis'!B:B,'Print Form'!C72,'SO Analysis'!D:D,'Print Form'!E72)","v":0}]
[null,"",null,null,null,{"$f":"SUMIFS('SO Analysis'!E:E,'SO Analysis'!B:B,'Print Form'!C73,'SO Analysis'!D:D,'Print Form'!E73)","v":0},{"$f":"SUMIFS('SO Analysis'!F:F,'SO Analysis'!B:B,'Print Form'!C73,'SO Analysis'!D:D,'Print Form'!E73)","v":0},{"$f":"SUMIFS('SO Analysis'!G:G,'SO Analysis'!B:B,'Print Form'!C73,'SO Analysis'!D:D,'Print Form'!E73)","v":0}]
[null,"",null,null,null,{"$f":"SUMIFS('SO Analysis'!E:E,'SO Analysis'!B:B,'Print Form'!C74,'SO Analysis'!D:D,'Print Form'!E74)","v":0},{"$f":"SUMIFS('SO Analysis'!F:F,'SO Analysis'!B:B,'Print Form'!C74,'SO Analysis'!D:D,'Print Form'!E74)","v":0},{"$f":"SUMIFS('SO Analysis'!G:G,'SO Analysis'!B:B,'Print Form'!C74,'SO Analysis'!D:D,'Print Form'!E74)","v":0}]
[null,"",null,null,null,{"$f":"SUMIFS('SO Analysis'!E:E,'SO Analysis'!B:B,'Print Form'!C75,'SO Analysis'!D:D,'Print Form'!E75)","v":0},{"$f":"SUMIFS('SO Analysis'!F:F,'SO Analysis'!B:B,'Print Form'!C75,'SO Analysis'!D:D,'Print Form'!E75)","v":0},{"$f":"SUMIFS('SO Analysis'!G:G,'SO Analysis'!B:B,'Print Form'!C75,'SO Analysis'!D:D,'Print Form'!E75)","v":0}]
[null,"",null,null,null,{"$f":"SUMIFS('SO Analysis'!E:E,'SO Analysis'!B:B,'Print Form'!C76,'SO Analysis'!D:D,'Print Form'!E76)","v":0},{"$f":"SUMIFS('SO Analysis'!F:F,'SO Analysis'!B:B,'Print Form'!C76,'SO Analysis'!D:D,'Print Form'!E76)","v":0},{"$f":"SUMIFS('SO Analysis'!G:G,'SO Analysis'!B:B,'Print Form'!C76,'SO Analysis'!D:D,'Print Form'!E76)","v":0}]
[null,"",null,null,null,{"$f":"SUMIFS('SO Analysis'!E:E,'SO Analysis'!B:B,'Print Form'!C77,'SO Analysis'!D:D,'Print Form'!E77)","v":0},{"$f":"SUMIFS('SO Analysis'!F:F,'SO Analysis'!B:B,'Print Form'!C77,'SO Analysis'!D:D,'Print Form'!E77)","v":0},{"$f":"SUMIFS('SO Analysis'!G:G,'SO Analysis'!B:B,'Print Form'!C77,'SO Analysis'!D:D,'Print Form'!E77)","v":0}]
[null,{"$f":"IF(C78=\"\",\"\",ROW()-12)","v":""},null,null,null,{"$f":"SUMIFS('SO Analysis'!E:E,'SO Analysis'!B:B,'Print Form'!C78,'SO Analysis'!D:D,'Print Form'!E78)","v":0},{"$f":"SUMIFS('SO Analysis'!F:F,'SO Analysis'!B:B,'Print Form'!C78,'SO Analysis'!D:D,'Print Form'!E78)","v":0},{"$f":"SUMIFS('SO Analysis'!G:G,'SO Analysis'!B:B,'Print Form'!C78,'SO Analysis'!D:D,'Print Form'!E78)","v":0}]
[null,"",null,null,null,{"$f":"SUMIFS('SO Analysis'!E:E,'SO Analysis'!B:B,'Print Form'!C79,'SO Analysis'!D:D,'Print Form'!E79)","v":0},{"$f":"SUMIFS('SO Analysis'!F:F,'SO Analysis'!B:B,'Print Form'!C79,'SO Analysis'!D:D,'Print Form'!E79)","v":0},{"$f":"SUMIFS('SO Analysis'!G:G,'SO Analysis'!B:B,'Print Form'!C79,'SO Analysis'!D:D,'Print Form'!E79)","v":0}]
[null,"",null,null,null,{"$f":"SUMIFS('SO Analysis'!E:E,'SO Analysis'!B:B,'Print Form'!C80,'SO Analysis'!D:D,'Print Form'!E80)","v":0},{"$f":"SUMIFS('SO Analysis'!F:F,'SO Analysis'!B:B,'Print Form'!C80,'SO Analysis'!D:D,'Print Form'!E80)","v":0},{"$f":"SUMIFS('SO Analysis'!G:G,'SO Analysis'!B:B,'Print Form'!C80,'SO Analysis'!D:D,'Print Form'!E80)","v":0}]
[null,"",null,null,null,{"$f":"SUMIFS('SO Analysis'!E:E,'SO Analysis'!B:B,'Print Form'!C81,'SO Analysis'!D:D,'Print Form'!E81)","v":0},{"$f":"SUMIFS('SO Analysis'!F:F,'SO Analysis'!B:B,'Print Form'!C81,'SO Analysis'!D:D,'Print Form'!E81)","v":0},{"$f":"SUMIFS('SO Analysis'!G:G,'SO Analysis'!B:B,'Print Form'!C81,'SO Analysis'!D:D,'Print Form'!E81)","v":0}]
[null,"",null,null,null,{"$f":"SUMIFS('SO Analysis'!E:E,'SO Analysis'!B:B,'Print Form'!C82,'SO Analysis'!D:D,'Print Form'!E82)","v":0},{"$f":"SUMIFS('SO Analysis'!F:F,'SO Analysis'!B:B,'Print Form'!C82,'SO Analysis'!D:D,'Print Form'!E82)","v":0},{"$f":"SUMIFS('SO Analysis'!G:G,'SO Analysis'!B:B,'Print Form'!C82,'SO Analysis'!D:D,'Print Form'!E82)","v":0}]
[null,"",null,null,null,{"$f":"SUMIFS('SO Analysis'!E:E,'SO Analysis'!B:B,'Print Form'!C83,'SO Analysis'!D:D,'Print Form'!E83)","v":0},{"$f":"SUMIFS('SO Analysis'!F:F,'SO Analysis'!B:B,'Print Form'!C83,'SO Analysis'!D:D,'Print Form'!E83)","v":0},{"$f":"SUMIFS('SO Analysis'!G:G,'SO Analysis'!B:B,'Print Form'!C83,'SO Analysis'!D:D,'Print Form'!E83)","v":0}]
[null,"",null,null,null,{"$f":"SUMIFS('SO Analysis'!E:E,'SO Analysis'!B:B,'Print Form'!C84,'SO Analysis'!D:D,'Print Form'!E84)","v":0},{"$f":"SUMIFS('SO Analysis'!F:F,'SO Analysis'!B:B,'Print Form'!C84,'SO Analysis'!D:D,'Print Form'!E84)","v":0},{"$f":"SUMIFS('SO Analysis'!G:G,'SO Analysis'!B:B,'Print Form'!C84,'SO Analysis'!D:D,'Print Form'!E84)","v":0}]
[null,"",null,null,null,{"$f":"SUMIFS('SO Analysis'!E:E,'SO Analysis'!B:B,'Print Form'!C85,'SO Analysis'!D:D,'Print Form'!E85)","v":0},{"$f":"SUMIFS('SO Analysis'!F:F,'SO Analysis'!B:B,'Print Form'!C85,'SO Analysis'!D:D,'Print Form'!E85)","v":0},{"$f":"SUMIFS('SO Analysis'!G:G,'SO Analysis'!B:B,'Print Form'!C85,'SO Analysis'!D:D,'Print Form'!E85)","v":0}]
[null,"",null,null,null,{"$f":"SUMIFS('SO Analysis'!E:E,'SO Analysis'!B:B,'Print Form'!C86,'SO Analysis'!D:D,'Print Form'!E86)","v":0},{"$f":"SUMIFS('SO Analysis'!F:F,'SO Analysis'!B:B,'Print Form'!C86,'SO Analysis'!D:D,'Print Form'!E86)","v":0},{"$f":"SUMIFS('SO Analysis'!G:G,'SO Analysis'!B:B,'Print Form'!C86,'SO Analysis'!D:D,'Print Form'!E86)","v":0}]
[null,"",null,null,null,{"$f":"SUMIFS('SO Analysis'!E:E,'SO Analysis'!B:B,'Print Form'!C87,'SO Analysis'!D:D,'Print Form'!E87)","v":0},{"$f":"SUMIFS('SO Analysis'!F:F,'SO Analysis'!B:B,'Print Form'!C87,'SO Analysis'!D:D,'Print Form'!E87)","v":0},{"$f":"SUMIFS('SO Analysis'!G:G,'SO Analysis'!B:B,'Print Form'!C87,'SO Analysis'!D:D,'Print Form'!E87)","v":0}]
[null,"",null,null,null,{"$f":"SUMIFS('SO Analysis'!E:E,'SO Analysis'!B:B,'Print Form'!C88,'SO Analysis'!D:D,'Print Form'!E88)","v":0},{"$f":"SUMIFS('SO Analysis'!F:F,'SO Analysis'!B:B,'Print Form'!C88,'SO Analysis'!D:D,'Print Form'!E88)","v":0},{"$f":"SUMIFS('SO Analysis'!G:G,'SO Analysis'!B:B,'Print Form'!C88,'SO Analysis'!D:D,'Print Form'!E88)","v":0}]
[null,"",null,null,null,{"$f":"SUMIFS('SO Analysis'!E:E,'SO Analysis'!B:B,'Print Form'!C89,'SO Analysis'!D:D,'Print Form'!E89)","v":0},{"$f":"SUMIFS('SO Analysis'!F:F,'SO Analysis'!B:B,'Print Form'!C89,'SO Analysis'!D:D,'Print Form'!E89)","v":0},{"$f":"SUMIFS('SO Analysis'!G:G,'SO Analysis'!B:B,'Print Form'!C89,'SO Analysis'!D:D,'Print Form'!E89)","v":0}]
[null,"",null,null,null,{"$f":"SUMIFS('SO Analysis'!E:E,'SO Analysis'!B:B,'Print Form'!C90,'SO Analysis'!D:D,'Print Form'!E90)","v":0},{"$f":"SUMIFS('SO Analysis'!F:F,'SO Analysis'!B:B,'Print Form'!C90,'SO Analysis'!D:D,'Print Form'!E90)","v":0},{"$f":"SUMIFS('SO Analysis'!G:G,'SO Analysis'!B:B,'Print Form'!C90,'SO Analysis'!D:D,'Print Form'!E90)","v":0}]
[null,"",null,null,null,{"$f":"SUMIFS('SO Analysis'!E:E,'SO Analysis'!B:B,'Print Form'!C91,'SO Analysis'!D:D,'Print Form'!E91)","v":0},{"$f":"SUMIFS('SO Analysis'!F:F,'SO Analysis'!B:B,'Print Form'!C91,'SO Analysis'!D:D,'Print Form'!E91)","v":0},{"$f":"SUMIFS('SO Analysis'!G:G,'SO Analysis'!B:B,'Print Form'!C91,'SO Analysis'!D:D,'Print Form'!E91)","v":0}]
[null,"",null,null,null,{"$f":"SUMIFS('SO Analysis'!E:E,'SO Analysis'!B:B,'Print Form'!C92,'SO Analysis'!D:D,'Print Form'!E92)","v":0},{"$f":"SUMIFS('SO Analysis'!F:F,'SO Analysis'!B:B,'Print Form'!C92,'SO Analysis'!D:D,'Print Form'!E92)","v":0},{"$f":"SUMIFS('SO Analysis'!G:G,'SO Analysis'!B:B,'Print Form'!C92,'SO Analysis'!D:D,'Print Form'!E92)","v":0}]
[null,"",null,null,null,{"$f":"SUMIFS('SO Analysis'!E:E,'SO Analysis'!B:B,'Print Form'!C93,'SO Analysis'!D:D,'Print Form'!E93)","v":0},{"$f":"SUMIFS('SO Analysis'!F:F,'SO Analysis'!B:B,'Print Form'!C93,'SO Analysis'!D:D,'Print Form'!E93)","v":0},{"$f":"SUMIFS('SO Analysis'!G:G,'SO Analysis'!B:B,'Print Form'!C93,'SO Analysis'!D:D,'Print Form'!E93)","v":0}]
[null,"",null,null,null,{"$f":"SUMIFS('SO Analysis'!E:E,'SO Analysis'!B:B,'Print Form'!C94,'SO Analysis'!D:D,'Print Form'!E94)","v":0},{"$f":"SUMIFS('SO Analysis'!F:F,'SO Analysis'!B:B,'Print Form'!C94,'SO Analysis'!D:D,'Print Form'!E94)","v":0},{"$f":"SUMIFS('SO Analysis'!G:G,'SO Analysis'!B:B,'Print Form'!C94,'SO Analysis'!D:D,'Print Form'!E94)","v":0}]
[null,"",null,null,null,{"$f":"SUMIFS('SO Analysis'!E:E,'SO Analysis'!B:B,'Print Form'!C95,'SO Analysis'!D:D,'Print Form'!E95)","v":0},{"$f":"SUMIFS('SO Analysis'!F:F,'SO Analysis'!B:B,'Print Form'!C95,'SO Analysis'!D:D,'Print Form'!E95)","v":0},{"$f":"SUMIFS('SO Analysis'!G:G,'SO Analysis'!B:B,'Print Form'!C95,'SO Analysis'!D:D,'Print Form'!E95)","v":0}]
[null,"",null,null,null,{"$f":"SUMIFS('SO Analysis'!E:E,'SO Analysis'!B:B,'Print Form'!C96,'SO Analysis'!D:D,'Print Form'!E96)","v":0},{"$f":"SUMIFS('SO Analysis'!F:F,'SO Analysis'!B:B,'Print Form'!C96,'SO Analysis'!D:D,'Print Form'!E96)","v":0},{"$f":"SUMIFS('SO Analysis'!G:G,'SO Analysis'!B:B,'Print Form'!C96,'SO Analysis'!D:D,'Print Form'!E96)","v":0}]
[null,"",null,null,null,{"$f":"SUMIFS('SO Analysis'!E:E,'SO Analysis'!B:B,'Print Form'!C97,'SO Analysis'!D:D,'Print Form'!E97)","v":0},{"$f":"SUMIFS('SO Analysis'!F:F,'SO Analysis'!B:B,'Print Form'!C97,'SO Analysis'!D:D,'Print Form'!E97)","v":0},{"$f":"SUMIFS('SO Analysis'!G:G,'SO Analysis'!B:B,'Print Form'!C97,'SO Analysis'!D:D,'Print Form'!E97)","v":0}]
[null,"",null,null,null,{"$f":"SUMIFS('SO Analysis'!E:E,'SO Analysis'!B:B,'Print Form'!C98,'SO Analysis'!D:D,'Print Form'!E98)","v":0},{"$f":"SUMIFS('SO Analysis'!F:F,'SO Analysis'!B:B,'Print Form'!C98,'SO Analysis'!D:D,'Print Form'!E98)","v":0},{"$f":"SUMIFS('SO Analysis'!G:G,'SO Analysis'!B:B,'Print Form'!C98,'SO Analysis'!D:D,'Print Form'!E98)","v":0}]
[null,"",null,null,null,{"$f":"SUMIFS('SO Analysis'!E:E,'SO Analysis'!B:B,'Print Form'!C99,'SO Analysis'!D:D,'Print Form'!E99)","v":0},{"$f":"SUMIFS('SO Analysis'!F:F,'SO Analysis'!B:B,'Print Form'!C99,'SO Analysis'!D:D,'Print Form'!E99)","v":0},{"$f":"SUMIFS('SO Analysis'!G:G,'SO Analysis'!B:B,'Print Form'!C99,'SO Analysis'!D:D,'Print Form'!E99)","v":0}]
[null,"",null,null,null,{"$f":"SUMIFS('SO Analysis'!E:E,'SO Analysis'!B:B,'Print Form'!C100,'SO Analysis'!D:D,'Print Form'!E100)","v":0},{"$f":"SUMIFS('SO Analysis'!F:F,'SO Analysis'!B:B,'Print Form'!C100,'SO Analysis'!D:D,'Print Form'!E100)","v":0},{"$f":"SUMIFS('SO Analysis'!G:G,'SO Analysis'!B:B,'Print Form'!C100,'SO Analysis'!D:D,'Print Form'!E100)","v":0}]
[null,"",null,null,null,{"$f":"SUMIFS('SO Analysis'!E:E,'SO Analysis'!B:B,'Print Form'!C101,'SO Analysis'!D:D,'Print Form'!E101)","v":0},{"$f":"SUMIFS('SO Analysis'!F:F,'SO Analysis'!B:B,'Print Form'!C101,'SO Analysis'!D:D,'Print Form'!E101)","v":0},{"$f":"SUMIFS('SO Analysis'!G:G,'SO Analysis'!B:B,'Print Form'!C101,'SO Analysis'!D:D,'Print Form'!E101)","v":0}]
[null,"",null,null,null,{"$f":"SUMIFS('SO Analysis'!E:E,'SO Analysis'!B:B,'Print Form'!C102,'SO Analysis'!D:D,'Print Form'!E102)","v":0},{"$f":"SUMIFS('SO Analysis'!F:F,'SO Analysis'!B:B,'Print Form'!C102,'SO Analysis'!D:D,'Print Form'!E102)","v":0},{"$f":"SUMIFS('SO Analysis'!G:G,'SO Analysis'!B:B,'Print Form'!C102,'SO Analysis'!D:D,'Print Form'!E102)","v":0}]
[null,"",null,null,null,{"$f":"SUMIFS('SO Analysis'!E:E,'SO Analysis'!B:B,'Print Form'!C103,'SO Analysis'!D:D,'Print Form'!E103)","v":0},{"$f":"SUMIFS('SO Analysis'!F:F,'SO Analysis'!B:B,'Print Form'!C103,'SO Analysis'!D:D,'Print Form'!E103)","v":0},{"$f":"SUMIFS('SO Analysis'!G:G,'SO Analysis'!B:B,'Print Form'!C103,'SO Analysis'!D:D,'Print Form'!E103)","v":0}]
[null,"",null,null,null,{"$f":"SUMIFS('SO Analysis'!E:E,'SO Analysis'!B:B,'Print Form'!C104,'SO Analysis'!D:D,'Print Form'!E104)","v":0},{"$f":"SUMIFS('SO Analysis'!F:F,'SO Analysis'!B:B,'Print Form'!C104,'SO Analysis'!D:D,'Print Form'!E104)","v":0},{"$f":"SUMIFS('SO Analysis'!G:G,'SO Analysis'!B:B,'Print Form'!C104,'SO Analysis'!D:D,'Print Form'!E104)","v":0}]
[null,"",null,null,null,{"$f":"SUMIFS('SO Analysis'!E:E,'SO Analysis'!B:B,'Print Form'!C105,'SO Analysis'!D:D,'Print Form'!E105)","v":0},{"$f":"SUMIFS('SO Analysis'!F:F,'SO Analysis'!B:B,'Print Form'!C105,'SO Analysis'!D:D,'Print Form'!E105)","v":0},{"$f":"SUMIFS('SO Analysis'!G:G,'SO Analysis'!B:B,'Print Form'!C105,'SO Analysis'!D:D,'Print Form'!E105)","v":0}]
[null,"",null,null,null,{"$f":"SUMIFS('SO Analysis'!E:E,'SO Analysis'!B:B,'Print Form'!C106,'SO Analysis'!D:D,'Print Form'!E106)","v":0},{"$f":"SUMIFS('SO Analysis'!F:F,'SO Analysis'!B:B,'Print Form'!C106,'SO Analysis'!D:D,'Print Form'!E106)","v":0},{"$f":"SUMIFS('SO Analysis'!G:G,'SO Analysis'!B:B,'Print Form'!C106,'SO Analysis'!D:D,'Print Form'!E106)","v":0}]
[null,"",null,null,null,{"$f":"SUMIFS('SO Analysis'!E:E,'SO Analysis'!B:B,'Print Form'!C107,'SO Analysis'!D:D,'Print Form'!E107)","v":0},{"$f":"SUMIFS('SO Analysis'!F:F,'SO Analysis'!B:B,'Print Form'!C107,'SO Analysis'!D:D,'Print Form'!E107)","v":0},{"$f":"SUMIFS('SO Analysis'!G:G,'SO Analysis'!B:B,'Print Form'!C107,'SO Analysis'!D:D,'Print Form'!E107)","v":0}]
[null,"",null,null,null,{"$f":"SUMIFS('SO Analysis'!E:E,'SO Analysis'!B:B,'Print Form'!C108,'SO Analysis'!D:D,'Print Form'!E108)","v":0},{"$f":"SUMIFS('SO Analysis'!F:F,'SO Analysis'!B:B,'Print Form'!C108,'SO Analysis'!D:D,'Print Form'!E108)","v":0},{"$f":"SUMIFS('SO Analysis'!G:G,'SO Analysis'!B:B,'Print Form'!C108,'SO Analysis'!D:D,'Print Form'!E108)","v":0}]
[null,"",null,null,null,{"$f":"SUMIFS('SO Analysis'!E:E,'SO Analysis'!B:B,'Print Form'!C109,'SO Analysis'!D:D,'Print Form'!E109)","v":0},{"$f":"SUMIFS('SO Analysis'!F:F,'SO Analysis'!B:B,'Print Form'!C109,'SO Analysis'!D:D,'Print Form'!E109)","v":0},{"$f":"SUMIFS('SO Analysis'!G:G,'SO Analysis'!B:B,'Print Form'!C109,'SO Analysis'!D:D,'Print Form'!E109)","v":0}]
[null,"",null,null,null,{"$f":"SUMIFS('SO Analysis'!E:E,'SO Analysis'!B:B,'Print Form'!C110,'SO Analysis'!D:D,'Print Form'!E110)","v":0},{"$f":"SUMIFS('SO Analysis'!F:F,'SO Analysis'!B:B,'Print Form'!C110,'SO Analysis'!D:D,'Print Form'!E110)","v":0},{"$f":"SUMIFS('SO Analysis'!G:G,'SO Analysis'!B:B,'Print Form'!C110,'SO Analysis'!D:D,'Print Form'!E110)","v":0}]
[null,"",null,null,null,{"$f":"SUMIFS('SO Analysis'!E:E,'SO Analysis'!B:B,'Print Form'!C111,'SO Analysis'!D:D,'Print Form'!E111)","v":0},{"$f":"SUMIFS('SO Analysis'!F:F,'SO Analysis'!B:B,'Print Form'!C111,'SO Analysis'!D:D,'Print Form'!E111)","v":0},{"$f":"SUMIFS('SO Analysis'!G:G,'SO Analysis'!B:B,'Print Form'!C111,'SO Analysis'!D:D,'Print Form'!E111)","v":0}]
[null,"",null,null,null,{"$f":"SUMIFS('SO Analysis'!E:E,'SO Analysis'!B:B,'Print Form'!C112,'SO Analysis'!D:D,'Print Form'!E112)","v":0},{"$f":"SUMIFS('SO Analysis'!F:F,'SO Analysis'!B:B,'Print Form'!C112,'SO Analysis'!D:D,'Print Form'!E112)","v":0},{"$f":"SUMIFS('SO Analysis'!G:G,'SO Analysis'!B:B,'Print Form'!C112,'SO Analysis'!D:D,'Print Form'!E112)","v":0}]
[null,"",null,null,null,{"$f":"SUMIFS('SO Analysis'!E:E,'SO Analysis'!B:B,'Print Form'!C113,'SO Analysis'!D:D,'Print Form'!E113)","v":0},{"$f":"SUMIFS('SO Analysis'!F:F,'SO Analysis'!B:B,'Print Form'!C113,'SO Analysis'!D:D,'Print Form'!E113)","v":0},{"$f":"SUMIFS('SO Analysis'!G:G,'SO Analysis'!B:B,'Print Form'!C113,'SO Analysis'!D:D,'Print Form'!E113)","v":0}]
[null,"",null,null,null,{"$f":"SUMIFS('SO Analysis'!E:E,'SO Analysis'!B:B,'Print Form'!C114,'SO Analysis'!D:D,'Print Form'!E114)","v":0},{"$f":"SUMIFS('SO Analysis'!F:F,'SO Analysis'!B:B,'Print Form'!C114,'SO Analysis'!D:D,'Print Form'!E114)","v":0},{"$f":"SUMIFS('SO Analysis'!G:G,'SO Analysis'!B:B,'Print Form'!C114,'SO Analysis'!D:D,'Print Form'!E114)","v":0}]
[null,"",null,null,null,{"$f":"SUMIFS('SO Analysis'!E:E,'SO Analysis'!B:B,'Print Form'!C115,'SO Analysis'!D:D,'Print Form'!E115)","v":0},{"$f":"SUMIFS('SO Analysis'!F:F,'SO Analysis'!B:B,'Print Form'!C115,'SO Analysis'!D:D,'Print Form'!E115)","v":0},{"$f":"SUMIFS('SO Analysis'!G:G,'SO Analysis'!B:B,'Print Form'!C115,'SO Analysis'!D:D,'Print Form'!E115)","v":0}]
[null,"",null,null,null,{"$f":"SUMIFS('SO Analysis'!E:E,'SO Analysis'!B:B,'Print Form'!C116,'SO Analysis'!D:D,'Print Form'!E116)","v":0},{"$f":"SUMIFS('SO Analysis'!F:F,'SO Analysis'!B:B,'Print Form'!C116,'SO Analysis'!D:D,'Print Form'!E116)","v":0},{"$f":"SUMIFS('SO Analysis'!G:G,'SO Analysis'!B:B,'Print Form'!C116,'SO Analysis'!D:D,'Print Form'!E116)","v":0}]
[null,"",null,null,null,{"$f":"SUMIFS('SO Analysis'!E:E,'SO Analysis'!B:B,'Print Form'!C117,'SO Analysis'!D:D,'Print Form'!E117)","v":0},{"$f":"SUMIFS('SO Analysis'!F:F,'SO Analysis'!B:B,'Print Form'!C117,'SO Analysis'!D:D,'Print Form'!E117)","v":0},{"$f":"SUMIFS('SO Analysis'!G:G,'SO Analysis'!B:B,'Print Form'!C117,'SO Analysis'!D:D,'Print Form'!E117)","v":0}]
[null,"",null,null,null,{"$f":"SUMIFS('SO Analysis'!E:E,'SO Analysis'!B:B,'Print Form'!C118,'SO Analysis'!D:D,'Print Form'!E118)","v":0},{"$f":"SUMIFS('SO Analysis'!F:F,'SO Analysis'!B:B,'Print Form'!C118,'SO Analysis'!D:D,'Print Form'!E118)","v":0},{"$f":"SUMIFS('SO Analysis'!G:G,'SO Analysis'!B:B,'Print Form'!C118,'SO Analysis'!D:D,'Print Form'!E118)","v":0}]
[null,"",null,null,null,{"$f":"SUMIFS('SO Analysis'!E:E,'SO Analysis'!B:B,'Print Form'!C119,'SO Analysis'!D:D,'Print Form'!E119)","v":0},{"$f":"SUMIFS('SO Analysis'!F:F,'SO Analysis'!B:B,'Print Form'!C119,'SO Analysis'!D:D,'Print Form'!E119)","v":0},{"$f":"SUMIFS('SO Analysis'!G:G,'SO Analysis'!B:B,'Print Form'!C119,'SO Analysis'!D:D,'Print Form'!E119)","v":0}]
[null,"",null,null,null,{"$f":"SUMIFS('SO Analysis'!E:E,'SO Analysis'!B:B,'Print Form'!C120,'SO Analysis'!D:D,'Print Form'!E120)","v":0},{"$f":"SUMIFS('SO Analysis'!F:F,'SO Analysis'!B:B,'Print Form'!C120,'SO Analysis'!D:D,'Print Form'!E120)","v":0},{"$f":"SUMIFS('SO Analysis'!G:G,'SO Analysis'!B:B,'Print Form'!C120,'SO Analysis'!D:D,'Print Form'!E120)","v":0}]
[null,"",null,null,null,{"$f":"SUMIFS('SO Analysis'!E:E,'SO Analysis'!B:B,'Print Form'!C121,'SO Analysis'!D:D,'Print Form'!E121)","v":0},{"$f":"SUMIFS('SO Analysis'!F:F,'SO Analysis'!B:B,'Print Form'!C121,'SO Analysis'!D:D,'Print Form'!E121)","v":0},{"$f":"SUMIFS('SO Analysis'!G:G,'SO Analysis'!B:B,'Print Form'!C121,'SO Analysis'!D:D,'Print Form'!E121)","v":0}]
[null,"",null,null,null,{"$f":"SUMIFS('SO Analysis'!E:E,'SO Analysis'!B:B,'Print Form'!C122,'SO Analysis'!D:D,'Print Form'!E122)","v":0},{"$f":"SUMIFS('SO Analysis'!F:F,'SO Analysis'!B:B,'Print Form'!C122,'SO Analysis'!D:D,'Print Form'!E122)","v":0},{"$f":"SUMIFS('SO Analysis'!G:G,'SO Analysis'!B:B,'Print Form'!C122,'SO Analysis'!D:D,'Print Form'!E122)","v":0}]
[null,"",null,null,null,{"$f":"SUMIFS('SO Analysis'!E:E,'SO Analysis'!B:B,'Print Form'!C123,'SO Analysis'!D:D,'Print Form'!E123)","v":0},{"$f":"SUMIFS('SO Analysis'!F:F,'SO Analysis'!B:B,'Print Form'!C123,'SO Analysis'!D:D,'Print Form'!E123)","v":0},{"$f":"SUMIFS('SO Analysis'!G:G,'SO Analysis'!B:B,'Print Form'!C123,'SO Analysis'!D:D,'Print Form'!E123)","v":0}]
[null,"",null,null,null,{"$f":"SUMIFS('SO Analysis'!E:E,'SO Analysis'!B:B,'Print Form'!C124,'SO Analysis'!D:D,'Print Form'!E124)","v":0},{"$f":"SUMIFS('SO Analysis'!F:F,'SO Analysis'!B:B,'Print Form'!C124,'SO Analysis'!D:D,'Print Form'!E124)","v":0},{"$f":"SUMIFS('SO Analysis'!G:G,'SO Analysis'!B:B,'Print Form'!C124,'SO Analysis'!D:D,'Print Form'!E124)","v":0}]
[null,"",null,null,null,{"$f":"SUMIFS('SO Analysis'!E:E,'SO Analysis'!B:B,'Print Form'!C125,'SO Analysis'!D:D,'Print Form'!E125)","v":0},{"$f":"SUMIFS('SO Analysis'!F:F,'SO Analysis'!B:B,'Print Form'!C125,'SO Analysis'!D:D,'Print Form'!E125)","v":0},{"$f":"SUMIFS('SO Analysis'!G:G,'SO Analysis'!B:B,'Print Form'!C125,'SO Analysis'!D:D,'Print Form'!E125)","v":0}]
[null,"",null,null,null,{"$f":"SUMIFS('SO Analysis'!E:E,'SO Analysis'!B:B,'Print Form'!C126,'SO Analysis'!D:D,'Print Form'!E126)","v":0},{"$f":"SUMIFS('SO Analysis'!F:F,'SO Analysis'!B:B,'Print Form'!C126,'SO Analysis'!D:D,'Print Form'!E126)","v":0},{"$f":"SUMIFS('SO Analysis'!G:G,'SO Analysis'!B:B,'Print Form'!C126,'SO Analysis'!D:D,'Print Form'!E126)","v":0}]
[null,"",null,null,null,{"$f":"SUMIFS('SO Analysis'!E:E,'SO Analysis'!B:B,'Print Form'!C127,'SO Analysis'!D:D,'Print Form'!E127)","v":0},{"$f":"SUMIFS('SO Analysis'!F:F,'SO Analysis'!B:B,'Print Form'!C127,'SO Analysis'!D:D,'Print Form'!E127)","v":0},{"$f":"SUMIFS('SO Analysis'!G:G,'SO Analysis'!B:B,'Print Form'!C127,'SO Analysis'!D:D,'Print Form'!E127)","v":0}]
[null,"",null,null,null,{"$f":"SUMIFS('SO Analysis'!E:E,'SO Analysis'!B:B,'Print Form'!C128,'SO Analysis'!D:D,'Print Form'!E128)","v":0},{"$f":"SUMIFS('SO Analysis'!F:F,'SO Analysis'!B:B,'Print Form'!C128,'SO Analysis'!D:D,'Print Form'!E128)","v":0},{"$f":"SUMIFS('SO Analysis'!G:G,'SO Analysis'!B:B,'Print Form'!C128,'SO Analysis'!D:D,'Print Form'!E128)","v":0}]
[null,"",null,null,null,{"$f":"SUMIFS('SO Analysis'!E:E,'SO Analysis'!B:B,'Print Form'!C129,'SO Analysis'!D:D,'Print Form'!E129)","v":0},{"$f":"SUMIFS('SO Analysis'!F:F,'SO Analysis'!B:B,'Print Form'!C129,'SO Analysis'!D:D,'Print Form'!E129)","v":0},{"$f":"SUMIFS('SO Analysis'!G:G,'SO Analysis'!B:B,'Print Form'!C129,'SO Analysis'!D:D,'Print Form'!E129)","v":0}]
[null,"",null,null,null,{"$f":"SUMIFS('SO Analysis'!E:E,'SO Analysis'!B:B,'Print Form'!C130,'SO Analysis'!D:D,'Print Form'!E130)","v":0},{"$f":"SUMIFS('SO Analysis'!F:F,'SO Analysis'!B:B,'Print Form'!C130,'SO Analysis'!D:D,'Print Form'!E130)","v":0},{"$f":"SUMIFS('SO Analysis'!G:G,'SO Analysis'!B:B,'Print Form'!C130,'SO Analysis'!D:D,'Print Form'!E130)","v":0}]
[null,"",null,null,null,{"$f":"SUMIFS('SO Analysis'!E:E,'SO Analysis'!B:B,'Print Form'!C131,'SO Analysis'!D:D,'Print Form'!E131)","v":0},{"$f":"SUMIFS('SO Analysis'!F:F,'SO Analysis'!B:B,'Print Form'!C131,'SO Analysis'!D:D,'Print Form'!E131)","v":0},{"$f":"SUMIFS('SO Analysis'!G:G,'SO Analysis'!B:B,'Print Form'!C131,'SO Analysis'!D:D,'Print Form'!E131)","v":0}]
[null,"",null,null,null,{"$f":"SUMIFS('SO Analysis'!E:E,'SO Analysis'!B:B,'Print Form'!C132,'SO Analysis'!D:D,'Print Form'!E132)","v":0},{"$f":"SUMIFS('SO Analysis'!F:F,'SO Analysis'!B:B,'Print Form'!C132,'SO Analysis'!D:D,'Print Form'!E132)","v":0},{"$f":"SUMIFS('SO Analysis'!G:G,'SO Analysis'!B:B,'Print Form'!C132,'SO Analysis'!D:D,'Print Form'!E132)","v":0}]
[null,"",null,null,null,{"$f":"SUMIFS('SO Analysis'!E:E,'SO Analysis'!B:B,'Print Form'!C133,'SO Analysis'!D:D,'Print Form'!E133)","v":0},{"$f":"SUMIFS('SO Analysis'!F:F,'SO Analysis'!B:B,'Print Form'!C133,'SO Analysis'!D:D,'Print Form'!E133)","v":0},{"$f":"SUMIFS('SO Analysis'!G:G,'SO Analysis'!B:B,'Print Form'!C133,'SO Analysis'!D:D,'Print Form'!E133)","v":0}]
[null,"",null,null,null,{"$f":"SUMIFS('SO Analysis'!E:E,'SO Analysis'!B:B,'Print Form'!C134,'SO Analysis'!D:D,'Print Form'!E134)","v":0},{"$f":"SUMIFS('SO Analysis'!F:F,'SO Analysis'!B:B,'Print Form'!C134,'SO Analysis'!D:D,'Print Form'!E134)","v":0},{"$f":"SUMIFS('SO Analysis'!G:G,'SO Analysis'!B:B,'Print Form'!C134,'SO Analysis'!D:D,'Print Form'!E134)","v":0}]
[null,"",null,null,null,{"$f":"SUMIFS('SO Analysis'!E:E,'SO Analysis'!B:B,'Print Form'!C135,'SO Analysis'!D:D,'Print Form'!E135)","v":0},{"$f":"SUMIFS('SO Analysis'!F:F,'SO Analysis'!B:B,'Print Form'!C135,'SO Analysis'!D:D,'Print Form'!E135)","v":0},{"$f":"SUMIFS('SO Analysis'!G:G,'SO Analysis'!B:B,'Print Form'!C135,'SO Analysis'!D:D,'Print Form'!E135)","v":0}]
[null,"",null,null,null,{"$f":"SUMIFS('SO Analysis'!E:E,'SO Analysis'!B:B,'Print Form'!C136,'SO Analysis'!D:D,'Print Form'!E136)","v":0},{"$f":"SUMIFS('SO Analysis'!F:F,'SO Analysis'!B:B,'Print Form'!C136,'SO Analysis'!D:D,'Print Form'!E136)","v":0},{"$f":"SUMIFS('SO Analysis'!G:G,'SO Analysis'!B:B,'Print Form'!C136,'SO Analysis'!D:D,'Print Form'!E136)","v":0}]
[null,"",null,null,null,{"$f":"SUMIFS('SO Analysis'!E:E,'SO Analysis'!B:B,'Print Form'!C137,'SO Analysis'!D:D,'Print Form'!E137)","v":0},{"$f":"SUMIFS('SO Analysis'!F:F,'SO Analysis'!B:B,'Print Form'!C137,'SO Analysis'!D:D,'Print Form'!E137)","v":0},{"$f":"SUMIFS('SO Analysis'!G:G,'SO Analysis'!B:B,'Print Form'!C137,'SO Analysis'!D:D,'Print Form'!E137)","v":0}]
[null,"",null,null,null,{"$f":"SUMIFS('SO Analysis'!E:E,'SO Analysis'!B:B,'Print Form'!C138,'SO Analysis'!D:D,'Print Form'!E138)","v":0},{"$f":"SUMIFS('SO Analysis'!F:F,'SO Analysis'!B:B,'Print Form'!C138,'SO Analysis'!D:D,'Print Form'!E138)","v":0},{"$f":"SUMIFS('SO Analysis'!G:G,'SO Analysis'!B:B,'Print Form'!C138,'SO Analysis'!D:D,'Print Form'!E138)","v":0}]
[null,"",null,null,null,{"$f":"SUMIFS('SO Analysis'!E:E,'SO Analysis'!B:B,'Print Form'!C139,'SO Analysis'!D:D,'Print Form'!E139)","v":0},{"$f":"SUMIFS('SO Analysis'!F:F,'SO Analysis'!B:B,'Print Form'!C139,'SO Analysis'!D:D,'Print Form'!E139)","v":0},{"$f":"SUMIFS('SO Analysis'!G:G,'SO Analysis'!B:B,'Print Form'!C139,'SO Analysis'!D:D,'Print Form'!E139)","v":0}]
[null,"",null,null,null,{"$f":"SUMIFS('SO Analysis'!E:E,'SO Analysis'!B:B,'Print Form'!C140,'SO Analysis'!D:D,'Print Form'!E140)","v":0},{"$f":"SUMIFS('SO Analysis'!F:F,'SO Analysis'!B:B,'Print Form'!C140,'SO Analysis'!D:D,'Print Form'!E140)","v":0},{"$f":"SUMIFS('SO Analysis'!G:G,'SO Analysis'!B:B,'Print Form'!C140,'SO Analysis'!D:D,'Print Form'!E140)","v":0}]
[null,"",null,null,null,{"$f":"SUMIFS('SO Analysis'!E:E,'SO Analysis'!B:B,'Print Form'!C141,'SO Analysis'!D:D,'Print Form'!E141)","v":0},{"$f":"SUMIFS('SO Analysis'!F:F,'SO Analysis'!B:B,'Print Form'!C141,'SO Analysis'!D:D,'Print Form'!E141)","v":0},{"$f":"SUMIFS('SO Analysis'!G:G,'SO Analysis'!B:B,'Print Form'!C141,'SO Analysis'!D:D,'Print Form'!E141)","v":0}]
[null,{"$f":"IF(C142=\"\",\"\",ROW()-12)","v":""},null,null,null,{"$f":"SUMIFS('SO Analysis'!E:E,'SO Analysis'!B:B,'Print Form'!C142,'SO Analysis'!D:D,'Print Form'!E142)","v":0},{"$f":"SUMIFS('SO Analysis'!F:F,'SO Analysis'!B:B,'Print Form'!C142,'SO Analysis'!D:D,'Print Form'!E142)","v":0},{"$f":"SUMIFS('SO Analysis'!G:G,'SO Analysis'!B:B,'Print Form'!C142,'SO Analysis'!D:D,'Print Form'!E142)","v":0}]
[null,"",null,null,null,{"$f":"SUMIFS('SO Analysis'!E:E,'SO Analysis'!B:B,'Print Form'!C143,'SO Analysis'!D:D,'Print Form'!E143)","v":0},{"$f":"SUMIFS('SO Analysis'!F:F,'SO Analysis'!B:B,'Print Form'!C143,'SO Analysis'!D:D,'Print Form'!E143)","v":0},{"$f":"SUMIFS('SO Analysis'!G:G,'SO Analysis'!B:B,'Print Form'!C143,'SO Analysis'!D:D,'Print Form'!E143)","v":0}]
[null,"",null,null,null,{"$f":"SUMIFS('SO Analysis'!E:E,'SO Analysis'!B:B,'Print Form'!C144,'SO Analysis'!D:D,'Print Form'!E144)","v":0},{"$f":"SUMIFS('SO Analysis'!F:F,'SO Analysis'!B:B,'Print Form'!C144,'SO Analysis'!D:D,'Print Form'!E144)","v":0},{"$f":"SUMIFS('SO Analysis'!G:G,'SO Analysis'!B:B,'Print Form'!C144,'SO Analysis'!D:D,'Print Form'!E144)","v":0}]
[null,"",null,null,null,{"$f":"SUMIFS('SO Analysis'!E:E,'SO Analysis'!B:B,'Print Form'!C145,'SO Analysis'!D:D,'Print Form'!E145)","v":0},{"$f":"SUMIFS('SO Analysis'!F:F,'SO Analysis'!B:B,'Print Form'!C145,'SO Analysis'!D:D,'Print Form'!E145)","v":0},{"$f":"SUMIFS('SO Analysis'!G:G,'SO Analysis'!B:B,'Print Form'!C145,'SO Analysis'!D:D,'Print Form'!E145)","v":0}]
[null,"",null,null,null,{"$f":"SUMIFS('SO Analysis'!E:E,'SO Analysis'!B:B,'Print Form'!C146,'SO Analysis'!D:D,'Print Form'!E146)","v":0},{"$f":"SUMIFS('SO Analysis'!F:F,'SO Analysis'!B:B,'Print Form'!C146,'SO Analysis'!D:D,'Print Form'!E146)","v":0},{"$f":"SUMIFS('SO Analysis'!G:G,'SO Analysis'!B:B,'Print Form'!C146,'SO Analysis'!D:D,'Print Form'!E146)","v":0}]
[null,"",null,null,null,{"$f":"SUMIFS('SO Analysis'!E:E,'SO Analysis'!B:B,'Print Form'!C147,'SO Analysis'!D:D,'Print Form'!E147)","v":0},{"$f":"SUMIFS('SO Analysis'!F:F,'SO Analysis'!B:B,'Print Form'!C147,'SO Analysis'!D:D,'Print Form'!E147)","v":0},{"$f":"SUMIFS('SO Analysis'!G:G,'SO Analysis'!B:B,'Print Form'!C147,'SO Analysis'!D:D,'Print Form'!E147)","v":0}]
[null,"",null,null,null,{"$f":"SUMIFS('SO Analysis'!E:E,'SO Analysis'!B:B,'Print Form'!C148,'SO Analysis'!D:D,'Print Form'!E148)","v":0},{"$f":"SUMIFS('SO Analysis'!F:F,'SO Analysis'!B:B,'Print Form'!C148,'SO Analysis'!D:D,'Print Form'!E148)","v":0},{"$f":"SUMIFS('SO Analysis'!G:G,'SO Analysis'!B:B,'Print Form'!C148,'SO Analysis'!D:D,'Print Form'!E148)","v":0}]
[null,"",null,null,null,{"$f":"SUMIFS('SO Analysis'!E:E,'SO Analysis'!B:B,'Print Form'!C149,'SO Analysis'!D:D,'Print Form'!E149)","v":0},{"$f":"SUMIFS('SO Analysis'!F:F,'SO Analysis'!B:B,'Print Form'!C149,'SO Analysis'!D:D,'Print Form'!E149)","v":0},{"$f":"SUMIFS('SO Analysis'!G:G,'SO Analysis'!B:B,'Print Form'!C149,'SO Analysis'!D:D,'Print Form'!E149)","v":0}]
[null,"",null,null,null,{"$f":"SUMIFS('SO Analysis'!E:E,'SO Analysis'!B:B,'Print Form'!C150,'SO Analysis'!D:D,'Print Form'!E150)","v":0},{"$f":"SUMIFS('SO Analysis'!F:F,'SO Analysis'!B:B,'Print Form'!C150,'SO Analysis'!D:D,'Print Form'!E150)","v":0},{"$f":"SUMIFS('SO Analysis'!G:G,'SO Analysis'!B:B,'Print Form'!C150,'SO Analysis'!D:D,'Print Form'!E150)","v":0}]
[null,"",null,null,null,{"$f":"SUMIFS('SO Analysis'!E:E,'SO Analysis'!B:B,'Print Form'!C151,'SO Analysis'!D:D,'Print Form'!E151)","v":0},{"$f":"SUMIFS('SO Analysis'!F:F,'SO Analysis'!B:B,'Print Form'!C151,'SO Analysis'!D:D,'Print Form'!E151)","v":0},{"$f":"SUMIFS('SO Analysis'!G:G,'SO Analysis'!B:B,'Print Form'!C151,'SO Analysis'!D:D,'Print Form'!E151)","v":0}]
[null,"",null,null,null,{"$f":"SUMIFS('SO Analysis'!E:E,'SO Analysis'!B:B,'Print Form'!C152,'SO Analysis'!D:D,'Print Form'!E152)","v":0},{"$f":"SUMIFS('SO Analysis'!F:F,'SO Analysis'!B:B,'Print Form'!C152,'SO Analysis'!D:D,'Print Form'!E152)","v":0},{"$f":"SUMIFS('SO Analysis'!G:G,'SO Analysis'!B:B,'Print Form'!C152,'SO Analysis'!D:D,'Print Form'!E152)","v":0}]
[null,"",null,null,null,{"$f":"SUMIFS('SO Analysis'!E:E,'SO Analysis'!B:B,'Print Form'!C153,'SO Analysis'!D:D,'Print Form'!E153)","v":0},{"$f":"SUMIFS('SO Analysis'!F:F,'SO Analysis'!B:B,'Print Form'!C153,'SO Analysis'!D:D,'Print Form'!E153)","v":0},{"$f":"SUMIFS('SO Analysis'!G:G,'SO Analysis'!B:B,'Print Form'!C153,'SO Analysis'!D:D,'Print Form'!E153)","v":0}]
[null,"",null,null,null,{"$f":"SUMIFS('SO Analysis'!E:E,'SO Analysis'!B:B,'Print Form'!C154,'SO Analysis'!D:D,'Print Form'!E154)","v":0},{"$f":"SUMIFS('SO Analysis'!F:F,'SO Analysis'!B:B,'Print Form'!C154,'SO Analysis'!D:D,'Print Form'!E154)","v":0},{"$f":"SUMIFS('SO Analysis'!G:G,'SO Analysis'!B:B,'Print Form'!C154,'SO Analysis'!D:D,'Print Form'!E154)","v":0}]
[null,"",null,null,null,{"$f":"SUMIFS('SO Analysis'!E:E,'SO Analysis'!B:B,'Print Form'!C155,'SO Analysis'!D:D,'Print Form'!E155)","v":0},{"$f":"SUMIFS('SO Analysis'!F:F,'SO Analysis'!B:B,'Print Form'!C155,'SO Analysis'!D:D,'Print Form'!E155)","v":0},{"$f":"SUMIFS('SO Analysis'!G:G,'SO Analysis'!B:B,'Print Form'!C155,'SO Analysis'!D:D,'Print Form'!E155)","v":0}]
[null,"",null,null,null,{"$f":"SUMIFS('SO Analysis'!E:E,'SO Analysis'!B:B,'Print Form'!C156,'SO Analysis'!D:D,'Print Form'!E156)","v":0},{"$f":"SUMIFS('SO Analysis'!F:F,'SO Analysis'!B:B,'Print Form'!C156,'SO Analysis'!D:D,'Print Form'!E156)","v":0},{"$f":"SUMIFS('SO Analysis'!G:G,'SO Analysis'!B:B,'Print Form'!C156,'SO Analysis'!D:D,'Print Form'!E156)","v":0}]
[null,"",null,null,null,{"$f":"SUMIFS('SO Analysis'!E:E,'SO Analysis'!B:B,'Print Form'!C157,'SO Analysis'!D:D,'Print Form'!E157)","v":0},{"$f":"SUMIFS('SO Analysis'!F:F,'SO Analysis'!B:B,'Print Form'!C157,'SO Analysis'!D:D,'Print Form'!E157)","v":0},{"$f":"SUMIFS('SO Analysis'!G:G,'SO Analysis'!B:B,'Print Form'!C157,'SO Analysis'!D:D,'Print Form'!E157)","v":0}]
[null,"",null,null,null,{"$f":"SUMIFS('SO Analysis'!E:E,'SO Analysis'!B:B,'Print Form'!C158,'SO Analysis'!D:D,'Print Form'!E158)","v":0},{"$f":"SUMIFS('SO Analysis'!F:F,'SO Analysis'!B:B,'Print Form'!C158,'SO Analysis'!D:D,'Print Form'!E158)","v":0},{"$f":"SUMIFS('SO Analysis'!G:G,'SO Analysis'!B:B,'Print Form'!C158,'SO Analysis'!D:D,'Print Form'!E158)","v":0}]
[null,"",null,null,null,{"$f":"SUMIFS('SO Analysis'!E:E,'SO Analysis'!B:B,'Print Form'!C159,'SO Analysis'!D:D,'Print Form'!E159)","v":0},{"$f":"SUMIFS('SO Analysis'!F:F,'SO Analysis'!B:B,'Print Form'!C159,'SO Analysis'!D:D,'Print Form'!E159)","v":0},{"$f":"SUMIFS('SO Analysis'!G:G,'SO Analysis'!B:B,'Print Form'!C159,'SO Analysis'!D:D,'Print Form'!E159)","v":0}]
[null,"",null,null,null,{"$f":"SUMIFS('SO Analysis'!E:E,'SO Analysis'!B:B,'Print Form'!C160,'SO Analysis'!D:D,'Print Form'!E160)","v":0},{"$f":"SUMIFS('SO Analysis'!F:F,'SO Analysis'!B:B,'Print Form'!C160,'SO Analysis'!D:D,'Print Form'!E160)","v":0},{"$f":"SUMIFS('SO Analysis'!G:G,'SO Analysis'!B:B,'Print Form'!C160,'SO Analysis'!D:D,'Print Form'!E160)","v":0}]
[null,"",null,null,null,{"$f":"SUMIFS('SO Analysis'!E:E,'SO Analysis'!B:B,'Print Form'!C161,'SO Analysis'!D:D,'Print Form'!E161)","v":0},{"$f":"SUMIFS('SO Analysis'!F:F,'SO Analysis'!B:B,'Print Form'!C161,'SO Analysis'!D:D,'Print Form'!E161)","v":0},{"$f":"SUMIFS('SO Analysis'!G:G,'SO Analysis'!B:B,'Print Form'!C161,'SO Analysis'!D:D,'Print Form'!E161)","v":0}]
[null,"",null,null,null,{"$f":"SUMIFS('SO Analysis'!E:E,'SO Analysis'!B:B,'Print Form'!C162,'SO Analysis'!D:D,'Print Form'!E162)","v":0},{"$f":"SUMIFS('SO Analysis'!F:F,'SO Analysis'!B:B,'Print Form'!C162,'SO Analysis'!D:D,'Print Form'!E162)","v":0},{"$f":"SUMIFS('SO Analysis'!G:G,'SO Analysis'!B:B,'Print Form'!C162,'SO Analysis'!D:D,'Print Form'!E162)","v":0}]
[null,"",null,null,null,{"$f":"SUMIFS('SO Analysis'!E:E,'SO Analysis'!B:B,'Print Form'!C163,'SO Analysis'!D:D,'Print Form'!E163)","v":0},{"$f":"SUMIFS('SO Analysis'!F:F,'SO Analysis'!B:B,'Print Form'!C163,'SO Analysis'!D:D,'Print Form'!E163)","v":0},{"$f":"SUMIFS('SO Analysis'!G:G,'SO Analysis'!B:B,'Print Form'!C163,'SO Analysis'!D:D,'Print Form'!E163)","v":0}]
[null,"",null,null,null,{"$f":"SUMIFS('SO Analysis'!E:E,'SO Analysis'!B:B,'Print Form'!C164,'SO Analysis'!D:D,'Print Form'!E164)","v":0},{"$f":"SUMIFS('SO Analysis'!F:F,'SO Analysis'!B:B,'Print Form'!C164,'SO Analysis'!D:D,'Print Form'!E164)","v":0},{"$f":"SUMIFS('SO Analysis'!G:G,'SO Analysis'!B:B,'Print Form'!C164,'SO Analysis'!D:D,'Print Form'!E164)","v":0}]
[null,"",null,null,null,{"$f":"SUMIFS('SO Analysis'!E:E,'SO Analysis'!B:B,'Print Form'!C165,'SO Analysis'!D:D,'Print Form'!E165)","v":0},{"$f":"SUMIFS('SO Analysis'!F:F,'SO Analysis'!B:B,'Print Form'!C165,'SO Analysis'!D:D,'Print Form'!E165)","v":0},{"$f":"SUMIFS('SO Analysis'!G:G,'SO Analysis'!B:B,'Print Form'!C165,'SO Analysis'!D:D,'Print Form'!E165)","v":0}]
[null,"",null,null,null,{"$f":"SUMIFS('SO Analysis'!E:E,'SO Analysis'!B:B,'Print Form'!C166,'SO Analysis'!D:D,'Print Form'!E166)","v":0},{"$f":"SUMIFS('SO Analysis'!F:F,'SO Analysis'!B:B,'Print Form'!C166,'SO Analysis'!D:D,'Print Form'!E166)","v":0},{"$f":"SUMIFS('SO Analysis'!G:G,'SO Analysis'!B:B,'Print Form'!C166,'SO Analysis'!D:D,'Print Form'!E166)","v":0}]
[null,"",null,null,null,{"$f":"SUMIFS('SO Analysis'!E:E,'SO Analysis'!B:B,'Print Form'!C167,'SO Analysis'!D:D,'Print Form'!E167)","v":0},{"$f":"SUMIFS('SO Analysis'!F:F,'SO Analysis'!B:B,'Print Form'!C167,'SO Analysis'!D:D,'Print Form'!E167)","v":0},{"$f":"SUMIFS('SO Analysis'!G:G,'SO Analysis'!B:B,'Print Form'!C167,'SO Analysis'!D:D,'Print Form'!E167)","v":0}]
[null,"",null,null,null,{"$f":"SUMIFS('SO Analysis'!E:E,'SO Analysis'!B:B,'Print Form'!C168,'SO Analysis'!D:D,'Print Form'!E168)","v":0},{"$f":"SUMIFS('SO Analysis'!F:F,'SO Analysis'!B:B,'Print Form'!C168,'SO Analysis'!D:D,'Print Form'!E168)","v":0},{"$f":"SUMIFS('SO Analysis'!G:G,'SO Analysis'!B:B,'Print Form'!C168,'SO Analysis'!D:D,'Print Form'!E168)","v":0}]
[null,"",null,null,null,{"$f":"SUMIFS('SO Analysis'!E:E,'SO Analysis'!B:B,'Print Form'!C169,'SO Analysis'!D:D,'Print Form'!E169)","v":0},{"$f":"SUMIFS('SO Analysis'!F:F,'SO Analysis'!B:B,'Print Form'!C169,'SO Analysis'!D:D,'Print Form'!E169)","v":0},{"$f":"SUMIFS('SO Analysis'!G:G,'SO Analysis'!B:B,'Print Form'!C169,'SO Analysis'!D:D,'Print Form'!E169)","v":0}]
[null,"",null,null,null,{"$f":"SUMIFS('SO Analysis'!E:E,'SO Analysis'!B:B,'Print Form'!C170,'SO Analysis'!D:D,'Print Form'!E170)","v":0},{"$f":"SUMIFS('SO Analysis'!F:F,'SO Analysis'!B:B,'Print Form'!C170,'SO Analysis'!D:D,'Print Form'!E170)","v":0},{"$f":"SUMIFS('SO Analysis'!G:G,'SO Analysis'!B:B,'Print Form'!C170,'SO Analysis'!D:D,'Print Form'!E170)","v":0}]
[null,"",null,null,null,{"$f":"SUMIFS('SO Analysis'!E:E,'SO Analysis'!B:B,'Print Form'!C171,'SO Analysis'!D:D,'Print Form'!E171)","v":0},{"$f":"SUMIFS('SO Analysis'!F:F,'SO Analysis'!B:B,'Print Form'!C171,'SO Analysis'!D:D,'Print Form'!E171)","v":0},{"$f":"SUMIFS('SO Analysis'!G:G,'SO Analysis'!B:B,'Print Form'!C171,'SO Analysis'!D:D,'Print Form'!E171)","v":0}]
[null,"",null,null,null,{"$f":"SUMIFS('SO Analysis'!E:E,'SO Analysis'!B:B,'Print Form'!C172,'SO Analysis'!D:D,'Print Form'!E172)","v":0},{"$f":"SUMIFS('SO Analysis'!F:F,'SO Analysis'!B:B,'Print Form'!C172,'SO Analysis'!D:D,'Print Form'!E172)","v":0},{"$f":"SUMIFS('SO Analysis'!G:G,'SO Analysis'!B:B,'Print Form'!C172,'SO Analysis'!D:D,'Print Form'!E172)","v":0}]
[null,"",null,null,null,{"$f":"SUMIFS('SO Analysis'!E:E,'SO Analysis'!B:B,'Print Form'!C173,'SO Analysis'!D:D,'Print Form'!E173)","v":0},{"$f":"SUMIFS('SO Analysis'!F:F,'SO Analysis'!B:B,'Print Form'!C173,'SO Analysis'!D:D,'Print Form'!E173)","v":0},{"$f":"SUMIFS('SO Analysis'!G:G,'SO Analysis'!B:B,'Print Form'!C173,'SO Analysis'!D:D,'Print Form'!E173)","v":0}]
[null,"",null,null,null,{"$f":"SUMIFS('SO Analysis'!E:E,'SO Analysis'!B:B,'Print Form'!C174,'SO Analysis'!D:D,'Print Form'!E174)","v":0},{"$f":"SUMIFS('SO Analysis'!F:F,'SO Analysis'!B:B,'Print Form'!C174,'SO Analysis'!D:D,'Print Form'!E174)","v":0},{"$f":"SUMIFS('SO Analysis'!G:G,'SO Analysis'!B:B,'Print Form'!C174,'SO Analysis'!D:D,'Print Form'!E174)","v":0}]
[null,"",null,null,null,{"$f":"SUMIFS('SO Analysis'!E:E,'SO Analysis'!B:B,'Print Form'!C175,'SO Analysis'!D:D,'Print Form'!E175)","v":0},{"$f":"SUMIFS('SO Analysis'!F:F,'SO Analysis'!B:B,'Print Form'!C175,'SO Analysis'!D:D,'Print Form'!E175)","v":0},{"$f":"SUMIFS('SO Analysis'!G:G,'SO Analysis'!B:B,'Print Form'!C175,'SO Analysis'!D:D,'Print Form'!E175)","v":0}]
[null,"",null,null,null,{"$f":"SUMIFS('SO Analysis'!E:E,'SO Analysis'!B:B,'Print Form'!C176,'SO Analysis'!D:D,'Print Form'!E176)","v":0},{"$f":"SUMIFS('SO Analysis'!F:F,'SO Analysis'!B:B,'Print Form'!C176,'SO Analysis'!D:D,'Print Form'!E176)","v":0},{"$f":"SUMIFS('SO Analysis'!G:G,'SO Analysis'!B:B,'Print Form'!C176,'SO Analysis'!D:D,'Print Form'!E176)","v":0}]
[null,"",null,null,null,{"$f":"SUMIFS('SO Analysis'!E:E,'SO Analysis'!B:B,'Print Form'!C177,'SO Analysis'!D:D,'Print Form'!E177)","v":0},{"$f":"SUMIFS('SO Analysis'!F:F,'SO Analysis'!B:B,'Print Form'!C177,'SO Analysis'!D:D,'Print Form'!E177)","v":0},{"$f":"SUMIFS('SO Analysis'!G:G,'SO Analysis'!B:B,'Print Form'!C177,'SO Analysis'!D:D,'Print Form'!E177)","v":0}]
[null,"",null,null,null,{"$f":"SUMIFS('SO Analysis'!E:E,'SO Analysis'!B:B,'Print Form'!C178,'SO Analysis'!D:D,'Print Form'!E178)","v":0},{"$f":"SUMIFS('SO Analysis'!F:F,'SO Analysis'!B:B,'Print Form'!C178,'SO Analysis'!D:D,'Print Form'!E178)","v":0},{"$f":"SUMIFS('SO Analysis'!G:G,'SO Analysis'!B:B,'Print Form'!C178,'SO Analysis'!D:D,'Print Form'!E178)","v":0}]
[null,"",null,null,null,{"$f":"SUMIFS('SO Analysis'!E:E,'SO Analysis'!B:B,'Print Form'!C179,'SO Analysis'!D:D,'Print Form'!E179)","v":0},{"$f":"SUMIFS('SO Analysis'!F:F,'SO Analysis'!B:B,'Print Form'!C179,'SO Analysis'!D:D,'Print Form'!E179)","v":0},{"$f":"SUMIFS('SO Analysis'!G:G,'SO Analysis'!B:B,'Print Form'!C179,'SO Analysis'!D:D,'Print Form'!E179)","v":0}]
[null,"",null,null,null,{"$f":"SUMIFS('SO Analysis'!E:E,'SO Analysis'!B:B,'Print Form'!C180,'SO Analysis'!D:D,'Print Form'!E180)","v":0},{"$f":"SUMIFS('SO Analysis'!F:F,'SO Analysis'!B:B,'Print Form'!C180,'SO Analysis'!D:D,'Print Form'!E180)","v":0},{"$f":"SUMIFS('SO Analysis'!G:G,'SO Analysis'!B:B,'Print Form'!C180,'SO Analysis'!D:D,'Print Form'!E180)","v":0}]
[null,"",null,null,null,{"$f":"SUMIFS('SO Analysis'!E:E,'SO Analysis'!B:B,'Print Form'!C181,'SO Analysis'!D:D,'Print Form'!E181)","v":0},{"$f":"SUMIFS('SO Analysis'!F:F,'SO Analysis'!B:B,'Print Form'!C181,'SO Analysis'!D:D,'Print Form'!E181)","v":0},{"$f":"SUMIFS('SO Analysis'!G:G,'SO Analysis'!B:B,'Print Form'!C181,'SO Analysis'!D:D,'Print Form'!E181)","v":0}]
[null,"",null,null,null,{"$f":"SUMIFS('SO Analysis'!E:E,'SO Analysis'!B:B,'Print Form'!C182,'SO Analysis'!D:D,'Print Form'!E182)","v":0},{"$f":"SUMIFS('SO Analysis'!F:F,'SO Analysis'!B:B,'Print Form'!C182,'SO Analysis'!D:D,'Print Form'!E182)","v":0},{"$f":"SUMIFS('SO Analysis'!G:G,'SO Analysis'!B:B,'Print Form'!C182,'SO Analysis'!D:D,'Print Form'!E182)","v":0}]
[null,"",null,null,null,{"$f":"SUMIFS('SO Analysis'!E:E,'SO Analysis'!B:B,'Print Form'!C183,'SO Analysis'!D:D,'Print Form'!E183)","v":0},{"$f":"SUMIFS('SO Analysis'!F:F,'SO Analysis'!B:B,'Print Form'!C183,'SO Analysis'!D:D,'Print Form'!E183)","v":0},{"$f":"SUMIFS('SO Analysis'!G:G,'SO Analysis'!B:B,'Print Form'!C183,'SO Analysis'!D:D,'Print Form'!E183)","v":0}]
[null,"",null,null,null,{"$f":"SUMIFS('SO Analysis'!E:E,'SO Analysis'!B:B,'Print Form'!C184,'SO Analysis'!D:D,'Print Form'!E184)","v":0},{"$f":"SUMIFS('SO Analysis'!F:F,'SO Analysis'!B:B,'Print Form'!C184,'SO Analysis'!D:D,'Print Form'!E184)","v":0},{"$f":"SUMIFS('SO Analysis'!G:G,'SO Analysis'!B:B,'Print Form'!C184,'SO Analysis'!D:D,'Print Form'!E184)","v":0}]
[null,"",null,null,null,{"$f":"SUMIFS('SO Analysis'!E:E,'SO Analysis'!B:B,'Print Form'!C185,'SO Analysis'!D:D,'Print Form'!E185)","v":0},{"$f":"SUMIFS('SO Analysis'!F:F,'SO Analysis'!B:B,'Print Form'!C185,'SO Analysis'!D:D,'Print Form'!E185)","v":0},{"$f":"SUMIFS('SO Analysis'!G:G,'SO Analysis'!B:B,'Print Form'!C185,'SO Analysis'!D:D,'Print Form'!E185)","v":0}]
[null,"",null,null,null,{"$f":"SUMIFS('SO Analysis'!E:E,'SO Analysis'!B:B,'Print Form'!C186,'SO Analysis'!D:D,'Print Form'!E186)","v":0},{"$f":"SUMIFS('SO Analysis'!F:F,'SO Analysis'!B:B,'Print Form'!C186,'SO Analysis'!D:D,'Print Form'!E186)","v":0},{"$f":"SUMIFS('SO Analysis'!G:G,'SO Analysis'!B:B,'Print Form'!C186,'SO Analysis'!D:D,'Print Form'!E186)","v":0}]
[null,"",null,null,null,{"$f":"SUMIFS('SO Analysis'!E:E,'SO Analysis'!B:B,'Print Form'!C187,'SO Analysis'!D:D,'Print Form'!E187)","v":0},{"$f":"SUMIFS('SO Analysis'!F:F,'SO Analysis'!B:B,'Print Form'!C187,'SO Analysis'!D:D,'Print Form'!E187)","v":0},{"$f":"SUMIFS('SO Analysis'!G:G,'SO Analysis'!B:B,'Print Form'!C187,'SO Analysis'!D:D,'Print Form'!E187)","v":0}]
[null,"",null,null,null,{"$f":"SUMIFS('SO Analysis'!E:E,'SO Analysis'!B:B,'Print Form'!C188,'SO Analysis'!D:D,'Print Form'!E188)","v":0},{"$f":"SUMIFS('SO Analysis'!F:F,'SO Analysis'!B:B,'Print Form'!C188,'SO Analysis'!D:D,'Print Form'!E188)","v":0},{"$f":"SUMIFS('SO Analysis'!G:G,'SO Analysis'!B:B,'Print Form'!C188,'SO Analysis'!D:D,'Print Form'!E188)","v":0}]
[null,"",null,null,null,{"$f":"SUMIFS('SO Analysis'!E:E,'SO Analysis'!B:B,'Print Form'!C189,'SO Analysis'!D:D,'Print Form'!E189)","v":0},{"$f":"SUMIFS('SO Analysis'!F:F,'SO Analysis'!B:B,'Print Form'!C189,'SO Analysis'!D:D,'Print Form'!E189)","v":0},{"$f":"SUMIFS('SO Analysis'!G:G,'SO Analysis'!B:B,'Print Form'!C189,'SO Analysis'!D:D,'Print Form'!E189)","v":0}]
[null,"",null,null,null,{"$f":"SUMIFS('SO Analysis'!E:E,'SO Analysis'!B:B,'Print Form'!C190,'SO Analysis'!D:D,'Print Form'!E190)","v":0},{"$f":"SUMIFS('SO Analysis'!F:F,'SO Analysis'!B:B,'Print Form'!C190,'SO Analysis'!D:D,'Print Form'!E190)","v":0},{"$f":"SUMIFS('SO Analysis'!G:G,'SO Analysis'!B:B,'Print Form'!C190,'SO Analysis'!D:D,'Print Form'!E190)","v":0}]
[null,"",null,null,null,{"$f":"SUMIFS('SO Analysis'!E:E,'SO Analysis'!B:B,'Print Form'!C191,'SO Analysis'!D:D,'Print Form'!E191)","v":0},{"$f":"SUMIFS('SO Analysis'!F:F,'SO Analysis'!B:B,'Print Form'!C191,'SO Analysis'!D:D,'Print Form'!E191)","v":0},{"$f":"SUMIFS('SO Analysis'!G:G,'SO Analysis'!B:B,'Print Form'!C191,'SO Analysis'!D:D,'Print Form'!E191)","v":0}]
[null,"",null,null,null,{"$f":"SUMIFS('SO Analysis'!E:E,'SO Analysis'!B:B,'Print Form'!C192,'SO Analysis'!D:D,'Print Form'!E192)","v":0},{"$f":"SUMIFS('SO Analysis'!F:F,'SO Analysis'!B:B,'Print Form'!C192,'SO Analysis'!D:D,'Print Form'!E192)","v":0},{"$f":"SUMIFS('SO Analysis'!G:G,'SO Analysis'!B:B,'Print Form'!C192,'SO Analysis'!D:D,'Print Form'!E192)","v":0}]
[null,"",null,null,null,{"$f":"SUMIFS('SO Analysis'!E:E,'SO Analysis'!B:B,'Print Form'!C193,'SO Analysis'!D:D,'Print Form'!E193)","v":0},{"$f":"SUMIFS('SO Analysis'!F:F,'SO Analysis'!B:B,'Print Form'!C193,'SO Analysis'!D:D,'Print Form'!E193)","v":0},{"$f":"SUMIFS('SO Analysis'!G:G,'SO Analysis'!B:B,'Print Form'!C193,'SO Analysis'!D:D,'Print Form'!E193)","v":0}]
[null,"",null,null,null,{"$f":"SUMIFS('SO Analysis'!E:E,'SO Analysis'!B:B,'Print Form'!C194,'SO Analysis'!D:D,'Print Form'!E194)","v":0},{"$f":"SUMIFS('SO Analysis'!F:F,'SO Analysis'!B:B,'Print Form'!C194,'SO Analysis'!D:D,'Print Form'!E194)","v":0},{"$f":"SUMIFS('SO Analysis'!G:G,'SO Analysis'!B:B,'Print Form'!C194,'SO Analysis'!D:D,'Print Form'!E194)","v":0}]
[null,"",null,null,null,{"$f":"SUMIFS('SO Analysis'!E:E,'SO Analysis'!B:B,'Print Form'!C195,'SO Analysis'!D:D,'Print Form'!E195)","v":0},{"$f":"SUMIFS('SO Analysis'!F:F,'SO Analysis'!B:B,'Print Form'!C195,'SO Analysis'!D:D,'Print Form'!E195)","v":0},{"$f":"SUMIFS('SO Analysis'!G:G,'SO Analysis'!B:B,'Print Form'!C195,'SO Analysis'!D:D,'Print Form'!E195)","v":0}]
[null,"",null,null,null,{"$f":"SUMIFS('SO Analysis'!E:E,'SO Analysis'!B:B,'Print Form'!C196,'SO Analysis'!D:D,'Print Form'!E196)","v":0},{"$f":"SUMIFS('SO Analysis'!F:F,'SO Analysis'!B:B,'Print Form'!C196,'SO Analysis'!D:D,'Print Form'!E196)","v":0},{"$f":"SUMIFS('SO Analysis'!G:G,'SO Analysis'!B:B,'Print Form'!C196,'SO Analysis'!D:D,'Print Form'!E196)","v":0}]
[null,"",null,null,null,{"$f":"SUMIFS('SO Analysis'!E:E,'SO Analysis'!B:B,'Print Form'!C197,'SO Analysis'!D:D,'Print Form'!E197)","v":0},{"$f":"SUMIFS('SO Analysis'!F:F,'SO Analysis'!B:B,'Print Form'!C197,'SO Analysis'!D:D,'Print Form'!E197)","v":0},{"$f":"SUMIFS('SO Analysis'!G:G,'SO Analysis'!B:B,'Print Form'!C197,'SO Analysis'!D:D,'Print Form'!E197)","v":0}]
[null,"",null,null,null,{"$f":"SUMIFS('SO Analysis'!E:E,'SO Analysis'!B:B,'Print Form'!C198,'SO Analysis'!D:D,'Print Form'!E198)","v":0},{"$f":"SUMIFS('SO Analysis'!F:F,'SO Analysis'!B:B,'Print Form'!C198,'SO Analysis'!D:D,'Print Form'!E198)","v":0},{"$f":"SUMIFS('SO Analysis'!G:G,'SO Analysis'!B:B,'Print Form'!C198,'SO Analysis'!D:D,'Print Form'!E198)","v":0}]
[null,"",null,null,null,{"$f":"SUMIFS('SO Analysis'!E:E,'SO Analysis'!B:B,'Print Form'!C199,'SO Analysis'!D:D,'Print Form'!E199)","v":0},{"$f":"SUMIFS('SO Analysis'!F:F,'SO Analysis'!B:B,'Print Form'!C199,'SO Analysis'!D:D,'Print Form'!E199)","v":0},{"$f":"SUMIFS('SO Analysis'!G:G,'SO Analysis'!B:B,'Print Form'!C199,'SO Analysis'!D:D,'Print Form'!E199)","v":0}]
[null,"",null,null,null,{"$f":"SUMIFS('SO Analysis'!E:E,'SO Analysis'!B:B,'Print Form'!C200,'SO Analysis'!D:D,'Print Form'!E200)","v":0},{"$f":"SUMIFS('SO Analysis'!F:F,'SO Analysis'!B:B,'Print Form'!C200,'SO Analysis'!D:D,'Print Form'!E200)","v":0},{"$f":"SUMIFS('SO Analysis'!G:G,'SO Analysis'!B:B,'Print Form'!C200,'SO Analysis'!D:D,'Print Form'!E200)","v":0}]
[null,"",null,null,null,{"$f":"SUMIFS('SO Analysis'!E:E,'SO Analysis'!B:B,'Print Form'!C201,'SO Analysis'!D:D,'Print Form'!E201)","v":0},{"$f":"SUMIFS('SO Analysis'!F:F,'SO Analysis'!B:B,'Print Form'!C201,'SO Analysis'!D:D,'Print Form'!E201)","v":0},{"$f":"SUMIFS('SO Analysis'!G:G,'SO Analysis'!B:B,'Print Form'!C201,'SO Analysis'!D:D,'Print Form'!E201)","v":0}]
[null,"",null,null,null,{"$f":"SUMIFS('SO Analysis'!E:E,'SO Analysis'!B:B,'Print Form'!C202,'SO Analysis'!D:D,'Print Form'!E202)","v":0},{"$f":"SUMIFS('SO Analysis'!F:F,'SO Analysis'!B:B,'Print Form'!C202,'SO Analysis'!D:D,'Print Form'!E202)","v":0},{"$f":"SUMIFS('SO Analysis'!G:G,'SO Analysis'!B:B,'Print Form'!C202,'SO Analysis'!D:D,'Print Form'!E202)","v":0}]
[null,"",null,null,null,{"$f":"SUMIFS('SO Analysis'!E:E,'SO Analysis'!B:B,'Print Form'!C203,'SO Analysis'!D:D,'Print Form'!E203)","v":0},{"$f":"SUMIFS('SO Analysis'!F:F,'SO Analysis'!B:B,'Print Form'!C203,'SO Analysis'!D:D,'Print Form'!E203)","v":0},{"$f":"SUMIFS('SO Analysis'!G:G,'SO Analysis'!B:B,'Print Form'!C203,'SO Analysis'!D:D,'Print Form'!E203)","v":0}]
[null,"",null,null,null,{"$f":"SUMIFS('SO Analysis'!E:E,'SO Analysis'!B:B,'Print Form'!C204,'SO Analysis'!D:D,'Print Form'!E204)","v":0},{"$f":"SUMIFS('SO Analysis'!F:F,'SO Analysis'!B:B,'Print Form'!C204,'SO Analysis'!D:D,'Print Form'!E204)","v":0},{"$f":"SUMIFS('SO Analysis'!G:G,'SO Analysis'!B:B,'Print Form'!C204,'SO Analysis'!D:D,'Print Form'!E204)","v":0}]
[null,"",null,null,null,{"$f":"SUMIFS('SO Analysis'!E:E,'SO Analysis'!B:B,'Print Form'!C205,'SO Analysis'!D:D,'Print Form'!E205)","v":0},{"$f":"SUMIFS('SO Analysis'!F:F,'SO Analysis'!B:B,'Print Form'!C205,'SO Analysis'!D:D,'Print Form'!E205)","v":0},{"$f":"SUMIFS('SO Analysis'!G:G,'SO Analysis'!B:B,'Print Form'!C205,'SO Analysis'!D:D,'Print Form'!E205)","v":0}]
[null,{"$f":"IF(C206=\"\",\"\",ROW()-12)","v":""},null,null,null,{"$f":"SUMIFS('SO Analysis'!E:E,'SO Analysis'!B:B,'Print Form'!C206,'SO Analysis'!D:D,'Print Form'!E206)","v":0},{"$f":"SUMIFS('SO Analysis'!F:F,'SO Analysis'!B:B,'Print Form'!C206,'SO Analysis'!D:D,'Print Form'!E206)","v":0},{"$f":"SUMIFS('SO Analysis'!G:G,'SO Analysis'!B:B,'Print Form'!C206,'SO Analysis'!D:D,'Print Form'!E206)","v":0}]
[null,"",null,null,null,{"$f":"SUMIFS('SO Analysis'!E:E,'SO Analysis'!B:B,'Print Form'!C207,'SO Analysis'!D:D,'Print Form'!E207)","v":0},{"$f":"SUMIFS('SO Analysis'!F:F,'SO Analysis'!B:B,'Print Form'!C207,'SO Analysis'!D:D,'Print Form'!E207)","v":0},{"$f":"SUMIFS('SO Analysis'!G:G,'SO Analysis'!B:B,'Print Form'!C207,'SO Analysis'!D:D,'Print Form'!E207)","v":0}]
[null,"",null,null,null,{"$f":"SUMIFS('SO Analysis'!E:E,'SO Analysis'!B:B,'Print Form'!C208,'SO Analysis'!D:D,'Print Form'!E208)","v":0},{"$f":"SUMIFS('SO Analysis'!F:F,'SO Analysis'!B:B,'Print Form'!C208,'SO Analysis'!D:D,'Print Form'!E208)","v":0},{"$f":"SUMIFS('SO Analysis'!G:G,'SO Analysis'!B:B,'Print Form'!C208,'SO Analysis'!D:D,'Print Form'!E208)","v":0}]
[null,"",null,null,null,{"$f":"SUMIFS('SO Analysis'!E:E,'SO Analysis'!B:B,'Print Form'!C209,'SO Analysis'!D:D,'Print Form'!E209)","v":0},{"$f":"SUMIFS('SO Analysis'!F:F,'SO Analysis'!B:B,'Print Form'!C209,'SO Analysis'!D:D,'Print Form'!E209)","v":0},{"$f":"SUMIFS('SO Analysis'!G:G,'SO Analysis'!B:B,'Print Form'!C209,'SO Analysis'!D:D,'Print Form'!E209)","v":0}]
[null,"",null,null,null,{"$f":"SUMIFS('SO Analysis'!E:E,'SO Analysis'!B:B,'Print Form'!C210,'SO Analysis'!D:D,'Print Form'!E210)","v":0},{"$f":"SUMIFS('SO Analysis'!F:F,'SO Analysis'!B:B,'Print Form'!C210,'SO Analysis'!D:D,'Print Form'!E210)","v":0},{"$f":"SUMIFS('SO Analysis'!G:G,'SO Analysis'!B:B,'Print Form'!C210,'SO Analysis'!D:D,'Print Form'!E210)","v":0}]
[null,"",null,null,null,{"$f":"SUMIFS('SO Analysis'!E:E,'SO Analysis'!B:B,'Print Form'!C211,'SO Analysis'!D:D,'Print Form'!E211)","v":0},{"$f":"SUMIFS('SO Analysis'!F:F,'SO Analysis'!B:B,'Print Form'!C211,'SO Analysis'!D:D,'Print Form'!E211)","v":0},{"$f":"SUMIFS('SO Analysis'!G:G,'SO Analysis'!B:B,'Print Form'!C211,'SO Analysis'!D:D,'Print Form'!E211)","v":0}]
[null,"",null,null,null,{"$f":"SUMIFS('SO Analysis'!E:E,'SO Analysis'!B:B,'Print Form'!C212,'SO Analysis'!D:D,'Print Form'!E212)","v":0},{"$f":"SUMIFS('SO Analysis'!F:F,'SO Analysis'!B:B,'Print Form'!C212,'SO Analysis'!D:D,'Print Form'!E212)","v":0},{"$f":"SUMIFS('SO Analysis'!G:G,'SO Analysis'!B:B,'Print Form'!C212,'SO Analysis'!D:D,'Print Form'!E212)","v":0}]
[null,"",null,null,null,{"$f":"SUMIFS('SO Analysis'!E:E,'SO Analysis'!B:B,'Print Form'!C213,'SO Analysis'!D:D,'Print Form'!E213)","v":0},{"$f":"SUMIFS('SO Analysis'!F:F,'SO Analysis'!B:B,'Print Form'!C213,'SO Analysis'!D:D,'Print Form'!E213)","v":0},{"$f":"SUMIFS('SO Analysis'!G:G,'SO Analysis'!B:B,'Print Form'!C213,'SO Analysis'!D:D,'Print Form'!E213)","v":0}]
[null,"",null,null,null,{"$f":"SUMIFS('SO Analysis'!E:E,'SO Analysis'!B:B,'Print Form'!C214,'SO Analysis'!D:D,'Print Form'!E214)","v":0},{"$f":"SUMIFS('SO Analysis'!F:F,'SO Analysis'!B:B,'Print Form'!C214,'SO Analysis'!D:D,'Print Form'!E214)","v":0},{"$f":"SUMIFS('SO Analysis'!G:G,'SO Analysis'!B:B,'Print Form'!C214,'SO Analysis'!D:D,'Print Form'!E214)","v":0}]
[null,"",null,null,null,{"$f":"SUMIFS('SO Analysis'!E:E,'SO Analysis'!B:B,'Print Form'!C215,'SO Analysis'!D:D,'Print Form'!E215)","v":0},{"$f":"SUMIFS('SO Analysis'!F:F,'SO Analysis'!B:B,'Print Form'!C215,'SO Analysis'!D:D,'Print Form'!E215)","v":0},{"$f":"SUMIFS('SO Analysis'!G:G,'SO Analysis'!B:B,'Print Form'!C215,'SO Analysis'!D:D,'Print Form'!E215)","v":0}]
[null,"",null,null,null,{"$f":"SUMIFS('SO Analysis'!E:E,'SO Analysis'!B:B,'Print Form'!C216,'SO Analysis'!D:D,'Print Form'!E216)","v":0},{"$f":"SUMIFS('SO Analysis'!F:F,'SO Analysis'!B:B,'Print Form'!C216,'SO Analysis'!D:D,'Print Form'!E216)","v":0},{"$f":"SUMIFS('SO Analysis'!G:G,'SO Analysis'!B:B,'Print Form'!C216,'SO Analysis'!D:D,'Print Form'!E216)","v":0}]
[null,"",null,null,null,{"$f":"SUMIFS('SO Analysis'!E:E,'SO Analysis'!B:B,'Print Form'!C217,'SO Analysis'!D:D,'Print Form'!E217)","v":0},{"$f":"SUMIFS('SO Analysis'!F:F,'SO Analysis'!B:B,'Print Form'!C217,'SO Analysis'!D:D,'Print Form'!E217)","v":0},{"$f":"SUMIFS('SO Analysis'!G:G,'SO Analysis'!B:B,'Print Form'!C217,'SO Analysis'!D:D,'Print Form'!E217)","v":0}]
[null,"",null,null,null,{"$f":"SUMIFS('SO Analysis'!E:E,'SO Analysis'!B:B,'Print Form'!C218,'SO Analysis'!D:D,'Print Form'!E218)","v":0},{"$f":"SUMIFS('SO Analysis'!F:F,'SO Analysis'!B:B,'Print Form'!C218,'SO Analysis'!D:D,'Print Form'!E218)","v":0},{"$f":"SUMIFS('SO Analysis'!G:G,'SO Analysis'!B:B,'Print Form'!C218,'SO Analysis'!D:D,'Print Form'!E218)","v":0}]
[null,"",null,null,null,{"$f":"SUMIFS('SO Analysis'!E:E,'SO Analysis'!B:B,'Print Form'!C219,'SO Analysis'!D:D,'Print Form'!E219)","v":0},{"$f":"SUMIFS('SO Analysis'!F:F,'SO Analysis'!B:B,'Print Form'!C219,'SO Analysis'!D:D,'Print Form'!E219)","v":0},{"$f":"SUMIFS('SO Analysis'!G:G,'SO Analysis'!B:B,'Print Form'!C219,'SO Analysis'!D:D,'Print Form'!E219)","v":0}]
[null,"",null,null,null,{"$f":"SUMIFS('SO Analysis'!E:E,'SO Analysis'!B:B,'Print Form'!C220,'SO Analysis'!D:D,'Print Form'!E220)","v":0},{"$f":"SUMIFS('SO Analysis'!F:F,'SO Analysis'!B:B,'Print Form'!C220,'SO Analysis'!D:D,'Print Form'!E220)","v":0},{"$f":"SUMIFS('SO Analysis'!G:G,'SO Analysis'!B:B,'Print Form'!C220,'SO Analysis'!D:D,'Print Form'!E220)","v":0}]
[null,"",null,null,null,{"$f":"SUMIFS('SO Analysis'!E:E,'SO Analysis'!B:B,'Print Form'!C221,'SO Analysis'!D:D,'Print Form'!E221)","v":0},{"$f":"SUMIFS('SO Analysis'!F:F,'SO Analysis'!B:B,'Print Form'!C221,'SO Analysis'!D:D,'Print Form'!E221)","v":0},{"$f":"SUMIFS('SO Analysis'!G:G,'SO Analysis'!B:B,'Print Form'!C221,'SO Analysis'!D:D,'Print Form'!E221)","v":0}]
[null,"",null,null,null,{"$f":"SUMIFS('SO Analysis'!E:E,'SO Analysis'!B:B,'Print Form'!C222,'SO Analysis'!D:D,'Print Form'!E222)","v":0},{"$f":"SUMIFS('SO Analysis'!F:F,'SO Analysis'!B:B,'Print Form'!C222,'SO Analysis'!D:D,'Print Form'!E222)","v":0},{"$f":"SUMIFS('SO Analysis'!G:G,'SO Analysis'!B:B,'Print Form'!C222,'SO Analysis'!D:D,'Print Form'!E222)","v":0}]
[null,"",null,null,null,{"$f":"SUMIFS('SO Analysis'!E:E,'SO Analysis'!B:B,'Print Form'!C223,'SO Analysis'!D:D,'Print Form'!E223)","v":0},{"$f":"SUMIFS('SO Analysis'!F:F,'SO Analysis'!B:B,'Print Form'!C223,'SO Analysis'!D:D,'Print Form'!E223)","v":0},{"$f":"SUMIFS('SO Analysis'!G:G,'SO Analysis'!B:B,'Print Form'!C223,'SO Analysis'!D:D,'Print Form'!E223)","v":0}]
[null,"",null,null,null,{"$f":"SUMIFS('SO Analysis'!E:E,'SO Analysis'!B:B,'Print Form'!C224,'SO Analysis'!D:D,'Print Form'!E224)","v":0},{"$f":"SUMIFS('SO Analysis'!F:F,'SO Analysis'!B:B,'Print Form'!C224,'SO Analysis'!D:D,'Print Form'!E224)","v":0},{"$f":"SUMIFS('SO Analysis'!G:G,'SO Analysis'!B:B,'Print Form'!C224,'SO Analysis'!D:D,'Print Form'!E224)","v":0}]
[null,"",null,null,null,{"$f":"SUMIFS('SO Analysis'!E:E,'SO Analysis'!B:B,'Print Form'!C225,'SO Analysis'!D:D,'Print Form'!E225)","v":0},{"$f":"SUMIFS('SO Analysis'!F:F,'SO Analysis'!B:B,'Print Form'!C225,'SO Analysis'!D:D,'Print Form'!E225)","v":0},{"$f":"SUMIFS('SO Analysis'!G:G,'SO Analysis'!B:B,'Print Form'!C225,'SO Analysis'!D:D,'Print Form'!E225)","v":0}]
[null,"",null,null,null,{"$f":"SUMIFS('SO Analysis'!E:E,'SO Analysis'!B:B,'Print Form'!C226,'SO Analysis'!D:D,'Print Form'!E226)","v":0},{"$f":"SUMIFS('SO Analysis'!F:F,'SO Analysis'!B:B,'Print Form'!C226,'SO Analysis'!D:D,'Print Form'!E226)","v":0},{"$f":"SUMIFS('SO Analysis'!G:G,'SO Analysis'!B:B,'Print Form'!C226,'SO Analysis'!D:D,'Print Form'!E226)","v":0}]
[null,"",null,null,null,{"$f":"SUMIFS('SO Analysis'!E:E,'SO Analysis'!B:B,'Print Form'!C227,'SO Analysis'!D:D,'Print Form'!E227)","v":0},{"$f":"SUMIFS('SO Analysis'!F:F,'SO Analysis'!B:B,'Print Form'!C227,'SO Analysis'!D:D,'Print Form'!E227)","v":0},{"$f":"SUMIFS('SO Analysis'!G:G,'SO Analysis'!B:B,'Print Form'!C227,'SO Analysis'!D:D,'Print Form'!E227)","v":0}]
[null,"",null,null,null,{"$f":"SUMIFS('SO Analysis'!E:E,'SO Analysis'!B:B,'Print Form'!C228,'SO Analysis'!D:D,'Print Form'!E228)","v":0},{"$f":"SUMIFS('SO Analysis'!F:F,'SO Analysis'!B:B,'Print Form'!C228,'SO Analysis'!D:D,'Print Form'!E228)","v":0},{"$f":"SUMIFS('SO Analysis'!G:G,'SO Analysis'!B:B,'Print Form'!C228,'SO Analysis'!D:D,'Print Form'!E228)","v":0}]
[null,"",null,null,null,{"$f":"SUMIFS('SO Analysis'!E:E,'SO Analysis'!B:B,'Print Form'!C229,'SO Analysis'!D:D,'Print Form'!E229)","v":0},{"$f":"SUMIFS('SO Analysis'!F:F,'SO Analysis'!B:B,'Print Form'!C229,'SO Analysis'!D:D,'Print Form'!E229)","v":0},{"$f":"SUMIFS('SO Analysis'!G:G,'SO Analysis'!B:B,'Print Form'!C229,'SO Analysis'!D:D,'Print Form'!E229)","v":0}]
[null,"",null,null,null,{"$f":"SUMIFS('SO Analysis'!E:E,'SO Analysis'!B:B,'Print Form'!C230,'SO Analysis'!D:D,'Print Form'!E230)","v":0},{"$f":"SUMIFS('SO Analysis'!F:F,'SO Analysis'!B:B,'Print Form'!C230,'SO Analysis'!D:D,'Print Form'!E230)","v":0},{"$f":"SUMIFS('SO Analysis'!G:G,'SO Analysis'!B:B,'Print Form'!C230,'SO Analysis'!D:D,'Print Form'!E230)","v":0}]
[null,"",null,null,null,{"$f":"SUMIFS('SO Analysis'!E:E,'SO Analysis'!B:B,'Print Form'!C231,'SO Analysis'!D:D,'Print Form'!E231)","v":0},{"$f":"SUMIFS('SO Analysis'!F:F,'SO Analysis'!B:B,'Print Form'!C231,'SO Analysis'!D:D,'Print Form'!E231)","v":0},{"$f":"SUMIFS('SO Analysis'!G:G,'SO Analysis'!B:B,'Print Form'!C231,'SO Analysis'!D:D,'Print Form'!E231)","v":0}]
[null,"",null,null,null,{"$f":"SUMIFS('SO Analysis'!E:E,'SO Analysis'!B:B,'Print Form'!C232,'SO Analysis'!D:D,'Print Form'!E232)","v":0},{"$f":"SUMIFS('SO Analysis'!F:F,'SO Analysis'!B:B,'Print Form'!C232,'SO Analysis'!D:D,'Print Form'!E232)","v":0},{"$f":"SUMIFS('SO Analysis'!G:G,'SO Analysis'!B:B,'Print Form'!C232,'SO Analysis'!D:D,'Print Form'!E232)","v":0}]
[null,"",null,null,null,{"$f":"SUMIFS('SO Analysis'!E:E,'SO Analysis'!B:B,'Print Form'!C233,'SO Analysis'!D:D,'Print Form'!E233)","v":0},{"$f":"SUMIFS('SO Analysis'!F:F,'SO Analysis'!B:B,'Print Form'!C233,'SO Analysis'!D:D,'Print Form'!E233)","v":0},{"$f":"SUMIFS('SO Analysis'!G:G,'SO Analysis'!B:B,'Print Form'!C233,'SO Analysis'!D:D,'Print Form'!E233)","v":0}]
[null,"",null,null,null,{"$f":"SUMIFS('SO Analysis'!E:E,'SO Analysis'!B:B,'Print Form'!C234,'SO Analysis'!D:D,'Print Form'!E234)","v":0},{"$f":"SUMIFS('SO Analysis'!F:F,'SO Analysis'!B:B,'Print Form'!C234,'SO Analysis'!D:D,'Print Form'!E234)","v":0},{"$f":"SUMIFS('SO Analysis'!G:G,'SO Analysis'!B:B,'Print Form'!C234,'SO Analysis'!D:D,'Print Form'!E234)","v":0}]
[null,"",null,null,null,{"$f":"SUMIFS('SO Analysis'!E:E,'SO Analysis'!B:B,'Print Form'!C235,'SO Analysis'!D:D,'Print Form'!E235)","v":0},{"$f":"SUMIFS('SO Analysis'!F:F,'SO Analysis'!B:B,'Print Form'!C235,'SO Analysis'!D:D,'Print Form'!E235)","v":0},{"$f":"SUMIFS('SO Analysis'!G:G,'SO Analysis'!B:B,'Print Form'!C235,'SO Analysis'!D:D,'Print Form'!E235)","v":0}]
[null,"",null,null,null,{"$f":"SUMIFS('SO Analysis'!E:E,'SO Analysis'!B:B,'Print Form'!C236,'SO Analysis'!D:D,'Print Form'!E236)","v":0},{"$f":"SUMIFS('SO Analysis'!F:F,'SO Analysis'!B:B,'Print Form'!C236,'SO Analysis'!D:D,'Print Form'!E236)","v":0},{"$f":"SUMIFS('SO Analysis'!G:G,'SO Analysis'!B:B,'Print Form'!C236,'SO Analysis'!D:D,'Print Form'!E236)","v":0}]
[null,"",null,null,null,{"$f":"SUMIFS('SO Analysis'!E:E,'SO Analysis'!B:B,'Print Form'!C237,'SO Analysis'!D:D,'Print Form'!E237)","v":0},{"$f":"SUMIFS('SO Analysis'!F:F,'SO Analysis'!B:B,'Print Form'!C237,'SO Analysis'!D:D,'Print Form'!E237)","v":0},{"$f":"SUMIFS('SO Analysis'!G:G,'SO Analysis'!B:B,'Print Form'!C237,'SO Analysis'!D:D,'Print Form'!E237)","v":0}]
[null,"",null,null,null,{"$f":"SUMIFS('SO Analysis'!E:E,'SO Analysis'!B:B,'Print Form'!C238,'SO Analysis'!D:D,'Print Form'!E238)","v":0},{"$f":"SUMIFS('SO Analysis'!F:F,'SO Analysis'!B:B,'Print Form'!C238,'SO Analysis'!D:D,'Print Form'!E238)","v":0},{"$f":"SUMIFS('SO Analysis'!G:G,'SO Analysis'!B:B,'Print Form'!C238,'SO Analysis'!D:D,'Print Form'!E238)","v":0}]
[null,"",null,null,null,{"$f":"SUMIFS('SO Analysis'!E:E,'SO Analysis'!B:B,'Print Form'!C239,'SO Analysis'!D:D,'Print Form'!E239)","v":0},{"$f":"SUMIFS('SO Analysis'!F:F,'SO Analysis'!B:B,'Print Form'!C239,'SO Analysis'!D:D,'Print Form'!E239)","v":0},{"$f":"SUMIFS('SO Analysis'!G:G,'SO Analysis'!B:B,'Print Form'!C239,'SO Analysis'!D:D,'Print Form'!E239)","v":0}]
[null,"",null,null,null,{"$f":"SUMIFS('SO Analysis'!E:E,'SO Analysis'!B:B,'Print Form'!C240,'SO Analysis'!D:D,'Print Form'!E240)","v":0},{"$f":"SUMIFS('SO Analysis'!F:F,'SO Analysis'!B:B,'Print Form'!C240,'SO Analysis'!D:D,'Print Form'!E240)","v":0},{"$f":"SUMIFS('SO Analysis'!G:G,'SO Analysis'!B:B,'Print Form'!C240,'SO Analysis'!D:D,'Print Form'!E240)","v":0}]
[null,"",null,null,null,{"$f":"SUMIFS('SO Analysis'!E:E,'SO Analysis'!B:B,'Print Form'!C241,'SO Analysis'!D:D,'Print Form'!E241)","v":0},{"$f":"SUMIFS('SO Analysis'!F:F,'SO Analysis'!B:B,'Print Form'!C241,'SO Analysis'!D:D,'Print Form'!E241)","v":0},{"$f":"SUMIFS('SO Analysis'!G:G,'SO Analysis'!B:B,'Print Form'!C241,'SO Analysis'!D:D,'Print Form'!E241)","v":0}]
[null,"",null,null,null,{"$f":"SUMIFS('SO Analysis'!E:E,'SO Analysis'!B:B,'Print Form'!C242,'SO Analysis'!D:D,'Print Form'!E242)","v":0},{"$f":"SUMIFS('SO Analysis'!F:F,'SO Analysis'!B:B,'Print Form'!C242,'SO Analysis'!D:D,'Print Form'!E242)","v":0},{"$f":"SUMIFS('SO Analysis'!G:G,'SO Analysis'!B:B,'Print Form'!C242,'SO Analysis'!D:D,'Print Form'!E242)","v":0}]
[null,"",null,null,null,{"$f":"SUMIFS('SO Analysis'!E:E,'SO Analysis'!B:B,'Print Form'!C243,'SO Analysis'!D:D,'Print Form'!E243)","v":0},{"$f":"SUMIFS('SO Analysis'!F:F,'SO Analysis'!B:B,'Print Form'!C243,'SO Analysis'!D:D,'Print Form'!E243)","v":0},{"$f":"SUMIFS('SO Analysis'!G:G,'SO Analysis'!B:B,'Print Form'!C243,'SO Analysis'!D:D,'Print Form'!E243)","v":0}]
[null,"",null,null,null,{"$f":"SUMIFS('SO Analysis'!E:E,'SO Analysis'!B:B,'Print Form'!C244,'SO Analysis'!D:D,'Print Form'!E244)","v":0},{"$f":"SUMIFS('SO Analysis'!F:F,'SO Analysis'!B:B,'Print Form'!C244,'SO Analysis'!D:D,'Print Form'!E244)","v":0},{"$f":"SUMIFS('SO Analysis'!G:G,'SO Analysis'!B:B,'Print Form'!C244,'SO Analysis'!D:D,'Print Form'!E244)","v":0}]
[null,"",null,null,null,{"$f":"SUMIFS('SO Analysis'!E:E,'SO Analysis'!B:B,'Print Form'!C245,'SO Analysis'!D:D,'Print Form'!E245)","v":0},{"$f":"SUMIFS('SO Analysis'!F:F,'SO Analysis'!B:B,'Print Form'!C245,'SO Analysis'!D:D,'Print Form'!E245)","v":0},{"$f":"SUMIFS('SO Analysis'!G:G,'SO Analysis'!B:B,'Print Form'!C245,'SO Analysis'!D:D,'Print Form'!E245)","v":0}]
[null,"",null,null,null,{"$f":"SUMIFS('SO Analysis'!E:E,'SO Analysis'!B:B,'Print Form'!C246,'SO Analysis'!D:D,'Print Form'!E246)","v":0},{"$f":"SUMIFS('SO Analysis'!F:F,'SO Analysis'!B:B,'Print Form'!C246,'SO Analysis'!D:D,'Print Form'!E246)","v":0},{"$f":"SUMIFS('SO Analysis'!G:G,'SO Analysis'!B:B,'Print Form'!C246,'SO Analysis'!D:D,'Print Form'!E246)","v":0}]
[null,"",null,null,null,{"$f":"SUMIFS('SO Analysis'!E:E,'SO Analysis'!B:B,'Print Form'!C247,'SO Analysis'!D:D,'Print Form'!E247)","v":0},{"$f":"SUMIFS('SO Analysis'!F:F,'SO Analysis'!B:B,'Print Form'!C247,'SO Analysis'!D:D,'Print Form'!E247)","v":0},{"$f":"SUMIFS('SO Analysis'!G:G,'SO Analysis'!B:B,'Print Form'!C247,'SO Analysis'!D:D,'Print Form'!E247)","v":0}]
[null,"",null,null,null,{"$f":"SUMIFS('SO Analysis'!E:E,'SO Analysis'!B:B,'Print Form'!C248,'SO Analysis'!D:D,'Print Form'!E248)","v":0},{"$f":"SUMIFS('SO Analysis'!F:F,'SO Analysis'!B:B,'Print Form'!C248,'SO Analysis'!D:D,'Print Form'!E248)","v":0},{"$f":"SUMIFS('SO Analysis'!G:G,'SO Analysis'!B:B,'Print Form'!C248,'SO Analysis'!D:D,'Print Form'!E248)","v":0}]
[null,"",null,null,null,{"$f":"SUMIFS('SO Analysis'!E:E,'SO Analysis'!B:B,'Print Form'!C249,'SO Analysis'!D:D,'Print Form'!E249)","v":0},{"$f":"SUMIFS('SO Analysis'!F:F,'SO Analysis'!B:B,'Print Form'!C249,'SO Analysis'!D:D,'Print Form'!E249)","v":0},{"$f":"SUMIFS('SO Analysis'!G:G,'SO Analysis'!B:B,'Print Form'!C249,'SO Analysis'!D:D,'Print Form'!E249)","v":0}]
[null,"",null,null,null,{"$f":"SUMIFS('SO Analysis'!E:E,'SO Analysis'!B:B,'Print Form'!C250,'SO Analysis'!D:D,'Print Form'!E250)","v":0},{"$f":"SUMIFS('SO Analysis'!F:F,'SO Analysis'!B:B,'Print Form'!C250,'SO Analysis'!D:D,'Print Form'!E250)","v":0},{"$f":"SUMIFS('SO Analysis'!G:G,'SO Analysis'!B:B,'Print Form'!C250,'SO Analysis'!D:D,'Print Form'!E250)","v":0}]
[null,"",null,null,null,{"$f":"SUMIFS('SO Analysis'!E:E,'SO Analysis'!B:B,'Print Form'!C251,'SO Analysis'!D:D,'Print Form'!E251)","v":0},{"$f":"SUMIFS('SO Analysis'!F:F,'SO Analysis'!B:B,'Print Form'!C251,'SO Analysis'!D:D,'Print Form'!E251)","v":0},{"$f":"SUMIFS('SO Analysis'!G:G,'SO Analysis'!B:B,'Print Form'!C251,'SO Analysis'!D:D,'Print Form'!E251)","v":0}]
[null,"",null,null,null,{"$f":"SUMIFS('SO Analysis'!E:E,'SO Analysis'!B:B,'Print Form'!C252,'SO Analysis'!D:D,'Print Form'!E252)","v":0},{"$f":"SUMIFS('SO Analysis'!F:F,'SO Analysis'!B:B,'Print Form'!C252,'SO Analysis'!D:D,'Print Form'!E252)","v":0},{"$f":"SUMIFS('SO Analysis'!G:G,'SO Analysis'!B:B,'Print Form'!C252,'SO Analysis'!D:D,'Print Form'!E252)","v":0}]
[null,"",null,null,null,{"$f":"SUMIFS('SO Analysis'!E:E,'SO Analysis'!B:B,'Print Form'!C253,'SO Analysis'!D:D,'Print Form'!E253)","v":0},{"$f":"SUMIFS('SO Analysis'!F:F,'SO Analysis'!B:B,'Print Form'!C253,'SO Analysis'!D:D,'Print Form'!E253)","v":0},{"$f":"SUMIFS('SO Analysis'!G:G,'SO Analysis'!B:B,'Print Form'!C253,'SO Analysis'!D:D,'Print Form'!E253)","v":0}]
[null,"",null,null,null,{"$f":"SUMIFS('SO Analysis'!E:E,'SO Analysis'!B:B,'Print Form'!C254,'SO Analysis'!D:D,'Print Form'!E254)","v":0},{"$f":"SUMIFS('SO Analysis'!F:F,'SO Analysis'!B:B,'Print Form'!C254,'SO Analysis'!D:D,'Print Form'!E254)","v":0},{"$f":"SUMIFS('SO Analysis'!G:G,'SO Analysis'!B:B,'Print Form'!C254,'SO Analysis'!D:D,'Print Form'!E254)","v":0}]
[null,"",null,null,null,{"$f":"SUMIFS('SO Analysis'!E:E,'SO Analysis'!B:B,'Print Form'!C255,'SO Analysis'!D:D,'Print Form'!E255)","v":0},{"$f":"SUMIFS('SO Analysis'!F:F,'SO Analysis'!B:B,'Print Form'!C255,'SO Analysis'!D:D,'Print Form'!E255)","v":0},{"$f":"SUMIFS('SO Analysis'!G:G,'SO Analysis'!B:B,'Print Form'!C255,'SO Analysis'!D:D,'Print Form'!E255)","v":0}]
[null,"",null,null,null,{"$f":"SUMIFS('SO Analysis'!E:E,'SO Analysis'!B:B,'Print Form'!C256,'SO Analysis'!D:D,'Print Form'!E256)","v":0},{"$f":"SUMIFS('SO Analysis'!F:F,'SO Analysis'!B:B,'Print Form'!C256,'SO Analysis'!D:D,'Print Form'!E256)","v":0},{"$f":"SUMIFS('SO Analysis'!G:G,'SO Analysis'!B:B,'Print Form'!C256,'SO Analysis'!D:D,'Print Form'!E256)","v":0}]
[null,"",null,null,null,{"$f":"SUMIFS('SO Analysis'!E:E,'SO Analysis'!B:B,'Print Form'!C257,'SO Analysis'!D:D,'Print Form'!E257)","v":0},{"$f":"SUMIFS('SO Analysis'!F:F,'SO Analysis'!B:B,'Print Form'!C257,'SO Analysis'!D:D,'Print Form'!E257)","v":0},{"$f":"SUMIFS('SO Analysis'!G:G,'SO Analysis'!B:B,'Print Form'!C257,'SO Analysis'!D:D,'Print Form'!E257)","v":0}]
[null,"",null,null,null,{"$f":"SUMIFS('SO Analysis'!E:E,'SO Analysis'!B:B,'Print Form'!C258,'SO Analysis'!D:D,'Print Form'!E258)","v":0},{"$f":"SUMIFS('SO Analysis'!F:F,'SO Analysis'!B:B,'Print Form'!C258,'SO Analysis'!D:D,'Print Form'!E258)","v":0},{"$f":"SUMIFS('SO Analysis'!G:G,'SO Analysis'!B:B,'Print Form'!C258,'SO Analysis'!D:D,'Print Form'!E258)","v":0}]
[null,"",null,null,null,{"$f":"SUMIFS('SO Analysis'!E:E,'SO Analysis'!B:B,'Print Form'!C259,'SO Analysis'!D:D,'Print Form'!E259)","v":0},{"$f":"SUMIFS('SO Analysis'!F:F,'SO Analysis'!B:B,'Print Form'!C259,'SO Analysis'!D:D,'Print Form'!E259)","v":0},{"$f":"SUMIFS('SO Analysis'!G:G,'SO Analysis'!B:B,'Print Form'!C259,'SO Analysis'!D:D,'Print Form'!E259)","v":0}]
[null,"",null,null,null,{"$f":"SUMIFS('SO Analysis'!E:E,'SO Analysis'!B:B,'Print Form'!C260,'SO Analysis'!D:D,'Print Form'!E260)","v":0},{"$f":"SUMIFS('SO Analysis'!F:F,'SO Analysis'!B:B,'Print Form'!C260,'SO Analysis'!D:D,'Print Form'!E260)","v":0},{"$f":"SUMIFS('SO Analysis'!G:G,'SO Analysis'!B:B,'Print Form'!C260,'SO Analysis'!D:D,'Print Form'!E260)","v":0}]
[null,"",null,null,null,{"$f":"SUMIFS('SO Analysis'!E:E,'SO Analysis'!B:B,'Print Form'!C261,'SO Analysis'!D:D,'Print Form'!E261)","v":0},{"$f":"SUMIFS('SO Analysis'!F:F,'SO Analysis'!B:B,'Print Form'!C261,'SO Analysis'!D:D,'Print Form'!E261)","v":0},{"$f":"SUMIFS('SO Analysis'!G:G,'SO Analysis'!B:B,'Print Form'!C261,'SO Analysis'!D:D,'Print Form'!E261)","v":0}]
[null,"",null,null,null,{"$f":"SUMIFS('SO Analysis'!E:E,'SO Analysis'!B:B,'Print Form'!C262,'SO Analysis'!D:D,'Print Form'!E262)","v":0},{"$f":"SUMIFS('SO Analysis'!F:F,'SO Analysis'!B:B,'Print Form'!C262,'SO Analysis'!D:D,'Print Form'!E262)","v":0},{"$f":"SUMIFS('SO Analysis'!G:G,'SO Analysis'!B:B,'Print Form'!C262,'SO Analysis'!D:D,'Print Form'!E262)","v":0}]
[null,"",null,null,null,{"$f":"SUMIFS('SO Analysis'!E:E,'SO Analysis'!B:B,'Print Form'!C263,'SO Analysis'!D:D,'Print Form'!E263)","v":0},{"$f":"SUMIFS('SO Analysis'!F:F,'SO Analysis'!B:B,'Print Form'!C263,'SO Analysis'!D:D,'Print Form'!E263)","v":0},{"$f":"SUMIFS('SO Analysis'!G:G,'SO Analysis'!B:B,'Print Form'!C263,'SO Analysis'!D:D,'Print Form'!E263)","v":0}]
[null,"",null,null,null,{"$f":"SUMIFS('SO Analysis'!E:E,'SO Analysis'!B:B,'Print Form'!C264,'SO Analysis'!D:D,'Print Form'!E264)","v":0},{"$f":"SUMIFS('SO Analysis'!F:F,'SO Analysis'!B:B,'Print Form'!C264,'SO Analysis'!D:D,'Print Form'!E264)","v":0},{"$f":"SUMIFS('SO Analysis'!G:G,'SO Analysis'!B:B,'Print Form'!C264,'SO Analysis'!D:D,'Print Form'!E264)","v":0}]
[null,"",null,null,null,{"$f":"SUMIFS('SO Analysis'!E:E,'SO Analysis'!B:B,'Print Form'!C265,'SO Analysis'!D:D,'Print Form'!E265)","v":0},{"$f":"SUMIFS('SO Analysis'!F:F,'SO Analysis'!B:B,'Print Form'!C265,'SO Analysis'!D:D,'Print Form'!E265)","v":0},{"$f":"SUMIFS('SO Analysis'!G:G,'SO Analysis'!B:B,'Print Form'!C265,'SO Analysis'!D:D,'Print Form'!E265)","v":0}]
[null,"",null,null,null,{"$f":"SUMIFS('SO Analysis'!E:E,'SO Analysis'!B:B,'Print Form'!C266,'SO Analysis'!D:D,'Print Form'!E266)","v":0},{"$f":"SUMIFS('SO Analysis'!F:F,'SO Analysis'!B:B,'Print Form'!C266,'SO Analysis'!D:D,'Print Form'!E266)","v":0},{"$f":"SUMIFS('SO Analysis'!G:G,'SO Analysis'!B:B,'Print Form'!C266,'SO Analysis'!D:D,'Print Form'!E266)","v":0}]
[null,"",null,null,null,{"$f":"SUMIFS('SO Analysis'!E:E,'SO Analysis'!B:B,'Print Form'!C267,'SO Analysis'!D:D,'Print Form'!E267)","v":0},{"$f":"SUMIFS('SO Analysis'!F:F,'SO Analysis'!B:B,'Print Form'!C267,'SO Analysis'!D:D,'Print Form'!E267)","v":0},{"$f":"SUMIFS('SO Analysis'!G:G,'SO Analysis'!B:B,'Print Form'!C267,'SO Analysis'!D:D,'Print Form'!E267)","v":0}]
[null,"",null,null,null,{"$f":"SUMIFS('SO Analysis'!E:E,'SO Analysis'!B:B,'Print Form'!C268,'SO Analysis'!D:D,'Print Form'!E268)","v":0},{"$f":"SUMIFS('SO Analysis'!F:F,'SO Analysis'!B:B,'Print Form'!C268,'SO Analysis'!D:D,'Print Form'!E268)","v":0},{"$f":"SUMIFS('SO Analysis'!G:G,'SO Analysis'!B:B,'Print Form'!C268,'SO Analysis'!D:D,'Print Form'!E268)","v":0}]
[null,"",null,null,null,{"$f":"SUMIFS('SO Analysis'!E:E,'SO Analysis'!B:B,'Print Form'!C269,'SO Analysis'!D:D,'Print Form'!E269)","v":0},{"$f":"SUMIFS('SO Analysis'!F:F,'SO Analysis'!B:B,'Print Form'!C269,'SO Analysis'!D:D,'Print Form'!E269)","v":0},{"$f":"SUMIFS('SO Analysis'!G:G,'SO Analysis'!B:B,'Print Form'!C269,'SO Analysis'!D:D,'Print Form'!E269)","v":0}]
[null,{"$f":"IF(C270=\"\",\"\",ROW()-12)","v":""},null,null,null,{"$f":"SUMIFS('SO Analysis'!E:E,'SO Analysis'!B:B,'Print Form'!C270,'SO Analysis'!D:D,'Print Form'!E270)","v":0},{"$f":"SUMIFS('SO Analysis'!F:F,'SO Analysis'!B:B,'Print Form'!C270,'SO Analysis'!D:D,'Print Form'!E270)","v":0},{"$f":"SUMIFS('SO Analysis'!G:G,'SO Analysis'!B:B,'Print Form'!C270,'SO Analysis'!D:D,'Print Form'!E270)","v":0}]
[null,"",null,null,null,{"$f":"SUMIFS('SO Analysis'!E:E,'SO Analysis'!B:B,'Print Form'!C271,'SO Analysis'!D:D,'Print Form'!E271)","v":0},{"$f":"SUMIFS('SO Analysis'!F:F,'SO Analysis'!B:B,'Print Form'!C271,'SO Analysis'!D:D,'Print Form'!E271)","v":0},{"$f":"SUMIFS('SO Analysis'!G:G,'SO Analysis'!B:B,'Print Form'!C271,'SO Analysis'!D:D,'Print Form'!E271)","v":0}]
[null,"",null,null,null,{"$f":"SUMIFS('SO Analysis'!E:E,'SO Analysis'!B:B,'Print Form'!C272,'SO Analysis'!D:D,'Print Form'!E272)","v":0},{"$f":"SUMIFS('SO Analysis'!F:F,'SO Analysis'!B:B,'Print Form'!C272,'SO Analysis'!D:D,'Print Form'!E272)","v":0},{"$f":"SUMIFS('SO Analysis'!G:G,'SO Analysis'!B:B,'Print Form'!C272,'SO Analysis'!D:D,'Print Form'!E272)","v":0}]
[null,"",null,null,null,{"$f":"SUMIFS('SO Analysis'!E:E,'SO Analysis'!B:B,'Print Form'!C273,'SO Analysis'!D:D,'Print Form'!E273)","v":0},{"$f":"SUMIFS('SO Analysis'!F:F,'SO Analysis'!B:B,'Print Form'!C273,'SO Analysis'!D:D,'Print Form'!E273)","v":0},{"$f":"SUMIFS('SO Analysis'!G:G,'SO Analysis'!B:B,'Print Form'!C273,'SO Analysis'!D:D,'Print Form'!E273)","v":0}]
[null,"",null,null,null,{"$f":"SUMIFS('SO Analysis'!E:E,'SO Analysis'!B:B,'Print Form'!C274,'SO Analysis'!D:D,'Print Form'!E274)","v":0},{"$f":"SUMIFS('SO Analysis'!F:F,'SO Analysis'!B:B,'Print Form'!C274,'SO Analysis'!D:D,'Print Form'!E274)","v":0},{"$f":"SUMIFS('SO Analysis'!G:G,'SO Analysis'!B:B,'Print Form'!C274,'SO Analysis'!D:D,'Print Form'!E274)","v":0}]
[null,"",null,null,null,{"$f":"SUMIFS('SO Analysis'!E:E,'SO Analysis'!B:B,'Print Form'!C275,'SO Analysis'!D:D,'Print Form'!E275)","v":0},{"$f":"SUMIFS('SO Analysis'!F:F,'SO Analysis'!B:B,'Print Form'!C275,'SO Analysis'!D:D,'Print Form'!E275)","v":0},{"$f":"SUMIFS('SO Analysis'!G:G,'SO Analysis'!B:B,'Print Form'!C275,'SO Analysis'!D:D,'Print Form'!E275)","v":0}]
[null,"",null,null,null,{"$f":"SUMIFS('SO Analysis'!E:E,'SO Analysis'!B:B,'Print Form'!C276,'SO Analysis'!D:D,'Print Form'!E276)","v":0},{"$f":"SUMIFS('SO Analysis'!F:F,'SO Analysis'!B:B,'Print Form'!C276,'SO Analysis'!D:D,'Print Form'!E276)","v":0},{"$f":"SUMIFS('SO Analysis'!G:G,'SO Analysis'!B:B,'Print Form'!C276,'SO Analysis'!D:D,'Print Form'!E276)","v":0}]
[null,"",null,null,null,{"$f":"SUMIFS('SO Analysis'!E:E,'SO Analysis'!B:B,'Print Form'!C277,'SO Analysis'!D:D,'Print Form'!E277)","v":0},{"$f":"SUMIFS('SO Analysis'!F:F,'SO Analysis'!B:B,'Print Form'!C277,'SO Analysis'!D:D,'Print Form'!E277)","v":0},{"$f":"SUMIFS('SO Analysis'!G:G,'SO Analysis'!B:B,'Print Form'!C277,'SO Analysis'!D:D,'Print Form'!E277)","v":0}]
[null,"",null,null,null,{"$f":"SUMIFS('SO Analysis'!E:E,'SO Analysis'!B:B,'Print Form'!C278,'SO Analysis'!D:D,'Print Form'!E278)","v":0},{"$f":"SUMIFS('SO Analysis'!F:F,'SO Analysis'!B:B,'Print Form'!C278,'SO Analysis'!D:D,'Print Form'!E278)","v":0},{"$f":"SUMIFS('SO Analysis'!G:G,'SO Analysis'!B:B,'Print Form'!C278,'SO Analysis'!D:D,'Print Form'!E278)","v":0}]
[null,"",null,null,null,{"$f":"SUMIFS('SO Analysis'!E:E,'SO Analysis'!B:B,'Print Form'!C279,'SO Analysis'!D:D,'Print Form'!E279)","v":0},{"$f":"SUMIFS('SO Analysis'!F:F,'SO Analysis'!B:B,'Print Form'!C279,'SO Analysis'!D:D,'Print Form'!E279)","v":0},{"$f":"SUMIFS('SO Analysis'!G:G,'SO Analysis'!B:B,'Print Form'!C279,'SO Analysis'!D:D,'Print Form'!E279)","v":0}]
[null,"",null,null,null,{"$f":"SUMIFS('SO Analysis'!E:E,'SO Analysis'!B:B,'Print Form'!C280,'SO Analysis'!D:D,'Print Form'!E280)","v":0},{"$f":"SUMIFS('SO Analysis'!F:F,'SO Analysis'!B:B,'Print Form'!C280,'SO Analysis'!D:D,'Print Form'!E280)","v":0},{"$f":"SUMIFS('SO Analysis'!G:G,'SO Analysis'!B:B,'Print Form'!C280,'SO Analysis'!D:D,'Print Form'!E280)","v":0}]
[null,"",null,null,null,{"$f":"SUMIFS('SO Analysis'!E:E,'SO Analysis'!B:B,'Print Form'!C281,'SO Analysis'!D:D,'Print Form'!E281)","v":0},{"$f":"SUMIFS('SO Analysis'!F:F,'SO Analysis'!B:B,'Print Form'!C281,'SO Analysis'!D:D,'Print Form'!E281)","v":0},{"$f":"SUMIFS('SO Analysis'!G:G,'SO Analysis'!B:B,'Print Form'!C281,'SO Analysis'!D:D,'Print Form'!E281)","v":0}]
[null,"",null,null,null,{"$f":"SUMIFS('SO Analysis'!E:E,'SO Analysis'!B:B,'Print Form'!C282,'SO Analysis'!D:D,'Print Form'!E282)","v":0},{"$f":"SUMIFS('SO Analysis'!F:F,'SO Analysis'!B:B,'Print Form'!C282,'SO Analysis'!D:D,'Print Form'!E282)","v":0},{"$f":"SUMIFS('SO Analysis'!G:G,'SO Analysis'!B:B,'Print Form'!C282,'SO Analysis'!D:D,'Print Form'!E282)","v":0}]
[null,"",null,null,null,{"$f":"SUMIFS('SO Analysis'!E:E,'SO Analysis'!B:B,'Print Form'!C283,'SO Analysis'!D:D,'Print Form'!E283)","v":0},{"$f":"SUMIFS('SO Analysis'!F:F,'SO Analysis'!B:B,'Print Form'!C283,'SO Analysis'!D:D,'Print Form'!E283)","v":0},{"$f":"SUMIFS('SO Analysis'!G:G,'SO Analysis'!B:B,'Print Form'!C283,'SO Analysis'!D:D,'Print Form'!E283)","v":0}]
[null,"",null,null,null,{"$f":"SUMIFS('SO Analysis'!E:E,'SO Analysis'!B:B,'Print Form'!C284,'SO Analysis'!D:D,'Print Form'!E284)","v":0},{"$f":"SUMIFS('SO Analysis'!F:F,'SO Analysis'!B:B,'Print Form'!C284,'SO Analysis'!D:D,'Print Form'!E284)","v":0},{"$f":"SUMIFS('SO Analysis'!G:G,'SO Analysis'!B:B,'Print Form'!C284,'SO Analysis'!D:D,'Print Form'!E284)","v":0}]
[null,"",null,null,null,{"$f":"SUMIFS('SO Analysis'!E:E,'SO Analysis'!B:B,'Print Form'!C285,'SO Analysis'!D:D,'Print Form'!E285)","v":0},{"$f":"SUMIFS('SO Analysis'!F:F,'SO Analysis'!B:B,'Print Form'!C285,'SO Analysis'!D:D,'Print Form'!E285)","v":0},{"$f":"SUMIFS('SO Analysis'!G:G,'SO Analysis'!B:B,'Print Form'!C285,'SO Analysis'!D:D,'Print Form'!E285)","v":0}]
[null,"",null,null,null,{"$f":"SUMIFS('SO Analysis'!E:E,'SO Analysis'!B:B,'Print Form'!C286,'SO Analysis'!D:D,'Print Form'!E286)","v":0},{"$f":"SUMIFS('SO Analysis'!F:F,'SO Analysis'!B:B,'Print Form'!C286,'SO Analysis'!D:D,'Print Form'!E286)","v":0},{"$f":"SUMIFS('SO Analysis'!G:G,'SO Analysis'!B:B,'Print Form'!C286,'SO Analysis'!D:D,'Print Form'!E286)","v":0}]
[null,"",null,null,null,{"$f":"SUMIFS('SO Analysis'!E:E,'SO Analysis'!B:B,'Print Form'!C287,'SO Analysis'!D:D,'Print Form'!E287)","v":0},{"$f":"SUMIFS('SO Analysis'!F:F,'SO Analysis'!B:B,'Print Form'!C287,'SO Analysis'!D:D,'Print Form'!E287)","v":0},{"$f":"SUMIFS('SO Analysis'!G:G,'SO Analysis'!B:B,'Print Form'!C287,'SO Analysis'!D:D,'Print Form'!E287)","v":0}]
[null,"",null,null,null,{"$f":"SUMIFS('SO Analysis'!E:E,'SO Analysis'!B:B,'Print Form'!C288,'SO Analysis'!D:D,'Print Form'!E288)","v":0},{"$f":"SUMIFS('SO Analysis'!F:F,'SO Analysis'!B:B,'Print Form'!C288,'SO Analysis'!D:D,'Print Form'!E288)","v":0},{"$f":"SUMIFS('SO Analysis'!G:G,'SO Analysis'!B:B,'Print Form'!C288,'SO Analysis'!D:D,'Print Form'!E288)","v":0}]
[null,"",null,null,null,{"$f":"SUMIFS('SO Analysis'!E:E,'SO Analysis'!B:B,'Print Form'!C289,'SO Analysis'!D:D,'Print Form'!E289)","v":0},{"$f":"SUMIFS('SO Analysis'!F:F,'SO Analysis'!B:B,'Print Form'!C289,'SO Analysis'!D:D,'Print Form'!E289)","v":0},{"$f":"SUMIFS('SO Analysis'!G:G,'SO Analysis'!B:B,'Print Form'!C289,'SO Analysis'!D:D,'Print Form'!E289)","v":0}]
[null,"",null,null,null,{"$f":"SUMIFS('SO Analysis'!E:E,'SO Analysis'!B:B,'Print Form'!C290,'SO Analysis'!D:D,'Print Form'!E290)","v":0},{"$f":"SUMIFS('SO Analysis'!F:F,'SO Analysis'!B:B,'Print Form'!C290,'SO Analysis'!D:D,'Print Form'!E290)","v":0},{"$f":"SUMIFS('SO Analysis'!G:G,'SO Analysis'!B:B,'Print Form'!C290,'SO Analysis'!D:D,'Print Form'!E290)","v":0}]
[null,"",null,null,null,{"$f":"SUMIFS('SO Analysis'!E:E,'SO Analysis'!B:B,'Print Form'!C291,'SO Analysis'!D:D,'Print Form'!E291)","v":0},{"$f":"SUMIFS('SO Analysis'!F:F,'SO Analysis'!B:B,'Print Form'!C291,'SO Analysis'!D:D,'Print Form'!E291)","v":0},{"$f":"SUMIFS('SO Analysis'!G:G,'SO Analysis'!B:B,'Print Form'!C291,'SO Analysis'!D:D,'Print Form'!E291)","v":0}]
[null,"",null,null,null,{"$f":"SUMIFS('SO Analysis'!E:E,'SO Analysis'!B:B,'Print Form'!C292,'SO Analysis'!D:D,'Print Form'!E292)","v":0},{"$f":"SUMIFS('SO Analysis'!F:F,'SO Analysis'!B:B,'Print Form'!C292,'SO Analysis'!D:D,'Print Form'!E292)","v":0},{"$f":"SUMIFS('SO Analysis'!G:G,'SO Analysis'!B:B,'Print Form'!C292,'SO Analysis'!D:D,'Print Form'!E292)","v":0}]
[null,"",null,null,null,{"$f":"SUMIFS('SO Analysis'!E:E,'SO Analysis'!B:B,'Print Form'!C293,'SO Analysis'!D:D,'Print Form'!E293)","v":0},{"$f":"SUMIFS('SO Analysis'!F:F,'SO Analysis'!B:B,'Print Form'!C293,'SO Analysis'!D:D,'Print Form'!E293)","v":0},{"$f":"SUMIFS('SO Analysis'!G:G,'SO Analysis'!B:B,'Print Form'!C293,'SO Analysis'!D:D,'Print Form'!E293)","v":0}]
[null,"",null,null,null,{"$f":"SUMIFS('SO Analysis'!E:E,'SO Analysis'!B:B,'Print Form'!C294,'SO Analysis'!D:D,'Print Form'!E294)","v":0},{"$f":"SUMIFS('SO Analysis'!F:F,'SO Analysis'!B:B,'Print Form'!C294,'SO Analysis'!D:D,'Print Form'!E294)","v":0},{"$f":"SUMIFS('SO Analysis'!G:G,'SO Analysis'!B:B,'Print Form'!C294,'SO Analysis'!D:D,'Print Form'!E294)","v":0}]
[null,"",null,null,null,{"$f":"SUMIFS('SO Analysis'!E:E,'SO Analysis'!B:B,'Print Form'!C295,'SO Analysis'!D:D,'Print Form'!E295)","v":0},{"$f":"SUMIFS('SO Analysis'!F:F,'SO Analysis'!B:B,'Print Form'!C295,'SO Analysis'!D:D,'Print Form'!E295)","v":0},{"$f":"SUMIFS('SO Analysis'!G:G,'SO Analysis'!B:B,'Print Form'!C295,'SO Analysis'!D:D,'Print Form'!E295)","v":0}]
[null,"",null,null,null,{"$f":"SUMIFS('SO Analysis'!E:E,'SO Analysis'!B:B,'Print Form'!C296,'SO Analysis'!D:D,'Print Form'!E296)","v":0},{"$f":"SUMIFS('SO Analysis'!F:F,'SO Analysis'!B:B,'Print Form'!C296,'SO Analysis'!D:D,'Print Form'!E296)","v":0},{"$f":"SUMIFS('SO Analysis'!G:G,'SO Analysis'!B:B,'Print Form'!C296,'SO Analysis'!D:D,'Print Form'!E296)","v":0}]
[null,"",null,null,null,{"$f":"SUMIFS('SO Analysis'!E:E,'SO Analysis'!B:B,'Print Form'!C297,'SO Analysis'!D:D,'Print Form'!E297)","v":0},{"$f":"SUMIFS('SO Analysis'!F:F,'SO Analysis'!B:B,'Print Form'!C297,'SO Analysis'!D:D,'Print Form'!E297)","v":0},{"$f":"SUMIFS('SO Analysis'!G:G,'SO Analysis'!B:B,'Print Form'!C297,'SO Analysis'!D:D,'Print Form'!E297)","v":0}]
[null,"",null,null,null,{"$f":"SUMIFS('SO Analysis'!E:E,'SO Analysis'!B:B,'Print Form'!C298,'SO Analysis'!D:D,'Print Form'!E298)","v":0},{"$f":"SUMIFS('SO Analysis'!F:F,'SO Analysis'!B:B,'Print Form'!C298,'SO Analysis'!D:D,'Print Form'!E298)","v":0},{"$f":"SUMIFS('SO Analysis'!G:G,'SO Analysis'!B:B,'Print Form'!C298,'SO Analysis'!D:D,'Print Form'!E298)","v":0}]
[null,"",null,null,null,{"$f":"SUMIFS('SO Analysis'!E:E,'SO Analysis'!B:B,'Print Form'!C299,'SO Analysis'!D:D,'Print Form'!E299)","v":0},{"$f":"SUMIFS('SO Analysis'!F:F,'SO Analysis'!B:B,'Print Form'!C299,'SO Analysis'!D:D,'Print Form'!E299)","v":0},{"$f":"SUMIFS('SO Analysis'!G:G,'SO Analysis'!B:B,'Print Form'!C299,'SO Analysis'!D:D,'Print Form'!E299)","v":0}]
[null,"",null,null,null,{"$f":"SUMIFS('SO Analysis'!E:E,'SO Analysis'!B:B,'Print Form'!C300,'SO Analysis'!D:D,'Print Form'!E300)","v":0},{"$f":"SUMIFS('SO Analysis'!F:F,'SO Analysis'!B:B,'Print Form'!C300,'SO Analysis'!D:D,'Print Form'!E300)","v":0},{"$f":"SUMIFS('SO Analysis'!G:G,'SO Analysis'!B:B,'Print Form'!C300,'SO Analysis'!D:D,'Print Form'!E300)","v":0}]
[null,"",null,null,null,{"$f":"SUMIFS('SO Analysis'!E:E,'SO Analysis'!B:B,'Print Form'!C301,'SO Analysis'!D:D,'Print Form'!E301)","v":0},{"$f":"SUMIFS('SO Analysis'!F:F,'SO Analysis'!B:B,'Print Form'!C301,'SO Analysis'!D:D,'Print Form'!E301)","v":0},{"$f":"SUMIFS('SO Analysis'!G:G,'SO Analysis'!B:B,'Print Form'!C301,'SO Analysis'!D:D,'Print Form'!E301)","v":0}]
[null,"",null,null,null,{"$f":"SUMIFS('SO Analysis'!E:E,'SO Analysis'!B:B,'Print Form'!C302,'SO Analysis'!D:D,'Print Form'!E302)","v":0},{"$f":"SUMIFS('SO Analysis'!F:F,'SO Analysis'!B:B,'Print Form'!C302,'SO Analysis'!D:D,'Print Form'!E302)","v":0},{"$f":"SUMIFS('SO Analysis'!G:G,'SO Analysis'!B:B,'Print Form'!C302,'SO Analysis'!D:D,'Print Form'!E302)","v":0}]
[null,"",null,null,null,{"$f":"SUMIFS('SO Analysis'!E:E,'SO Analysis'!B:B,'Print Form'!C303,'SO Analysis'!D:D,'Print Form'!E303)","v":0},{"$f":"SUMIFS('SO Analysis'!F:F,'SO Analysis'!B:B,'Print Form'!C303,'SO Analysis'!D:D,'Print Form'!E303)","v":0},{"$f":"SUMIFS('SO Analysis'!G:G,'SO Analysis'!B:B,'Print Form'!C303,'SO Analysis'!D:D,'Print Form'!E303)","v":0}]
[null,"",null,null,null,{"$f":"SUMIFS('SO Analysis'!E:E,'SO Analysis'!B:B,'Print Form'!C304,'SO Analysis'!D:D,'Print Form'!E304)","v":0},{"$f":"SUMIFS('SO Analysis'!F:F,'SO Analysis'!B:B,'Print Form'!C304,'SO Analysis'!D:D,'Print Form'!E304)","v":0},{"$f":"SUMIFS('SO Analysis'!G:G,'SO Analysis'!B:B,'Print Form'!C304,'SO Analysis'!D:D,'Print Form'!E304)","v":0}]
[null,"",null,null,null,{"$f":"SUMIFS('SO Analysis'!E:E,'SO Analysis'!B:B,'Print Form'!C305,'SO Analysis'!D:D,'Print Form'!E305)","v":0},{"$f":"SUMIFS('SO Analysis'!F:F,'SO Analysis'!B:B,'Print Form'!C305,'SO Analysis'!D:D,'Print Form'!E305)","v":0},{"$f":"SUMIFS('SO Analysis'!G:G,'SO Analysis'!B:B,'Print Form'!C305,'SO Analysis'!D:D,'Print Form'!E305)","v":0}]
[null,"",null,null,null,{"$f":"SUMIFS('SO Analysis'!E:E,'SO Analysis'!B:B,'Print Form'!C306,'SO Analysis'!D:D,'Print Form'!E306)","v":0},{"$f":"SUMIFS('SO Analysis'!F:F,'SO Analysis'!B:B,'Print Form'!C306,'SO Analysis'!D:D,'Print Form'!E306)","v":0},{"$f":"SUMIFS('SO Analysis'!G:G,'SO Analysis'!B:B,'Print Form'!C306,'SO Analysis'!D:D,'Print Form'!E306)","v":0}]
[null,"",null,null,null,{"$f":"SUMIFS('SO Analysis'!E:E,'SO Analysis'!B:B,'Print Form'!C307,'SO Analysis'!D:D,'Print Form'!E307)","v":0},{"$f":"SUMIFS('SO Analysis'!F:F,'SO Analysis'!B:B,'Print Form'!C307,'SO Analysis'!D:D,'Print Form'!E307)","v":0},{"$f":"SUMIFS('SO Analysis'!G:G,'SO Analysis'!B:B,'Print Form'!C307,'SO Analysis'!D:D,'Print Form'!E307)","v":0}]
[null,"",null,null,null,{"$f":"SUMIFS('SO Analysis'!E:E,'SO Analysis'!B:B,'Print Form'!C308,'SO Analysis'!D:D,'Print Form'!E308)","v":0},{"$f":"SUMIFS('SO Analysis'!F:F,'SO Analysis'!B:B,'Print Form'!C308,'SO Analysis'!D:D,'Print Form'!E308)","v":0},{"$f":"SUMIFS('SO Analysis'!G:G,'SO Analysis'!B:B,'Print Form'!C308,'SO Analysis'!D:D,'Print Form'!E308)","v":0}]
[null,"",null,null,null,{"$f":"SUMIFS('SO Analysis'!E:E,'SO Analysis'!B:B,'Print Form'!C309,'SO Analysis'!D:D,'Print Form'!E309)","v":0},{"$f":"SUMIFS('SO Analysis'!F:F,'SO Analysis'!B:B,'Print Form'!C309,'SO Analysis'!D:D,'Print Form'!E309)","v":0},{"$f":"SUMIFS('SO Analysis'!G:G,'SO Analysis'!B:B,'Print Form'!C309,'SO Analysis'!D:D,'Print Form'!E309)","v":0}]
[null,"",null,null,null,{"$f":"SUMIFS('SO Analysis'!E:E,'SO Analysis'!B:B,'Print Form'!C310,'SO Analysis'!D:D,'Print Form'!E310)","v":0},{"$f":"SUMIFS('SO Analysis'!F:F,'SO Analysis'!B:B,'Print Form'!C310,'SO Analysis'!D:D,'Print Form'!E310)","v":0},{"$f":"SUMIFS('SO Analysis'!G:G,'SO Analysis'!B:B,'Print Form'!C310,'SO Analysis'!D:D,'Print Form'!E310)","v":0}]
[null,"",null,null,null,{"$f":"SUMIFS('SO Analysis'!E:E,'SO Analysis'!B:B,'Print Form'!C311,'SO Analysis'!D:D,'Print Form'!E311)","v":0},{"$f":"SUMIFS('SO Analysis'!F:F,'SO Analysis'!B:B,'Print Form'!C311,'SO Analysis'!D:D,'Print Form'!E311)","v":0},{"$f":"SUMIFS('SO Analysis'!G:G,'SO Analysis'!B:B,'Print Form'!C311,'SO Analysis'!D:D,'Print Form'!E311)","v":0}]
[null,"",null,null,null,{"$f":"SUMIFS('SO Analysis'!E:E,'SO Analysis'!B:B,'Print Form'!C312,'SO Analysis'!D:D,'Print Form'!E312)","v":0},{"$f":"SUMIFS('SO Analysis'!F:F,'SO Analysis'!B:B,'Print Form'!C312,'SO Analysis'!D:D,'Print Form'!E312)","v":0},{"$f":"SUMIFS('SO Analysis'!G:G,'SO Analysis'!B:B,'Print Form'!C312,'SO Analysis'!D:D,'Print Form'!E312)","v":0}]
[null,"",null,null,null,{"$f":"SUMIFS('SO Analysis'!E:E,'SO Analysis'!B:B,'Print Form'!C313,'SO Analysis'!D:D,'Print Form'!E313)","v":0},{"$f":"SUMIFS('SO Analysis'!F:F,'SO Analysis'!B:B,'Print Form'!C313,'SO Analysis'!D:D,'Print Form'!E313)","v":0},{"$f":"SUMIFS('SO Analysis'!G:G,'SO Analysis'!B:B,'Print Form'!C313,'SO Analysis'!D:D,'Print Form'!E313)","v":0}]
[null,"",null,null,null,{"$f":"SUMIFS('SO Analysis'!E:E,'SO Analysis'!B:B,'Print Form'!C314,'SO Analysis'!D:D,'Print Form'!E314)","v":0},{"$f":"SUMIFS('SO Analysis'!F:F,'SO Analysis'!B:B,'Print Form'!C314,'SO Analysis'!D:D,'Print Form'!E314)","v":0},{"$f":"SUMIFS('SO Analysis'!G:G,'SO Analysis'!B:B,'Print Form'!C314,'SO Analysis'!D:D,'Print Form'!E314)","v":0}]
[null,"",null,null,null,{"$f":"SUMIFS('SO Analysis'!E:E,'SO Analysis'!B:B,'Print Form'!C315,'SO Analysis'!D:D,'Print Form'!E315)","v":0},{"$f":"SUMIFS('SO Analysis'!F:F,'SO Analysis'!B:B,'Print Form'!C315,'SO Analysis'!D:D,'Print Form'!E315)","v":0},{"$f":"SUMIFS('SO Analysis'!G:G,'SO Analysis'!B:B,'Print Form'!C315,'SO Analysis'!D:D,'Print Form'!E315)","v":0}]
[null,"",null,null,null,{"$f":"SUMIFS('SO Analysis'!E:E,'SO Analysis'!B:B,'Print Form'!C316,'SO Analysis'!D:D,'Print Form'!E316)","v":0},{"$f":"SUMIFS('SO Analysis'!F:F,'SO Analysis'!B:B,'Print Form'!C316,'SO Analysis'!D:D,'Print Form'!E316)","v":0},{"$f":"SUMIFS('SO Analysis'!G:G,'SO Analysis'!B:B,'Print Form'!C316,'SO Analysis'!D:D,'Print Form'!E316)","v":0}]
[null,"",null,null,null,{"$f":"SUMIFS('SO Analysis'!E:E,'SO Analysis'!B:B,'Print Form'!C317,'SO Analysis'!D:D,'Print Form'!E317)","v":0},{"$f":"SUMIFS('SO Analysis'!F:F,'SO Analysis'!B:B,'Print Form'!C317,'SO Analysis'!D:D,'Print Form'!E317)","v":0},{"$f":"SUMIFS('SO Analysis'!G:G,'SO Analysis'!B:B,'Print Form'!C317,'SO Analysis'!D:D,'Print Form'!E317)","v":0}]
[null,"",null,null,null,{"$f":"SUMIFS('SO Analysis'!E:E,'SO Analysis'!B:B,'Print Form'!C318,'SO Analysis'!D:D,'Print Form'!E318)","v":0},{"$f":"SUMIFS('SO Analysis'!F:F,'SO Analysis'!B:B,'Print Form'!C318,'SO Analysis'!D:D,'Print Form'!E318)","v":0},{"$f":"SUMIFS('SO Analysis'!G:G,'SO Analysis'!B:B,'Print Form'!C318,'SO Analysis'!D:D,'Print Form'!E318)","v":0}]
[null,"",null,null,null,{"$f":"SUMIFS('SO Analysis'!E:E,'SO Analysis'!B:B,'Print Form'!C319,'SO Analysis'!D:D,'Print Form'!E319)","v":0},{"$f":"SUMIFS('SO Analysis'!F:F,'SO Analysis'!B:B,'Print Form'!C319,'SO Analysis'!D:D,'Print Form'!E319)","v":0},{"$f":"SUMIFS('SO Analysis'!G:G,'SO Analysis'!B:B,'Print Form'!C319,'SO Analysis'!D:D,'Print Form'!E319)","v":0}]
[null,"",null,null,null,{"$f":"SUMIFS('SO Analysis'!E:E,'SO Analysis'!B:B,'Print Form'!C320,'SO Analysis'!D:D,'Print Form'!E320)","v":0},{"$f":"SUMIFS('SO Analysis'!F:F,'SO Analysis'!B:B,'Print Form'!C320,'SO Analysis'!D:D,'Print Form'!E320)","v":0},{"$f":"SUMIFS('SO Analysis'!G:G,'SO Analysis'!B:B,'Print Form'!C320,'SO Analysis'!D:D,'Print Form'!E320)","v":0}]
[null,"",null,null,null,{"$f":"SUMIFS('SO Analysis'!E:E,'SO Analysis'!B:B,'Print Form'!C321,'SO Analysis'!D:D,'Print Form'!E321)","v":0},{"$f":"SUMIFS('SO Analysis'!F:F,'SO Analysis'!B:B,'Print Form'!C321,'SO Analysis'!D:D,'Print Form'!E321)","v":0},{"$f":"SUMIFS('SO Analysis'!G:G,'SO Analysis'!B:B,'Print Form'!C321,'SO Analysis'!D:D,'Print Form'!E321)","v":0}]
[null,"",null,null,null,{"$f":"SUMIFS('SO Analysis'!E:E,'SO Analysis'!B:B,'Print Form'!C322,'SO Analysis'!D:D,'Print Form'!E322)","v":0},{"$f":"SUMIFS('SO Analysis'!F:F,'SO Analysis'!B:B,'Print Form'!C322,'SO Analysis'!D:D,'Print Form'!E322)","v":0},{"$f":"SUMIFS('SO Analysis'!G:G,'SO Analysis'!B:B,'Print Form'!C322,'SO Analysis'!D:D,'Print Form'!E322)","v":0}]
[null,"",null,null,null,{"$f":"SUMIFS('SO Analysis'!E:E,'SO Analysis'!B:B,'Print Form'!C323,'SO Analysis'!D:D,'Print Form'!E323)","v":0},{"$f":"SUMIFS('SO Analysis'!F:F,'SO Analysis'!B:B,'Print Form'!C323,'SO Analysis'!D:D,'Print Form'!E323)","v":0},{"$f":"SUMIFS('SO Analysis'!G:G,'SO Analysis'!B:B,'Print Form'!C323,'SO Analysis'!D:D,'Print Form'!E323)","v":0}]
[null,"",null,null,null,{"$f":"SUMIFS('SO Analysis'!E:E,'SO Analysis'!B:B,'Print Form'!C324,'SO Analysis'!D:D,'Print Form'!E324)","v":0},{"$f":"SUMIFS('SO Analysis'!F:F,'SO Analysis'!B:B,'Print Form'!C324,'SO Analysis'!D:D,'Print Form'!E324)","v":0},{"$f":"SUMIFS('SO Analysis'!G:G,'SO Analysis'!B:B,'Print Form'!C324,'SO Analysis'!D:D,'Print Form'!E324)","v":0}]
[null,"",null,null,null,{"$f":"SUMIFS('SO Analysis'!E:E,'SO Analysis'!B:B,'Print Form'!C325,'SO Analysis'!D:D,'Print Form'!E325)","v":0},{"$f":"SUMIFS('SO Analysis'!F:F,'SO Analysis'!B:B,'Print Form'!C325,'SO Analysis'!D:D,'Print Form'!E325)","v":0},{"$f":"SUMIFS('SO Analysis'!G:G,'SO Analysis'!B:B,'Print Form'!C325,'SO Analysis'!D:D,'Print Form'!E325)","v":0}]
[null,"",null,null,null,{"$f":"SUMIFS('SO Analysis'!E:E,'SO Analysis'!B:B,'Print Form'!C326,'SO Analysis'!D:D,'Print Form'!E326)","v":0},{"$f":"SUMIFS('SO Analysis'!F:F,'SO Analysis'!B:B,'Print Form'!C326,'SO Analysis'!D:D,'Print Form'!E326)","v":0},{"$f":"SUMIFS('SO Analysis'!G:G,'SO Analysis'!B:B,'Print Form'!C326,'SO Analysis'!D:D,'Print Form'!E326)","v":0}]
[null,"",null,null,null,{"$f":"SUMIFS('SO Analysis'!E:E,'SO Analysis'!B:B,'Print Form'!C327,'SO Analysis'!D:D,'Print Form'!E327)","v":0},{"$f":"SUMIFS('SO Analysis'!F:F,'SO Analysis'!B:B,'Print Form'!C327,'SO Analysis'!D:D,'Print Form'!E327)","v":0},{"$f":"SUMIFS('SO Analysis'!G:G,'SO Analysis'!B:B,'Print Form'!C327,'SO Analysis'!D:D,'Print Form'!E327)","v":0}]
[null,"",null,null,null,{"$f":"SUMIFS('SO Analysis'!E:E,'SO Analysis'!B:B,'Print Form'!C328,'SO Analysis'!D:D,'Print Form'!E328)","v":0},{"$f":"SUMIFS('SO Analysis'!F:F,'SO Analysis'!B:B,'Print Form'!C328,'SO Analysis'!D:D,'Print Form'!E328)","v":0},{"$f":"SUMIFS('SO Analysis'!G:G,'SO Analysis'!B:B,'Print Form'!C328,'SO Analysis'!D:D,'Print Form'!E328)","v":0}]
[null,"",null,null,null,{"$f":"SUMIFS('SO Analysis'!E:E,'SO Analysis'!B:B,'Print Form'!C329,'SO Analysis'!D:D,'Print Form'!E329)","v":0},{"$f":"SUMIFS('SO Analysis'!F:F,'SO Analysis'!B:B,'Print Form'!C329,'SO Analysis'!D:D,'Print Form'!E329)","v":0},{"$f":"SUMIFS('SO Analysis'!G:G,'SO Analysis'!B:B,'Print Form'!C329,'SO Analysis'!D:D,'Print Form'!E329)","v":0}]
[null,"",null,null,null,{"$f":"SUMIFS('SO Analysis'!E:E,'SO Analysis'!B:B,'Print Form'!C330,'SO Analysis'!D:D,'Print Form'!E330)","v":0},{"$f":"SUMIFS('SO Analysis'!F:F,'SO Analysis'!B:B,'Print Form'!C330,'SO Analysis'!D:D,'Print Form'!E330)","v":0},{"$f":"SUMIFS('SO Analysis'!G:G,'SO Analysis'!B:B,'Print Form'!C330,'SO Analysis'!D:D,'Print Form'!E330)","v":0}]
[null,"",null,null,null,{"$f":"SUMIFS('SO Analysis'!E:E,'SO Analysis'!B:B,'Print Form'!C331,'SO Analysis'!D:D,'Print Form'!E331)","v":0},{"$f":"SUMIFS('SO Analysis'!F:F,'SO Analysis'!B:B,'Print Form'!C331,'SO Analysis'!D:D,'Print Form'!E331)","v":0},{"$f":"SUMIFS('SO Analysis'!G:G,'SO Analysis'!B:B,'Print Form'!C331,'SO Analysis'!D:D,'Print Form'!E331)","v":0}]
[null,"",null,null,null,{"$f":"SUMIFS('SO Analysis'!E:E,'SO Analysis'!B:B,'Print Form'!C332,'SO Analysis'!D:D,'Print Form'!E332)","v":0},{"$f":"SUMIFS('SO Analysis'!F:F,'SO Analysis'!B:B,'Print Form'!C332,'SO Analysis'!D:D,'Print Form'!E332)","v":0},{"$f":"SUMIFS('SO Analysis'!G:G,'SO Analysis'!B:B,'Print Form'!C332,'SO Analysis'!D:D,'Print Form'!E332)","v":0}]
[null,"",null,null,null,{"$f":"SUMIFS('SO Analysis'!E:E,'SO Analysis'!B:B,'Print Form'!C333,'SO Analysis'!D:D,'Print Form'!E333)","v":0},{"$f":"SUMIFS('SO Analysis'!F:F,'SO Analysis'!B:B,'Print Form'!C333,'SO Analysis'!D:D,'Print Form'!E333)","v":0},{"$f":"SUMIFS('SO Analysis'!G:G,'SO Analysis'!B:B,'Print Form'!C333,'SO Analysis'!D:D,'Print Form'!E333)","v":0}]
[null,{"$f":"IF(C334=\"\",\"\",ROW()-12)","v":""},null,null,null,{"$f":"SUMIFS('SO Analysis'!E:E,'SO Analysis'!B:B,'Print Form'!C334,'SO Analysis'!D:D,'Print Form'!E334)","v":0},{"$f":"SUMIFS('SO Analysis'!F:F,'SO Analysis'!B:B,'Print Form'!C334,'SO Analysis'!D:D,'Print Form'!E334)","v":0},{"$f":"SUMIFS('SO Analysis'!G:G,'SO Analysis'!B:B,'Print Form'!C334,'SO Analysis'!D:D,'Print Form'!E334)","v":0}]
[null,"",null,null,null,{"$f":"SUMIFS('SO Analysis'!E:E,'SO Analysis'!B:B,'Print Form'!C335,'SO Analysis'!D:D,'Print Form'!E335)","v":0},{"$f":"SUMIFS('SO Analysis'!F:F,'SO Analysis'!B:B,'Print Form'!C335,'SO Analysis'!D:D,'Print Form'!E335)","v":0},{"$f":"SUMIFS('SO Analysis'!G:G,'SO Analysis'!B:B,'Print Form'!C335,'SO Analysis'!D:D,'Print Form'!E335)","v":0}]
[null,"",null,null,null,{"$f":"SUMIFS('SO Analysis'!E:E,'SO Analysis'!B:B,'Print Form'!C336,'SO Analysis'!D:D,'Print Form'!E336)","v":0},{"$f":"SUMIFS('SO Analysis'!F:F,'SO Analysis'!B:B,'Print Form'!C336,'SO Analysis'!D:D,'Print Form'!E336)","v":0},{"$f":"SUMIFS('SO Analysis'!G:G,'SO Analysis'!B:B,'Print Form'!C336,'SO Analysis'!D:D,'Print Form'!E336)","v":0}]
[null,"",null,null,null,{"$f":"SUMIFS('SO Analysis'!E:E,'SO Analysis'!B:B,'Print Form'!C337,'SO Analysis'!D:D,'Print Form'!E337)","v":0},{"$f":"SUMIFS('SO Analysis'!F:F,'SO Analysis'!B:B,'Print Form'!C337,'SO Analysis'!D:D,'Print Form'!E337)","v":0},{"$f":"SUMIFS('SO Analysis'!G:G,'SO Analysis'!B:B,'Print Form'!C337,'SO Analysis'!D:D,'Print Form'!E337)","v":0}]
[null,"",null,null,null,{"$f":"SUMIFS('SO Analysis'!E:E,'SO Analysis'!B:B,'Print Form'!C338,'SO Analysis'!D:D,'Print Form'!E338)","v":0},{"$f":"SUMIFS('SO Analysis'!F:F,'SO Analysis'!B:B,'Print Form'!C338,'SO Analysis'!D:D,'Print Form'!E338)","v":0},{"$f":"SUMIFS('SO Analysis'!G:G,'SO Analysis'!B:B,'Print Form'!C338,'SO Analysis'!D:D,'Print Form'!E338)","v":0}]
[null,"",null,null,null,{"$f":"SUMIFS('SO Analysis'!E:E,'SO Analysis'!B:B,'Print Form'!C339,'SO Analysis'!D:D,'Print Form'!E339)","v":0},{"$f":"SUMIFS('SO Analysis'!F:F,'SO Analysis'!B:B,'Print Form'!C339,'SO Analysis'!D:D,'Print Form'!E339)","v":0},{"$f":"SUMIFS('SO Analysis'!G:G,'SO Analysis'!B:B,'Print Form'!C339,'SO Analysis'!D:D,'Print Form'!E339)","v":0}]
[null,"",null,null,null,{"$f":"SUMIFS('SO Analysis'!E:E,'SO Analysis'!B:B,'Print Form'!C340,'SO Analysis'!D:D,'Print Form'!E340)","v":0},{"$f":"SUMIFS('SO Analysis'!F:F,'SO Analysis'!B:B,'Print Form'!C340,'SO Analysis'!D:D,'Print Form'!E340)","v":0},{"$f":"SUMIFS('SO Analysis'!G:G,'SO Analysis'!B:B,'Print Form'!C340,'SO Analysis'!D:D,'Print Form'!E340)","v":0}]
[null,"",null,null,null,{"$f":"SUMIFS('SO Analysis'!E:E,'SO Analysis'!B:B,'Print Form'!C341,'SO Analysis'!D:D,'Print Form'!E341)","v":0},{"$f":"SUMIFS('SO Analysis'!F:F,'SO Analysis'!B:B,'Print Form'!C341,'SO Analysis'!D:D,'Print Form'!E341)","v":0},{"$f":"SUMIFS('SO Analysis'!G:G,'SO Analysis'!B:B,'Print Form'!C341,'SO Analysis'!D:D,'Print Form'!E341)","v":0}]
[null,"",null,null,null,{"$f":"SUMIFS('SO Analysis'!E:E,'SO Analysis'!B:B,'Print Form'!C342,'SO Analysis'!D:D,'Print Form'!E342)","v":0},{"$f":"SUMIFS('SO Analysis'!F:F,'SO Analysis'!B:B,'Print Form'!C342,'SO Analysis'!D:D,'Print Form'!E342)","v":0},{"$f":"SUMIFS('SO Analysis'!G:G,'SO Analysis'!B:B,'Print Form'!C342,'SO Analysis'!D:D,'Print Form'!E342)","v":0}]
[null,"",null,null,null,{"$f":"SUMIFS('SO Analysis'!E:E,'SO Analysis'!B:B,'Print Form'!C343,'SO Analysis'!D:D,'Print Form'!E343)","v":0},{"$f":"SUMIFS('SO Analysis'!F:F,'SO Analysis'!B:B,'Print Form'!C343,'SO Analysis'!D:D,'Print Form'!E343)","v":0},{"$f":"SUMIFS('SO Analysis'!G:G,'SO Analysis'!B:B,'Print Form'!C343,'SO Analysis'!D:D,'Print Form'!E343)","v":0}]
[null,"",null,null,null,{"$f":"SUMIFS('SO Analysis'!E:E,'SO Analysis'!B:B,'Print Form'!C344,'SO Analysis'!D:D,'Print Form'!E344)","v":0},{"$f":"SUMIFS('SO Analysis'!F:F,'SO Analysis'!B:B,'Print Form'!C344,'SO Analysis'!D:D,'Print Form'!E344)","v":0},{"$f":"SUMIFS('SO Analysis'!G:G,'SO Analysis'!B:B,'Print Form'!C344,'SO Analysis'!D:D,'Print Form'!E344)","v":0}]
[null,"",null,null,null,{"$f":"SUMIFS('SO Analysis'!E:E,'SO Analysis'!B:B,'Print Form'!C345,'SO Analysis'!D:D,'Print Form'!E345)","v":0},{"$f":"SUMIFS('SO Analysis'!F:F,'SO Analysis'!B:B,'Print Form'!C345,'SO Analysis'!D:D,'Print Form'!E345)","v":0},{"$f":"SUMIFS('SO Analysis'!G:G,'SO Analysis'!B:B,'Print Form'!C345,'SO Analysis'!D:D,'Print Form'!E345)","v":0}]
[null,"",null,null,null,{"$f":"SUMIFS('SO Analysis'!E:E,'SO Analysis'!B:B,'Print Form'!C346,'SO Analysis'!D:D,'Print Form'!E346)","v":0},{"$f":"SUMIFS('SO Analysis'!F:F,'SO Analysis'!B:B,'Print Form'!C346,'SO Analysis'!D:D,'Print Form'!E346)","v":0},{"$f":"SUMIFS('SO Analysis'!G:G,'SO Analysis'!B:B,'Print Form'!C346,'SO Analysis'!D:D,'Print Form'!E346)","v":0}]
[null,"",null,null,null,{"$f":"SUMIFS('SO Analysis'!E:E,'SO Analysis'!B:B,'Print Form'!C347,'SO Analysis'!D:D,'Print Form'!E347)","v":0},{"$f":"SUMIFS('SO Analysis'!F:F,'SO Analysis'!B:B,'Print Form'!C347,'SO Analysis'!D:D,'Print Form'!E347)","v":0},{"$f":"SUMIFS('SO Analysis'!G:G,'SO Analysis'!B:B,'Print Form'!C347,'SO Analysis'!D:D,'Print Form'!E347)","v":0}]
[null,"",null,null,null,{"$f":"SUMIFS('SO Analysis'!E:E,'SO Analysis'!B:B,'Print Form'!C348,'SO Analysis'!D:D,'Print Form'!E348)","v":0},{"$f":"SUMIFS('SO Analysis'!F:F,'SO Analysis'!B:B,'Print Form'!C348,'SO Analysis'!D:D,'Print Form'!E348)","v":0},{"$f":"SUMIFS('SO Analysis'!G:G,'SO Analysis'!B:B,'Print Form'!C348,'SO Analysis'!D:D,'Print Form'!E348)","v":0}]
[null,"",null,null,null,{"$f":"SUMIFS('SO Analysis'!E:E,'SO Analysis'!B:B,'Print Form'!C349,'SO Analysis'!D:D,'Print Form'!E349)","v":0},{"$f":"SUMIFS('SO Analysis'!F:F,'SO Analysis'!B:B,'Print Form'!C349,'SO Analysis'!D:D,'Print Form'!E349)","v":0},{"$f":"SUMIFS('SO Analysis'!G:G,'SO Analysis'!B:B,'Print Form'!C349,'SO Analysis'!D:D,'Print Form'!E349)","v":0}]
[null,"",null,null,null,{"$f":"SUMIFS('SO Analysis'!E:E,'SO Analysis'!B:B,'Print Form'!C350,'SO Analysis'!D:D,'Print Form'!E350)","v":0},{"$f":"SUMIFS('SO Analysis'!F:F,'SO Analysis'!B:B,'Print Form'!C350,'SO Analysis'!D:D,'Print Form'!E350)","v":0},{"$f":"SUMIFS('SO Analysis'!G:G,'SO Analysis'!B:B,'Print Form'!C350,'SO Analysis'!D:D,'Print Form'!E350)","v":0}]
[null,"",null,null,null,{"$f":"SUMIFS('SO Analysis'!E:E,'SO Analysis'!B:B,'Print Form'!C351,'SO Analysis'!D:D,'Print Form'!E351)","v":0},{"$f":"SUMIFS('SO Analysis'!F:F,'SO Analysis'!B:B,'Print Form'!C351,'SO Analysis'!D:D,'Print Form'!E351)","v":0},{"$f":"SUMIFS('SO Analysis'!G:G,'SO Analysis'!B:B,'Print Form'!C351,'SO Analysis'!D:D,'Print Form'!E351)","v":0}]
[null,"",null,null,null,{"$f":"SUMIFS('SO Analysis'!E:E,'SO Analysis'!B:B,'Print Form'!C352,'SO Analysis'!D:D,'Print Form'!E352)","v":0},{"$f":"SUMIFS('SO Analysis'!F:F,'SO Analysis'!B:B,'Print Form'!C352,'SO Analysis'!D:D,'Print Form'!E352)","v":0},{"$f":"SUMIFS('SO Analysis'!G:G,'SO Analysis'!B:B,'Print Form'!C352,'SO Analysis'!D:D,'Print Form'!E352)","v":0}]
[null,"",null,null,null,{"$f":"SUMIFS('SO Analysis'!E:E,'SO Analysis'!B:B,'Print Form'!C353,'SO Analysis'!D:D,'Print Form'!E353)","v":0},{"$f":"SUMIFS('SO Analysis'!F:F,'SO Analysis'!B:B,'Print Form'!C353,'SO Analysis'!D:D,'Print Form'!E353)","v":0},{"$f":"SUMIFS('SO Analysis'!G:G,'SO Analysis'!B:B,'Print Form'!C353,'SO Analysis'!D:D,'Print Form'!E353)","v":0}]
[null,"",null,null,null,{"$f":"SUMIFS('SO Analysis'!E:E,'SO Analysis'!B:B,'Print Form'!C354,'SO Analysis'!D:D,'Print Form'!E354)","v":0},{"$f":"SUMIFS('SO Analysis'!F:F,'SO Analysis'!B:B,'Print Form'!C354,'SO Analysis'!D:D,'Print Form'!E354)","v":0},{"$f":"SUMIFS('SO Analysis'!G:G,'SO Analysis'!B:B,'Print Form'!C354,'SO Analysis'!D:D,'Print Form'!E354)","v":0}]
[null,"",null,null,null,{"$f":"SUMIFS('SO Analysis'!E:E,'SO Analysis'!B:B,'Print Form'!C355,'SO Analysis'!D:D,'Print Form'!E355)","v":0},{"$f":"SUMIFS('SO Analysis'!F:F,'SO Analysis'!B:B,'Print Form'!C355,'SO Analysis'!D:D,'Print Form'!E355)","v":0},{"$f":"SUMIFS('SO Analysis'!G:G,'SO Analysis'!B:B,'Print Form'!C355,'SO Analysis'!D:D,'Print Form'!E355)","v":0}]
[null,"",null,null,null,{"$f":"SUMIFS('SO Analysis'!E:E,'SO Analysis'!B:B,'Print Form'!C356,'SO Analysis'!D:D,'Print Form'!E356)","v":0},{"$f":"SUMIFS('SO Analysis'!F:F,'SO Analysis'!B:B,'Print Form'!C356,'SO Analysis'!D:D,'Print Form'!E356)","v":0},{"$f":"SUMIFS('SO Analysis'!G:G,'SO Analysis'!B:B,'Print Form'!C356,'SO Analysis'!D:D,'Print Form'!E356)","v":0}]
[null,"",null,null,null,{"$f":"SUMIFS('SO Analysis'!E:E,'SO Analysis'!B:B,'Print Form'!C357,'SO Analysis'!D:D,'Print Form'!E357)","v":0},{"$f":"SUMIFS('SO Analysis'!F:F,'SO Analysis'!B:B,'Print Form'!C357,'SO Analysis'!D:D,'Print Form'!E357)","v":0},{"$f":"SUMIFS('SO Analysis'!G:G,'SO Analysis'!B:B,'Print Form'!C357,'SO Analysis'!D:D,'Print Form'!E357)","v":0}]
[null,"",null,null,null,{"$f":"SUMIFS('SO Analysis'!E:E,'SO Analysis'!B:B,'Print Form'!C358,'SO Analysis'!D:D,'Print Form'!E358)","v":0},{"$f":"SUMIFS('SO Analysis'!F:F,'SO Analysis'!B:B,'Print Form'!C358,'SO Analysis'!D:D,'Print Form'!E358)","v":0},{"$f":"SUMIFS('SO Analysis'!G:G,'SO Analysis'!B:B,'Print Form'!C358,'SO Analysis'!D:D,'Print Form'!E358)","v":0}]
[null,"",null,null,null,{"$f":"SUMIFS('SO Analysis'!E:E,'SO Analysis'!B:B,'Print Form'!C359,'SO Analysis'!D:D,'Print Form'!E359)","v":0},{"$f":"SUMIFS('SO Analysis'!F:F,'SO Analysis'!B:B,'Print Form'!C359,'SO Analysis'!D:D,'Print Form'!E359)","v":0},{"$f":"SUMIFS('SO Analysis'!G:G,'SO Analysis'!B:B,'Print Form'!C359,'SO Analysis'!D:D,'Print Form'!E359)","v":0}]
[null,"",null,null,null,{"$f":"SUMIFS('SO Analysis'!E:E,'SO Analysis'!B:B,'Print Form'!C360,'SO Analysis'!D:D,'Print Form'!E360)","v":0},{"$f":"SUMIFS('SO Analysis'!F:F,'SO Analysis'!B:B,'Print Form'!C360,'SO Analysis'!D:D,'Print Form'!E360)","v":0},{"$f":"SUMIFS('SO Analysis'!G:G,'SO Analysis'!B:B,'Print Form'!C360,'SO Analysis'!D:D,'Print Form'!E360)","v":0}]
[null,"",null,null,null,{"$f":"SUMIFS('SO Analysis'!E:E,'SO Analysis'!B:B,'Print Form'!C361,'SO Analysis'!D:D,'Print Form'!E361)","v":0},{"$f":"SUMIFS('SO Analysis'!F:F,'SO Analysis'!B:B,'Print Form'!C361,'SO Analysis'!D:D,'Print Form'!E361)","v":0},{"$f":"SUMIFS('SO Analysis'!G:G,'SO Analysis'!B:B,'Print Form'!C361,'SO Analysis'!D:D,'Print Form'!E361)","v":0}]
[null,"",null,null,null,{"$f":"SUMIFS('SO Analysis'!E:E,'SO Analysis'!B:B,'Print Form'!C362,'SO Analysis'!D:D,'Print Form'!E362)","v":0},{"$f":"SUMIFS('SO Analysis'!F:F,'SO Analysis'!B:B,'Print Form'!C362,'SO Analysis'!D:D,'Print Form'!E362)","v":0},{"$f":"SUMIFS('SO Analysis'!G:G,'SO Analysis'!B:B,'Print Form'!C362,'SO Analysis'!D:D,'Print Form'!E362)","v":0}]
[null,"",null,null,null,{"$f":"SUMIFS('SO Analysis'!E:E,'SO Analysis'!B:B,'Print Form'!C363,'SO Analysis'!D:D,'Print Form'!E363)","v":0},{"$f":"SUMIFS('SO Analysis'!F:F,'SO Analysis'!B:B,'Print Form'!C363,'SO Analysis'!D:D,'Print Form'!E363)","v":0},{"$f":"SUMIFS('SO Analysis'!G:G,'SO Analysis'!B:B,'Print Form'!C363,'SO Analysis'!D:D,'Print Form'!E363)","v":0}]
[null,"",null,null,null,{"$f":"SUMIFS('SO Analysis'!E:E,'SO Analysis'!B:B,'Print Form'!C364,'SO Analysis'!D:D,'Print Form'!E364)","v":0},{"$f":"SUMIFS('SO Analysis'!F:F,'SO Analysis'!B:B,'Print Form'!C364,'SO Analysis'!D:D,'Print Form'!E364)","v":0},{"$f":"SUMIFS('SO Analysis'!G:G,'SO Analysis'!B:B,'Print Form'!C364,'SO Analysis'!D:D,'Print Form'!E364)","v":0}]
[null,"",null,null,null,{"$f":"SUMIFS('SO Analysis'!E:E,'SO Analysis'!B:B,'Print Form'!C365,'SO Analysis'!D:D,'Print Form'!E365)","v":0},{"$f":"SUMIFS('SO Analysis'!F:F,'SO Analysis'!B:B,'Print Form'!C365,'SO Analysis'!D:D,'Print Form'!E365)","v":0},{"$f":"SUMIFS('SO Analysis'!G:G,'SO Analysis'!B:B,'Print Form'!C365,'SO Analysis'!D:D,'Print Form'!E365)","v":0}]
[null,"",null,null,null,{"$f":"SUMIFS('SO Analysis'!E:E,'SO Analysis'!B:B,'Print Form'!C366,'SO Analysis'!D:D,'Print Form'!E366)","v":0},{"$f":"SUMIFS('SO Analysis'!F:F,'SO Analysis'!B:B,'Print Form'!C366,'SO Analysis'!D:D,'Print Form'!E366)","v":0},{"$f":"SUMIFS('SO Analysis'!G:G,'SO Analysis'!B:B,'Print Form'!C366,'SO Analysis'!D:D,'Print Form'!E366)","v":0}]
[null,"",null,null,null,{"$f":"SUMIFS('SO Analysis'!E:E,'SO Analysis'!B:B,'Print Form'!C367,'SO Analysis'!D:D,'Print Form'!E367)","v":0},{"$f":"SUMIFS('SO Analysis'!F:F,'SO Analysis'!B:B,'Print Form'!C367,'SO Analysis'!D:D,'Print Form'!E367)","v":0},{"$f":"SUMIFS('SO Analysis'!G:G,'SO Analysis'!B:B,'Print Form'!C367,'SO Analysis'!D:D,'Print Form'!E367)","v":0}]
[null,"",null,null,null,{"$f":"SUMIFS('SO Analysis'!E:E,'SO Analysis'!B:B,'Print Form'!C368,'SO Analysis'!D:D,'Print Form'!E368)","v":0},{"$f":"SUMIFS('SO Analysis'!F:F,'SO Analysis'!B:B,'Print Form'!C368,'SO Analysis'!D:D,'Print Form'!E368)","v":0},{"$f":"SUMIFS('SO Analysis'!G:G,'SO Analysis'!B:B,'Print Form'!C368,'SO Analysis'!D:D,'Print Form'!E368)","v":0}]
[null,"",null,null,null,{"$f":"SUMIFS('SO Analysis'!E:E,'SO Analysis'!B:B,'Print Form'!C369,'SO Analysis'!D:D,'Print Form'!E369)","v":0},{"$f":"SUMIFS('SO Analysis'!F:F,'SO Analysis'!B:B,'Print Form'!C369,'SO Analysis'!D:D,'Print Form'!E369)","v":0},{"$f":"SUMIFS('SO Analysis'!G:G,'SO Analysis'!B:B,'Print Form'!C369,'SO Analysis'!D:D,'Print Form'!E369)","v":0}]
[null,"",null,null,null,{"$f":"SUMIFS('SO Analysis'!E:E,'SO Analysis'!B:B,'Print Form'!C370,'SO Analysis'!D:D,'Print Form'!E370)","v":0},{"$f":"SUMIFS('SO Analysis'!F:F,'SO Analysis'!B:B,'Print Form'!C370,'SO Analysis'!D:D,'Print Form'!E370)","v":0},{"$f":"SUMIFS('SO Analysis'!G:G,'SO Analysis'!B:B,'Print Form'!C370,'SO Analysis'!D:D,'Print Form'!E370)","v":0}]
[null,"",null,null,null,{"$f":"SUMIFS('SO Analysis'!E:E,'SO Analysis'!B:B,'Print Form'!C371,'SO Analysis'!D:D,'Print Form'!E371)","v":0},{"$f":"SUMIFS('SO Analysis'!F:F,'SO Analysis'!B:B,'Print Form'!C371,'SO Analysis'!D:D,'Print Form'!E371)","v":0},{"$f":"SUMIFS('SO Analysis'!G:G,'SO Analysis'!B:B,'Print Form'!C371,'SO Analysis'!D:D,'Print Form'!E371)","v":0}]
[null,"",null,null,null,{"$f":"SUMIFS('SO Analysis'!E:E,'SO Analysis'!B:B,'Print Form'!C372,'SO Analysis'!D:D,'Print Form'!E372)","v":0},{"$f":"SUMIFS('SO Analysis'!F:F,'SO Analysis'!B:B,'Print Form'!C372,'SO Analysis'!D:D,'Print Form'!E372)","v":0},{"$f":"SUMIFS('SO Analysis'!G:G,'SO Analysis'!B:B,'Print Form'!C372,'SO Analysis'!D:D,'Print Form'!E372)","v":0}]
[null,"",null,null,null,{"$f":"SUMIFS('SO Analysis'!E:E,'SO Analysis'!B:B,'Print Form'!C373,'SO Analysis'!D:D,'Print Form'!E373)","v":0},{"$f":"SUMIFS('SO Analysis'!F:F,'SO Analysis'!B:B,'Print Form'!C373,'SO Analysis'!D:D,'Print Form'!E373)","v":0},{"$f":"SUMIFS('SO Analysis'!G:G,'SO Analysis'!B:B,'Print Form'!C373,'SO Analysis'!D:D,'Print Form'!E373)","v":0}]
[null,"",null,null,null,{"$f":"SUMIFS('SO Analysis'!E:E,'SO Analysis'!B:B,'Print Form'!C374,'SO Analysis'!D:D,'Print Form'!E374)","v":0},{"$f":"SUMIFS('SO Analysis'!F:F,'SO Analysis'!B:B,'Print Form'!C374,'SO Analysis'!D:D,'Print Form'!E374)","v":0},{"$f":"SUMIFS('SO Analysis'!G:G,'SO Analysis'!B:B,'Print Form'!C374,'SO Analysis'!D:D,'Print Form'!E374)","v":0}]
[null,"",null,null,null,{"$f":"SUMIFS('SO Analysis'!E:E,'SO Analysis'!B:B,'Print Form'!C375,'SO Analysis'!D:D,'Print Form'!E375)","v":0},{"$f":"SUMIFS('SO Analysis'!F:F,'SO Analysis'!B:B,'Print Form'!C375,'SO Analysis'!D:D,'Print Form'!E375)","v":0},{"$f":"SUMIFS('SO Analysis'!G:G,'SO Analysis'!B:B,'Print Form'!C375,'SO Analysis'!D:D,'Print Form'!E375)","v":0}]
[null,"",null,null,null,{"$f":"SUMIFS('SO Analysis'!E:E,'SO Analysis'!B:B,'Print Form'!C376,'SO Analysis'!D:D,'Print Form'!E376)","v":0},{"$f":"SUMIFS('SO Analysis'!F:F,'SO Analysis'!B:B,'Print Form'!C376,'SO Analysis'!D:D,'Print Form'!E376)","v":0},{"$f":"SUMIFS('SO Analysis'!G:G,'SO Analysis'!B:B,'Print Form'!C376,'SO Analysis'!D:D,'Print Form'!E376)","v":0}]
[null,"",null,null,null,{"$f":"SUMIFS('SO Analysis'!E:E,'SO Analysis'!B:B,'Print Form'!C377,'SO Analysis'!D:D,'Print Form'!E377)","v":0},{"$f":"SUMIFS('SO Analysis'!F:F,'SO Analysis'!B:B,'Print Form'!C377,'SO Analysis'!D:D,'Print Form'!E377)","v":0},{"$f":"SUMIFS('SO Analysis'!G:G,'SO Analysis'!B:B,'Print Form'!C377,'SO Analysis'!D:D,'Print Form'!E377)","v":0}]
[null,"",null,null,null,{"$f":"SUMIFS('SO Analysis'!E:E,'SO Analysis'!B:B,'Print Form'!C378,'SO Analysis'!D:D,'Print Form'!E378)","v":0},{"$f":"SUMIFS('SO Analysis'!F:F,'SO Analysis'!B:B,'Print Form'!C378,'SO Analysis'!D:D,'Print Form'!E378)","v":0},{"$f":"SUMIFS('SO Analysis'!G:G,'SO Analysis'!B:B,'Print Form'!C378,'SO Analysis'!D:D,'Print Form'!E378)","v":0}]
[null,"",null,null,null,{"$f":"SUMIFS('SO Analysis'!E:E,'SO Analysis'!B:B,'Print Form'!C379,'SO Analysis'!D:D,'Print Form'!E379)","v":0},{"$f":"SUMIFS('SO Analysis'!F:F,'SO Analysis'!B:B,'Print Form'!C379,'SO Analysis'!D:D,'Print Form'!E379)","v":0},{"$f":"SUMIFS('SO Analysis'!G:G,'SO Analysis'!B:B,'Print Form'!C379,'SO Analysis'!D:D,'Print Form'!E379)","v":0}]
[null,"",null,null,null,{"$f":"SUMIFS('SO Analysis'!E:E,'SO Analysis'!B:B,'Print Form'!C380,'SO Analysis'!D:D,'Print Form'!E380)","v":0},{"$f":"SUMIFS('SO Analysis'!F:F,'SO Analysis'!B:B,'Print Form'!C380,'SO Analysis'!D:D,'Print Form'!E380)","v":0},{"$f":"SUMIFS('SO Analysis'!G:G,'SO Analysis'!B:B,'Print Form'!C380,'SO Analysis'!D:D,'Print Form'!E380)","v":0}]
[null,"",null,null,null,{"$f":"SUMIFS('SO Analysis'!E:E,'SO Analysis'!B:B,'Print Form'!C381,'SO Analysis'!D:D,'Print Form'!E381)","v":0},{"$f":"SUMIFS('SO Analysis'!F:F,'SO Analysis'!B:B,'Print Form'!C381,'SO Analysis'!D:D,'Print Form'!E381)","v":0},{"$f":"SUMIFS('SO Analysis'!G:G,'SO Analysis'!B:B,'Print Form'!C381,'SO Analysis'!D:D,'Print Form'!E381)","v":0}]
[null,"",null,null,null,{"$f":"SUMIFS('SO Analysis'!E:E,'SO Analysis'!B:B,'Print Form'!C382,'SO Analysis'!D:D,'Print Form'!E382)","v":0},{"$f":"SUMIFS('SO Analysis'!F:F,'SO Analysis'!B:B,'Print Form'!C382,'SO Analysis'!D:D,'Print Form'!E382)","v":0},{"$f":"SUMIFS('SO Analysis'!G:G,'SO Analysis'!B:B,'Print Form'!C382,'SO Analysis'!D:D,'Print Form'!E382)","v":0}]
[null,"",null,null,null,{"$f":"SUMIFS('SO Analysis'!E:E,'SO Analysis'!B:B,'Print Form'!C383,'SO Analysis'!D:D,'Print Form'!E383)","v":0},{"$f":"SUMIFS('SO Analysis'!F:F,'SO Analysis'!B:B,'Print Form'!C383,'SO Analysis'!D:D,'Print Form'!E383)","v":0},{"$f":"SUMIFS('SO Analysis'!G:G,'SO Analysis'!B:B,'Print Form'!C383,'SO Analysis'!D:D,'Print Form'!E383)","v":0}]
[null,"",null,null,null,{"$f":"SUMIFS('SO Analysis'!E:E,'SO Analysis'!B:B,'Print Form'!C384,'SO Analysis'!D:D,'Print Form'!E384)","v":0},{"$f":"SUMIFS('SO Analysis'!F:F,'SO Analysis'!B:B,'Print Form'!C384,'SO Analysis'!D:D,'Print Form'!E384)","v":0},{"$f":"SUMIFS('SO Analysis'!G:G,'SO Analysis'!B:B,'Print Form'!C384,'SO Analysis'!D:D,'Print Form'!E384)","v":0}]
[null,"",null,null,null,{"$f":"SUMIFS('SO Analysis'!E:E,'SO Analysis'!B:B,'Print Form'!C385,'SO Analysis'!D:D,'Print Form'!E385)","v":0},{"$f":"SUMIFS('SO Analysis'!F:F,'SO Analysis'!B:B,'Print Form'!C385,'SO Analysis'!D:D,'Print Form'!E385)","v":0},{"$f":"SUMIFS('SO Analysis'!G:G,'SO Analysis'!B:B,'Print Form'!C385,'SO Analysis'!D:D,'Print Form'!E385)","v":0}]
[null,"",null,null,null,{"$f":"SUMIFS('SO Analysis'!E:E,'SO Analysis'!B:B,'Print Form'!C386,'SO Analysis'!D:D,'Print Form'!E386)","v":0},{"$f":"SUMIFS('SO Analysis'!F:F,'SO Analysis'!B:B,'Print Form'!C386,'SO Analysis'!D:D,'Print Form'!E386)","v":0},{"$f":"SUMIFS('SO Analysis'!G:G,'SO Analysis'!B:B,'Print Form'!C386,'SO Analysis'!D:D,'Print Form'!E386)","v":0}]
[null,"",null,null,null,{"$f":"SUMIFS('SO Analysis'!E:E,'SO Analysis'!B:B,'Print Form'!C387,'SO Analysis'!D:D,'Print Form'!E387)","v":0},{"$f":"SUMIFS('SO Analysis'!F:F,'SO Analysis'!B:B,'Print Form'!C387,'SO Analysis'!D:D,'Print Form'!E387)","v":0},{"$f":"SUMIFS('SO Analysis'!G:G,'SO Analysis'!B:B,'Print Form'!C387,'SO Analysis'!D:D,'Print Form'!E387)","v":0}]
[null,"",null,null,null,{"$f":"SUMIFS('SO Analysis'!E:E,'SO Analysis'!B:B,'Print Form'!C388,'SO Analysis'!D:D,'Print Form'!E388)","v":0},{"$f":"SUMIFS('SO Analysis'!F:F,'SO Analysis'!B:B,'Print Form'!C388,'SO Analysis'!D:D,'Print Form'!E388)","v":0},{"$f":"SUMIFS('SO Analysis'!G:G,'SO Analysis'!B:B,'Print Form'!C388,'SO Analysis'!D:D,'Print Form'!E388)","v":0}]
[null,"",null,null,null,{"$f":"SUMIFS('SO Analysis'!E:E,'SO Analysis'!B:B,'Print Form'!C389,'SO Analysis'!D:D,'Print Form'!E389)","v":0},{"$f":"SUMIFS('SO Analysis'!F:F,'SO Analysis'!B:B,'Print Form'!C389,'SO Analysis'!D:D,'Print Form'!E389)","v":0},{"$f":"SUMIFS('SO Analysis'!G:G,'SO Analysis'!B:B,'Print Form'!C389,'SO Analysis'!D:D,'Print Form'!E389)","v":0}]
[null,"",null,null,null,{"$f":"SUMIFS('SO Analysis'!E:E,'SO Analysis'!B:B,'Print Form'!C390,'SO Analysis'!D:D,'Print Form'!E390)","v":0},{"$f":"SUMIFS('SO Analysis'!F:F,'SO Analysis'!B:B,'Print Form'!C390,'SO Analysis'!D:D,'Print Form'!E390)","v":0},{"$f":"SUMIFS('SO Analysis'!G:G,'SO Analysis'!B:B,'Print Form'!C390,'SO Analysis'!D:D,'Print Form'!E390)","v":0}]
[null,"",null,null,null,{"$f":"SUMIFS('SO Analysis'!E:E,'SO Analysis'!B:B,'Print Form'!C391,'SO Analysis'!D:D,'Print Form'!E391)","v":0},{"$f":"SUMIFS('SO Analysis'!F:F,'SO Analysis'!B:B,'Print Form'!C391,'SO Analysis'!D:D,'Print Form'!E391)","v":0},{"$f":"SUMIFS('SO Analysis'!G:G,'SO Analysis'!B:B,'Print Form'!C391,'SO Analysis'!D:D,'Print Form'!E391)","v":0}]
[null,"",null,null,null,{"$f":"SUMIFS('SO Analysis'!E:E,'SO Analysis'!B:B,'Print Form'!C392,'SO Analysis'!D:D,'Print Form'!E392)","v":0},{"$f":"SUMIFS('SO Analysis'!F:F,'SO Analysis'!B:B,'Print Form'!C392,'SO Analysis'!D:D,'Print Form'!E392)","v":0},{"$f":"SUMIFS('SO Analysis'!G:G,'SO Analysis'!B:B,'Print Form'!C392,'SO Analysis'!D:D,'Print Form'!E392)","v":0}]
[null,"",null,null,null,{"$f":"SUMIFS('SO Analysis'!E:E,'SO Analysis'!B:B,'Print Form'!C393,'SO Analysis'!D:D,'Print Form'!E393)","v":0},{"$f":"SUMIFS('SO Analysis'!F:F,'SO Analysis'!B:B,'Print Form'!C393,'SO Analysis'!D:D,'Print Form'!E393)","v":0},{"$f":"SUMIFS('SO Analysis'!G:G,'SO Analysis'!B:B,'Print Form'!C393,'SO Analysis'!D:D,'Print Form'!E393)","v":0}]
[null,"",null,null,null,{"$f":"SUMIFS('SO Analysis'!E:E,'SO Analysis'!B:B,'Print Form'!C394,'SO Analysis'!D:D,'Print Form'!E394)","v":0},{"$f":"SUMIFS('SO Analysis'!F:F,'SO Analysis'!B:B,'Print Form'!C394,'SO Analysis'!D:D,'Print Form'!E394)","v":0},{"$f":"SUMIFS('SO Analysis'!G:G,'SO Analysis'!B:B,'Print Form'!C394,'SO Analysis'!D:D,'Print Form'!E394)","v":0}]
[null,"",null,null,null,{"$f":"SUMIFS('SO Analysis'!E:E,'SO Analysis'!B:B,'Print Form'!C395,'SO Analysis'!D:D,'Print Form'!E395)","v":0},{"$f":"SUMIFS('SO Analysis'!F:F,'SO Analysis'!B:B,'Print Form'!C395,'SO Analysis'!D:D,'Print Form'!E395)","v":0},{"$f":"SUMIFS('SO Analysis'!G:G,'SO Analysis'!B:B,'Print Form'!C395,'SO Analysis'!D:D,'Print Form'!E395)","v":0}]
[null,"",null,null,null,{"$f":"SUMIFS('SO Analysis'!E:E,'SO Analysis'!B:B,'Print Form'!C396,'SO Analysis'!D:D,'Print Form'!E396)","v":0},{"$f":"SUMIFS('SO Analysis'!F:F,'SO Analysis'!B:B,'Print Form'!C396,'SO Analysis'!D:D,'Print Form'!E396)","v":0},{"$f":"SUMIFS('SO Analysis'!G:G,'SO Analysis'!B:B,'Print Form'!C396,'SO Analysis'!D:D,'Print Form'!E396)","v":0}]
[null,"",null,null,null,{"$f":"SUMIFS('SO Analysis'!E:E,'SO Analysis'!B:B,'Print Form'!C397,'SO Analysis'!D:D,'Print Form'!E397)","v":0},{"$f":"SUMIFS('SO Analysis'!F:F,'SO Analysis'!B:B,'Print Form'!C397,'SO Analysis'!D:D,'Print Form'!E397)","v":0},{"$f":"SUMIFS('SO Analysis'!G:G,'SO Analysis'!B:B,'Print Form'!C397,'SO Analysis'!D:D,'Print Form'!E397)","v":0}]
[null,{"$f":"IF(C398=\"\",\"\",ROW()-12)","v":""},null,null,null,{"$f":"SUMIFS('SO Analysis'!E:E,'SO Analysis'!B:B,'Print Form'!C398,'SO Analysis'!D:D,'Print Form'!E398)","v":0},{"$f":"SUMIFS('SO Analysis'!F:F,'SO Analysis'!B:B,'Print Form'!C398,'SO Analysis'!D:D,'Print Form'!E398)","v":0},{"$f":"SUMIFS('SO Analysis'!G:G,'SO Analysis'!B:B,'Print Form'!C398,'SO Analysis'!D:D,'Print Form'!E398)","v":0}]
[null,"",null,null,null,{"$f":"SUMIFS('SO Analysis'!E:E,'SO Analysis'!B:B,'Print Form'!C399,'SO Analysis'!D:D,'Print Form'!E399)","v":0},{"$f":"SUMIFS('SO Analysis'!F:F,'SO Analysis'!B:B,'Print Form'!C399,'SO Analysis'!D:D,'Print Form'!E399)","v":0},{"$f":"SUMIFS('SO Analysis'!G:G,'SO Analysis'!B:B,'Print Form'!C399,'SO Analysis'!D:D,'Print Form'!E399)","v":0}]
[null,"",null,null,null,{"$f":"SUMIFS('SO Analysis'!E:E,'SO Analysis'!B:B,'Print Form'!C400,'SO Analysis'!D:D,'Print Form'!E400)","v":0},{"$f":"SUMIFS('SO Analysis'!F:F,'SO Analysis'!B:B,'Print Form'!C400,'SO Analysis'!D:D,'Print Form'!E400)","v":0},{"$f":"SUMIFS('SO Analysis'!G:G,'SO Analysis'!B:B,'Print Form'!C400,'SO Analysis'!D:D,'Print Form'!E400)","v":0}]
[null,"",null,null,null,{"$f":"SUMIFS('SO Analysis'!E:E,'SO Analysis'!B:B,'Print Form'!C401,'SO Analysis'!D:D,'Print Form'!E401)","v":0},{"$f":"SUMIFS('SO Analysis'!F:F,'SO Analysis'!B:B,'Print Form'!C401,'SO Analysis'!D:D,'Print Form'!E401)","v":0},{"$f":"SUMIFS('SO Analysis'!G:G,'SO Analysis'!B:B,'Print Form'!C401,'SO Analysis'!D:D,'Print Form'!E401)","v":0}]
[null,"",null,null,null,{"$f":"SUMIFS('SO Analysis'!E:E,'SO Analysis'!B:B,'Print Form'!C402,'SO Analysis'!D:D,'Print Form'!E402)","v":0},{"$f":"SUMIFS('SO Analysis'!F:F,'SO Analysis'!B:B,'Print Form'!C402,'SO Analysis'!D:D,'Print Form'!E402)","v":0},{"$f":"SUMIFS('SO Analysis'!G:G,'SO Analysis'!B:B,'Print Form'!C402,'SO Analysis'!D:D,'Print Form'!E402)","v":0}]
[null,"",null,null,null,{"$f":"SUMIFS('SO Analysis'!E:E,'SO Analysis'!B:B,'Print Form'!C403,'SO Analysis'!D:D,'Print Form'!E403)","v":0},{"$f":"SUMIFS('SO Analysis'!F:F,'SO Analysis'!B:B,'Print Form'!C403,'SO Analysis'!D:D,'Print Form'!E403)","v":0},{"$f":"SUMIFS('SO Analysis'!G:G,'SO Analysis'!B:B,'Print Form'!C403,'SO Analysis'!D:D,'Print Form'!E403)","v":0}]
[null,"",null,null,null,{"$f":"SUMIFS('SO Analysis'!E:E,'SO Analysis'!B:B,'Print Form'!C404,'SO Analysis'!D:D,'Print Form'!E404)","v":0},{"$f":"SUMIFS('SO Analysis'!F:F,'SO Analysis'!B:B,'Print Form'!C404,'SO Analysis'!D:D,'Print Form'!E404)","v":0},{"$f":"SUMIFS('SO Analysis'!G:G,'SO Analysis'!B:B,'Print Form'!C404,'SO Analysis'!D:D,'Print Form'!E404)","v":0}]
[null,"",null,null,null,{"$f":"SUMIFS('SO Analysis'!E:E,'SO Analysis'!B:B,'Print Form'!C405,'SO Analysis'!D:D,'Print Form'!E405)","v":0},{"$f":"SUMIFS('SO Analysis'!F:F,'SO Analysis'!B:B,'Print Form'!C405,'SO Analysis'!D:D,'Print Form'!E405)","v":0},{"$f":"SUMIFS('SO Analysis'!G:G,'SO Analysis'!B:B,'Print Form'!C405,'SO Analysis'!D:D,'Print Form'!E405)","v":0}]
[null,"",null,null,null,{"$f":"SUMIFS('SO Analysis'!E:E,'SO Analysis'!B:B,'Print Form'!C406,'SO Analysis'!D:D,'Print Form'!E406)","v":0},{"$f":"SUMIFS('SO Analysis'!F:F,'SO Analysis'!B:B,'Print Form'!C406,'SO Analysis'!D:D,'Print Form'!E406)","v":0},{"$f":"SUMIFS('SO Analysis'!G:G,'SO Analysis'!B:B,'Print Form'!C406,'SO Analysis'!D:D,'Print Form'!E406)","v":0}]
[null,"",null,null,null,{"$f":"SUMIFS('SO Analysis'!E:E,'SO Analysis'!B:B,'Print Form'!C407,'SO Analysis'!D:D,'Print Form'!E407)","v":0},{"$f":"SUMIFS('SO Analysis'!F:F,'SO Analysis'!B:B,'Print Form'!C407,'SO Analysis'!D:D,'Print Form'!E407)","v":0},{"$f":"SUMIFS('SO Analysis'!G:G,'SO Analysis'!B:B,'Print Form'!C407,'SO Analysis'!D:D,'Print Form'!E407)","v":0}]
[null,"",null,null,null,{"$f":"SUMIFS('SO Analysis'!E:E,'SO Analysis'!B:B,'Print Form'!C408,'SO Analysis'!D:D,'Print Form'!E408)","v":0},{"$f":"SUMIFS('SO Analysis'!F:F,'SO Analysis'!B:B,'Print Form'!C408,'SO Analysis'!D:D,'Print Form'!E408)","v":0},{"$f":"SUMIFS('SO Analysis'!G:G,'SO Analysis'!B:B,'Print Form'!C408,'SO Analysis'!D:D,'Print Form'!E408)","v":0}]
[null,"",null,null,null,{"$f":"SUMIFS('SO Analysis'!E:E,'SO Analysis'!B:B,'Print Form'!C409,'SO Analysis'!D:D,'Print Form'!E409)","v":0},{"$f":"SUMIFS('SO Analysis'!F:F,'SO Analysis'!B:B,'Print Form'!C409,'SO Analysis'!D:D,'Print Form'!E409)","v":0},{"$f":"SUMIFS('SO Analysis'!G:G,'SO Analysis'!B:B,'Print Form'!C409,'SO Analysis'!D:D,'Print Form'!E409)","v":0}]
[null,"",null,null,null,{"$f":"SUMIFS('SO Analysis'!E:E,'SO Analysis'!B:B,'Print Form'!C410,'SO Analysis'!D:D,'Print Form'!E410)","v":0},{"$f":"SUMIFS('SO Analysis'!F:F,'SO Analysis'!B:B,'Print Form'!C410,'SO Analysis'!D:D,'Print Form'!E410)","v":0},{"$f":"SUMIFS('SO Analysis'!G:G,'SO Analysis'!B:B,'Print Form'!C410,'SO Analysis'!D:D,'Print Form'!E410)","v":0}]
[null,"",null,null,null,{"$f":"SUMIFS('SO Analysis'!E:E,'SO Analysis'!B:B,'Print Form'!C411,'SO Analysis'!D:D,'Print Form'!E411)","v":0},{"$f":"SUMIFS('SO Analysis'!F:F,'SO Analysis'!B:B,'Print Form'!C411,'SO Analysis'!D:D,'Print Form'!E411)","v":0},{"$f":"SUMIFS('SO Analysis'!G:G,'SO Analysis'!B:B,'Print Form'!C411,'SO Analysis'!D:D,'Print Form'!E411)","v":0}]
[null,"",null,null,null,{"$f":"SUMIFS('SO Analysis'!E:E,'SO Analysis'!B:B,'Print Form'!C412,'SO Analysis'!D:D,'Print Form'!E412)","v":0},{"$f":"SUMIFS('SO Analysis'!F:F,'SO Analysis'!B:B,'Print Form'!C412,'SO Analysis'!D:D,'Print Form'!E412)","v":0},{"$f":"SUMIFS('SO Analysis'!G:G,'SO Analysis'!B:B,'Print Form'!C412,'SO Analysis'!D:D,'Print Form'!E412)","v":0}]
[null,"",null,null,null,{"$f":"SUMIFS('SO Analysis'!E:E,'SO Analysis'!B:B,'Print Form'!C413,'SO Analysis'!D:D,'Print Form'!E413)","v":0},{"$f":"SUMIFS('SO Analysis'!F:F,'SO Analysis'!B:B,'Print Form'!C413,'SO Analysis'!D:D,'Print Form'!E413)","v":0},{"$f":"SUMIFS('SO Analysis'!G:G,'SO Analysis'!B:B,'Print Form'!C413,'SO Analysis'!D:D,'Print Form'!E413)","v":0}]
[null,"",null,null,null,{"$f":"SUMIFS('SO Analysis'!E:E,'SO Analysis'!B:B,'Print Form'!C414,'SO Analysis'!D:D,'Print Form'!E414)","v":0},{"$f":"SUMIFS('SO Analysis'!F:F,'SO Analysis'!B:B,'Print Form'!C414,'SO Analysis'!D:D,'Print Form'!E414)","v":0},{"$f":"SUMIFS('SO Analysis'!G:G,'SO Analysis'!B:B,'Print Form'!C414,'SO Analysis'!D:D,'Print Form'!E414)","v":0}]
[null,"",null,null,null,{"$f":"SUMIFS('SO Analysis'!E:E,'SO Analysis'!B:B,'Print Form'!C415,'SO Analysis'!D:D,'Print Form'!E415)","v":0},{"$f":"SUMIFS('SO Analysis'!F:F,'SO Analysis'!B:B,'Print Form'!C415,'SO Analysis'!D:D,'Print Form'!E415)","v":0},{"$f":"SUMIFS('SO Analysis'!G:G,'SO Analysis'!B:B,'Print Form'!C415,'SO Analysis'!D:D,'Print Form'!E415)","v":0}]
[null,"",null,null,null,{"$f":"SUMIFS('SO Analysis'!E:E,'SO Analysis'!B:B,'Print Form'!C416,'SO Analysis'!D:D,'Print Form'!E416)","v":0},{"$f":"SUMIFS('SO Analysis'!F:F,'SO Analysis'!B:B,'Print Form'!C416,'SO Analysis'!D:D,'Print Form'!E416)","v":0},{"$f":"SUMIFS('SO Analysis'!G:G,'SO Analysis'!B:B,'Print Form'!C416,'SO Analysis'!D:D,'Print Form'!E416)","v":0}]
[null,"",null,null,null,{"$f":"SUMIFS('SO Analysis'!E:E,'SO Analysis'!B:B,'Print Form'!C417,'SO Analysis'!D:D,'Print Form'!E417)","v":0},{"$f":"SUMIFS('SO Analysis'!F:F,'SO Analysis'!B:B,'Print Form'!C417,'SO Analysis'!D:D,'Print Form'!E417)","v":0},{"$f":"SUMIFS('SO Analysis'!G:G,'SO Analysis'!B:B,'Print Form'!C417,'SO Analysis'!D:D,'Print Form'!E417)","v":0}]
[null,"",null,null,null,{"$f":"SUMIFS('SO Analysis'!E:E,'SO Analysis'!B:B,'Print Form'!C418,'SO Analysis'!D:D,'Print Form'!E418)","v":0},{"$f":"SUMIFS('SO Analysis'!F:F,'SO Analysis'!B:B,'Print Form'!C418,'SO Analysis'!D:D,'Print Form'!E418)","v":0},{"$f":"SUMIFS('SO Analysis'!G:G,'SO Analysis'!B:B,'Print Form'!C418,'SO Analysis'!D:D,'Print Form'!E418)","v":0}]
[null,"",null,null,null,{"$f":"SUMIFS('SO Analysis'!E:E,'SO Analysis'!B:B,'Print Form'!C419,'SO Analysis'!D:D,'Print Form'!E419)","v":0},{"$f":"SUMIFS('SO Analysis'!F:F,'SO Analysis'!B:B,'Print Form'!C419,'SO Analysis'!D:D,'Print Form'!E419)","v":0},{"$f":"SUMIFS('SO Analysis'!G:G,'SO Analysis'!B:B,'Print Form'!C419,'SO Analysis'!D:D,'Print Form'!E419)","v":0}]
[null,"",null,null,null,{"$f":"SUMIFS('SO Analysis'!E:E,'SO Analysis'!B:B,'Print Form'!C420,'SO Analysis'!D:D,'Print Form'!E420)","v":0},{"$f":"SUMIFS('SO Analysis'!F:F,'SO Analysis'!B:B,'Print Form'!C420,'SO Analysis'!D:D,'Print Form'!E420)","v":0},{"$f":"SUMIFS('SO Analysis'!G:G,'SO Analysis'!B:B,'Print Form'!C420,'SO Analysis'!D:D,'Print Form'!E420)","v":0}]
[null,"",null,null,null,{"$f":"SUMIFS('SO Analysis'!E:E,'SO Analysis'!B:B,'Print Form'!C421,'SO Analysis'!D:D,'Print Form'!E421)","v":0},{"$f":"SUMIFS('SO Analysis'!F:F,'SO Analysis'!B:B,'Print Form'!C421,'SO Analysis'!D:D,'Print Form'!E421)","v":0},{"$f":"SUMIFS('SO Analysis'!G:G,'SO Analysis'!B:B,'Print Form'!C421,'SO Analysis'!D:D,'Print Form'!E421)","v":0}]
[null,"",null,null,null,{"$f":"SUMIFS('SO Analysis'!E:E,'SO Analysis'!B:B,'Print Form'!C422,'SO Analysis'!D:D,'Print Form'!E422)","v":0},{"$f":"SUMIFS('SO Analysis'!F:F,'SO Analysis'!B:B,'Print Form'!C422,'SO Analysis'!D:D,'Print Form'!E422)","v":0},{"$f":"SUMIFS('SO Analysis'!G:G,'SO Analysis'!B:B,'Print Form'!C422,'SO Analysis'!D:D,'Print Form'!E422)","v":0}]
[null,"",null,null,null,{"$f":"SUMIFS('SO Analysis'!E:E,'SO Analysis'!B:B,'Print Form'!C423,'SO Analysis'!D:D,'Print Form'!E423)","v":0},{"$f":"SUMIFS('SO Analysis'!F:F,'SO Analysis'!B:B,'Print Form'!C423,'SO Analysis'!D:D,'Print Form'!E423)","v":0},{"$f":"SUMIFS('SO Analysis'!G:G,'SO Analysis'!B:B,'Print Form'!C423,'SO Analysis'!D:D,'Print Form'!E423)","v":0}]
[null,"",null,null,null,{"$f":"SUMIFS('SO Analysis'!E:E,'SO Analysis'!B:B,'Print Form'!C424,'SO Analysis'!D:D,'Print Form'!E424)","v":0},{"$f":"SUMIFS('SO Analysis'!F:F,'SO Analysis'!B:B,'Print Form'!C424,'SO Analysis'!D:D,'Print Form'!E424)","v":0},{"$f":"SUMIFS('SO Analysis'!G:G,'SO Analysis'!B:B,'Print Form'!C424,'SO Analysis'!D:D,'Print Form'!E424)","v":0}]
[null,"",null,null,null,{"$f":"SUMIFS('SO Analysis'!E:E,'SO Analysis'!B:B,'Print Form'!C425,'SO Analysis'!D:D,'Print Form'!E425)","v":0},{"$f":"SUMIFS('SO Analysis'!F:F,'SO Analysis'!B:B,'Print Form'!C425,'SO Analysis'!D:D,'Print Form'!E425)","v":0},{"$f":"SUMIFS('SO Analysis'!G:G,'SO Analysis'!B:B,'Print Form'!C425,'SO Analysis'!D:D,'Print Form'!E425)","v":0}]
[null,"",null,null,null,{"$f":"SUMIFS('SO Analysis'!E:E,'SO Analysis'!B:B,'Print Form'!C426,'SO Analysis'!D:D,'Print Form'!E426)","v":0},{"$f":"SUMIFS('SO Analysis'!F:F,'SO Analysis'!B:B,'Print Form'!C426,'SO Analysis'!D:D,'Print Form'!E426)","v":0},{"$f":"SUMIFS('SO Analysis'!G:G,'SO Analysis'!B:B,'Print Form'!C426,'SO Analysis'!D:D,'Print Form'!E426)","v":0}]
[null,"",null,null,null,{"$f":"SUMIFS('SO Analysis'!E:E,'SO Analysis'!B:B,'Print Form'!C427,'SO Analysis'!D:D,'Print Form'!E427)","v":0},{"$f":"SUMIFS('SO Analysis'!F:F,'SO Analysis'!B:B,'Print Form'!C427,'SO Analysis'!D:D,'Print Form'!E427)","v":0},{"$f":"SUMIFS('SO Analysis'!G:G,'SO Analysis'!B:B,'Print Form'!C427,'SO Analysis'!D:D,'Print Form'!E427)","v":0}]
[null,"",null,null,null,{"$f":"SUMIFS('SO Analysis'!E:E,'SO Analysis'!B:B,'Print Form'!C428,'SO Analysis'!D:D,'Print Form'!E428)","v":0},{"$f":"SUMIFS('SO Analysis'!F:F,'SO Analysis'!B:B,'Print Form'!C428,'SO Analysis'!D:D,'Print Form'!E428)","v":0},{"$f":"SUMIFS('SO Analysis'!G:G,'SO Analysis'!B:B,'Print Form'!C428,'SO Analysis'!D:D,'Print Form'!E428)","v":0}]
[null,"",null,null,null,{"$f":"SUMIFS('SO Analysis'!E:E,'SO Analysis'!B:B,'Print Form'!C429,'SO Analysis'!D:D,'Print Form'!E429)","v":0},{"$f":"SUMIFS('SO Analysis'!F:F,'SO Analysis'!B:B,'Print Form'!C429,'SO Analysis'!D:D,'Print Form'!E429)","v":0},{"$f":"SUMIFS('SO Analysis'!G:G,'SO Analysis'!B:B,'Print Form'!C429,'SO Analysis'!D:D,'Print Form'!E429)","v":0}]
[null,"",null,null,null,{"$f":"SUMIFS('SO Analysis'!E:E,'SO Analysis'!B:B,'Print Form'!C430,'SO Analysis'!D:D,'Print Form'!E430)","v":0},{"$f":"SUMIFS('SO Analysis'!F:F,'SO Analysis'!B:B,'Print Form'!C430,'SO Analysis'!D:D,'Print Form'!E430)","v":0},{"$f":"SUMIFS('SO Analysis'!G:G,'SO Analysis'!B:B,'Print Form'!C430,'SO Analysis'!D:D,'Print Form'!E430)","v":0}]
[null,"",null,null,null,{"$f":"SUMIFS('SO Analysis'!E:E,'SO Analysis'!B:B,'Print Form'!C431,'SO Analysis'!D:D,'Print Form'!E431)","v":0},{"$f":"SUMIFS('SO Analysis'!F:F,'SO Analysis'!B:B,'Print Form'!C431,'SO Analysis'!D:D,'Print Form'!E431)","v":0},{"$f":"SUMIFS('SO Analysis'!G:G,'SO Analysis'!B:B,'Print Form'!C431,'SO Analysis'!D:D,'Print Form'!E431)","v":0}]
[null,"",null,null,null,{"$f":"SUMIFS('SO Analysis'!E:E,'SO Analysis'!B:B,'Print Form'!C432,'SO Analysis'!D:D,'Print Form'!E432)","v":0},{"$f":"SUMIFS('SO Analysis'!F:F,'SO Analysis'!B:B,'Print Form'!C432,'SO Analysis'!D:D,'Print Form'!E432)","v":0},{"$f":"SUMIFS('SO Analysis'!G:G,'SO Analysis'!B:B,'Print Form'!C432,'SO Analysis'!D:D,'Print Form'!E432)","v":0}]
[null,"",null,null,null,{"$f":"SUMIFS('SO Analysis'!E:E,'SO Analysis'!B:B,'Print Form'!C433,'SO Analysis'!D:D,'Print Form'!E433)","v":0},{"$f":"SUMIFS('SO Analysis'!F:F,'SO Analysis'!B:B,'Print Form'!C433,'SO Analysis'!D:D,'Print Form'!E433)","v":0},{"$f":"SUMIFS('SO Analysis'!G:G,'SO Analysis'!B:B,'Print Form'!C433,'SO Analysis'!D:D,'Print Form'!E433)","v":0}]
[null,"",null,null,null,{"$f":"SUMIFS('SO Analysis'!E:E,'SO Analysis'!B:B,'Print Form'!C434,'SO Analysis'!D:D,'Print Form'!E434)","v":0},{"$f":"SUMIFS('SO Analysis'!F:F,'SO Analysis'!B:B,'Print Form'!C434,'SO Analysis'!D:D,'Print Form'!E434)","v":0},{"$f":"SUMIFS('SO Analysis'!G:G,'SO Analysis'!B:B,'Print Form'!C434,'SO Analysis'!D:D,'Print Form'!E434)","v":0}]
[null,"",null,null,null,{"$f":"SUMIFS('SO Analysis'!E:E,'SO Analysis'!B:B,'Print Form'!C435,'SO Analysis'!D:D,'Print Form'!E435)","v":0},{"$f":"SUMIFS('SO Analysis'!F:F,'SO Analysis'!B:B,'Print Form'!C435,'SO Analysis'!D:D,'Print Form'!E435)","v":0},{"$f":"SUMIFS('SO Analysis'!G:G,'SO Analysis'!B:B,'Print Form'!C435,'SO Analysis'!D:D,'Print Form'!E435)","v":0}]
[null,"",null,null,null,{"$f":"SUMIFS('SO Analysis'!E:E,'SO Analysis'!B:B,'Print Form'!C436,'SO Analysis'!D:D,'Print Form'!E436)","v":0},{"$f":"SUMIFS('SO Analysis'!F:F,'SO Analysis'!B:B,'Print Form'!C436,'SO Analysis'!D:D,'Print Form'!E436)","v":0},{"$f":"SUMIFS('SO Analysis'!G:G,'SO Analysis'!B:B,'Print Form'!C436,'SO Analysis'!D:D,'Print Form'!E436)","v":0}]
[null,"",null,null,null,{"$f":"SUMIFS('SO Analysis'!E:E,'SO Analysis'!B:B,'Print Form'!C437,'SO Analysis'!D:D,'Print Form'!E437)","v":0},{"$f":"SUMIFS('SO Analysis'!F:F,'SO Analysis'!B:B,'Print Form'!C437,'SO Analysis'!D:D,'Print Form'!E437)","v":0},{"$f":"SUMIFS('SO Analysis'!G:G,'SO Analysis'!B:B,'Print Form'!C437,'SO Analysis'!D:D,'Print Form'!E437)","v":0}]
[null,"",null,null,null,{"$f":"SUMIFS('SO Analysis'!E:E,'SO Analysis'!B:B,'Print Form'!C438,'SO Analysis'!D:D,'Print Form'!E438)","v":0},{"$f":"SUMIFS('SO Analysis'!F:F,'SO Analysis'!B:B,'Print Form'!C438,'SO Analysis'!D:D,'Print Form'!E438)","v":0},{"$f":"SUMIFS('SO Analysis'!G:G,'SO Analysis'!B:B,'Print Form'!C438,'SO Analysis'!D:D,'Print Form'!E438)","v":0}]
[null,"",null,null,null,{"$f":"SUMIFS('SO Analysis'!E:E,'SO Analysis'!B:B,'Print Form'!C439,'SO Analysis'!D:D,'Print Form'!E439)","v":0},{"$f":"SUMIFS('SO Analysis'!F:F,'SO Analysis'!B:B,'Print Form'!C439,'SO Analysis'!D:D,'Print Form'!E439)","v":0},{"$f":"SUMIFS('SO Analysis'!G:G,'SO Analysis'!B:B,'Print Form'!C439,'SO Analysis'!D:D,'Print Form'!E439)","v":0}]
[null,"",null,null,null,{"$f":"SUMIFS('SO Analysis'!E:E,'SO Analysis'!B:B,'Print Form'!C440,'SO Analysis'!D:D,'Print Form'!E440)","v":0},{"$f":"SUMIFS('SO Analysis'!F:F,'SO Analysis'!B:B,'Print Form'!C440,'SO Analysis'!D:D,'Print Form'!E440)","v":0},{"$f":"SUMIFS('SO Analysis'!G:G,'SO Analysis'!B:B,'Print Form'!C440,'SO Analysis'!D:D,'Print Form'!E440)","v":0}]
[null,"",null,null,null,{"$f":"SUMIFS('SO Analysis'!E:E,'SO Analysis'!B:B,'Print Form'!C441,'SO Analysis'!D:D,'Print Form'!E441)","v":0},{"$f":"SUMIFS('SO Analysis'!F:F,'SO Analysis'!B:B,'Print Form'!C441,'SO Analysis'!D:D,'Print Form'!E441)","v":0},{"$f":"SUMIFS('SO Analysis'!G:G,'SO Analysis'!B:B,'Print Form'!C441,'SO Analysis'!D:D,'Print Form'!E441)","v":0}]
[null,"",null,null,null,{"$f":"SUMIFS('SO Analysis'!E:E,'SO Analysis'!B:B,'Print Form'!C442,'SO Analysis'!D:D,'Print Form'!E442)","v":0},{"$f":"SUMIFS('SO Analysis'!F:F,'SO Analysis'!B:B,'Print Form'!C442,'SO Analysis'!D:D,'Print Form'!E442)","v":0},{"$f":"SUMIFS('SO Analysis'!G:G,'SO Analysis'!B:B,'Print Form'!C442,'SO Analysis'!D:D,'Print Form'!E442)","v":0}]
[null,"",null,null,null,{"$f":"SUMIFS('SO Analysis'!E:E,'SO Analysis'!B:B,'Print Form'!C443,'SO Analysis'!D:D,'Print Form'!E443)","v":0},{"$f":"SUMIFS('SO Analysis'!F:F,'SO Analysis'!B:B,'Print Form'!C443,'SO Analysis'!D:D,'Print Form'!E443)","v":0},{"$f":"SUMIFS('SO Analysis'!G:G,'SO Analysis'!B:B,'Print Form'!C443,'SO Analysis'!D:D,'Print Form'!E443)","v":0}]
[null,"",null,null,null,{"$f":"SUMIFS('SO Analysis'!E:E,'SO Analysis'!B:B,'Print Form'!C444,'SO Analysis'!D:D,'Print Form'!E444)","v":0},{"$f":"SUMIFS('SO Analysis'!F:F,'SO Analysis'!B:B,'Print Form'!C444,'SO Analysis'!D:D,'Print Form'!E444)","v":0},{"$f":"SUMIFS('SO Analysis'!G:G,'SO Analysis'!B:B,'Print Form'!C444,'SO Analysis'!D:D,'Print Form'!E444)","v":0}]
[null,"",null,null,null,{"$f":"SUMIFS('SO Analysis'!E:E,'SO Analysis'!B:B,'Print Form'!C445,'SO Analysis'!D:D,'Print Form'!E445)","v":0},{"$f":"SUMIFS('SO Analysis'!F:F,'SO Analysis'!B:B,'Print Form'!C445,'SO Analysis'!D:D,'Print Form'!E445)","v":0},{"$f":"SUMIFS('SO Analysis'!G:G,'SO Analysis'!B:B,'Print Form'!C445,'SO Analysis'!D:D,'Print Form'!E445)","v":0}]
[null,"",null,null,null,{"$f":"SUMIFS('SO Analysis'!E:E,'SO Analysis'!B:B,'Print Form'!C446,'SO Analysis'!D:D,'Print Form'!E446)","v":0},{"$f":"SUMIFS('SO Analysis'!F:F,'SO Analysis'!B:B,'Print Form'!C446,'SO Analysis'!D:D,'Print Form'!E446)","v":0},{"$f":"SUMIFS('SO Analysis'!G:G,'SO Analysis'!B:B,'Print Form'!C446,'SO Analysis'!D:D,'Print Form'!E446)","v":0}]
[null,"",null,null,null,{"$f":"SUMIFS('SO Analysis'!E:E,'SO Analysis'!B:B,'Print Form'!C447,'SO Analysis'!D:D,'Print Form'!E447)","v":0},{"$f":"SUMIFS('SO Analysis'!F:F,'SO Analysis'!B:B,'Print Form'!C447,'SO Analysis'!D:D,'Print Form'!E447)","v":0},{"$f":"SUMIFS('SO Analysis'!G:G,'SO Analysis'!B:B,'Print Form'!C447,'SO Analysis'!D:D,'Print Form'!E447)","v":0}]
[null,"",null,null,null,{"$f":"SUMIFS('SO Analysis'!E:E,'SO Analysis'!B:B,'Print Form'!C448,'SO Analysis'!D:D,'Print Form'!E448)","v":0},{"$f":"SUMIFS('SO Analysis'!F:F,'SO Analysis'!B:B,'Print Form'!C448,'SO Analysis'!D:D,'Print Form'!E448)","v":0},{"$f":"SUMIFS('SO Analysis'!G:G,'SO Analysis'!B:B,'Print Form'!C448,'SO Analysis'!D:D,'Print Form'!E448)","v":0}]
[null,"",null,null,null,{"$f":"SUMIFS('SO Analysis'!E:E,'SO Analysis'!B:B,'Print Form'!C449,'SO Analysis'!D:D,'Print Form'!E449)","v":0},{"$f":"SUMIFS('SO Analysis'!F:F,'SO Analysis'!B:B,'Print Form'!C449,'SO Analysis'!D:D,'Print Form'!E449)","v":0},{"$f":"SUMIFS('SO Analysis'!G:G,'SO Analysis'!B:B,'Print Form'!C449,'SO Analysis'!D:D,'Print Form'!E449)","v":0}]
[null,"",null,null,null,{"$f":"SUMIFS('SO Analysis'!E:E,'SO Analysis'!B:B,'Print Form'!C450,'SO Analysis'!D:D,'Print Form'!E450)","v":0},{"$f":"SUMIFS('SO Analysis'!F:F,'SO Analysis'!B:B,'Print Form'!C450,'SO Analysis'!D:D,'Print Form'!E450)","v":0},{"$f":"SUMIFS('SO Analysis'!G:G,'SO Analysis'!B:B,'Print Form'!C450,'SO Analysis'!D:D,'Print Form'!E450)","v":0}]
[null,"",null,null,null,{"$f":"SUMIFS('SO Analysis'!E:E,'SO Analysis'!B:B,'Print Form'!C451,'SO Analysis'!D:D,'Print Form'!E451)","v":0},{"$f":"SUMIFS('SO Analysis'!F:F,'SO Analysis'!B:B,'Print Form'!C451,'SO Analysis'!D:D,'Print Form'!E451)","v":0},{"$f":"SUMIFS('SO Analysis'!G:G,'SO Analysis'!B:B,'Print Form'!C451,'SO Analysis'!D:D,'Print Form'!E451)","v":0}]
[null,"",null,null,null,{"$f":"SUMIFS('SO Analysis'!E:E,'SO Analysis'!B:B,'Print Form'!C452,'SO Analysis'!D:D,'Print Form'!E452)","v":0},{"$f":"SUMIFS('SO Analysis'!F:F,'SO Analysis'!B:B,'Print Form'!C452,'SO Analysis'!D:D,'Print Form'!E452)","v":0},{"$f":"SUMIFS('SO Analysis'!G:G,'SO Analysis'!B:B,'Print Form'!C452,'SO Analysis'!D:D,'Print Form'!E452)","v":0}]
[null,"",null,null,null,{"$f":"SUMIFS('SO Analysis'!E:E,'SO Analysis'!B:B,'Print Form'!C453,'SO Analysis'!D:D,'Print Form'!E453)","v":0},{"$f":"SUMIFS('SO Analysis'!F:F,'SO Analysis'!B:B,'Print Form'!C453,'SO Analysis'!D:D,'Print Form'!E453)","v":0},{"$f":"SUMIFS('SO Analysis'!G:G,'SO Analysis'!B:B,'Print Form'!C453,'SO Analysis'!D:D,'Print Form'!E453)","v":0}]
[null,"",null,null,null,{"$f":"SUMIFS('SO Analysis'!E:E,'SO Analysis'!B:B,'Print Form'!C454,'SO Analysis'!D:D,'Print Form'!E454)","v":0},{"$f":"SUMIFS('SO Analysis'!F:F,'SO Analysis'!B:B,'Print Form'!C454,'SO Analysis'!D:D,'Print Form'!E454)","v":0},{"$f":"SUMIFS('SO Analysis'!G:G,'SO Analysis'!B:B,'Print Form'!C454,'SO Analysis'!D:D,'Print Form'!E454)","v":0}]
[null,"",null,null,null,{"$f":"SUMIFS('SO Analysis'!E:E,'SO Analysis'!B:B,'Print Form'!C455,'SO Analysis'!D:D,'Print Form'!E455)","v":0},{"$f":"SUMIFS('SO Analysis'!F:F,'SO Analysis'!B:B,'Print Form'!C455,'SO Analysis'!D:D,'Print Form'!E455)","v":0},{"$f":"SUMIFS('SO Analysis'!G:G,'SO Analysis'!B:B,'Print Form'!C455,'SO Analysis'!D:D,'Print Form'!E455)","v":0}]
[null,"",null,null,null,{"$f":"SUMIFS('SO Analysis'!E:E,'SO Analysis'!B:B,'Print Form'!C456,'SO Analysis'!D:D,'Print Form'!E456)","v":0},{"$f":"SUMIFS('SO Analysis'!F:F,'SO Analysis'!B:B,'Print Form'!C456,'SO Analysis'!D:D,'Print Form'!E456)","v":0},{"$f":"SUMIFS('SO Analysis'!G:G,'SO Analysis'!B:B,'Print Form'!C456,'SO Analysis'!D:D,'Print Form'!E456)","v":0}]
[null,"",null,null,null,{"$f":"SUMIFS('SO Analysis'!E:E,'SO Analysis'!B:B,'Print Form'!C457,'SO Analysis'!D:D,'Print Form'!E457)","v":0},{"$f":"SUMIFS('SO Analysis'!F:F,'SO Analysis'!B:B,'Print Form'!C457,'SO Analysis'!D:D,'Print Form'!E457)","v":0},{"$f":"SUMIFS('SO Analysis'!G:G,'SO Analysis'!B:B,'Print Form'!C457,'SO Analysis'!D:D,'Print Form'!E457)","v":0}]
[null,"",null,null,null,{"$f":"SUMIFS('SO Analysis'!E:E,'SO Analysis'!B:B,'Print Form'!C458,'SO Analysis'!D:D,'Print Form'!E458)","v":0},{"$f":"SUMIFS('SO Analysis'!F:F,'SO Analysis'!B:B,'Print Form'!C458,'SO Analysis'!D:D,'Print Form'!E458)","v":0},{"$f":"SUMIFS('SO Analysis'!G:G,'SO Analysis'!B:B,'Print Form'!C458,'SO Analysis'!D:D,'Print Form'!E458)","v":0}]
[null,"",null,null,null,{"$f":"SUMIFS('SO Analysis'!E:E,'SO Analysis'!B:B,'Print Form'!C459,'SO Analysis'!D:D,'Print Form'!E459)","v":0},{"$f":"SUMIFS('SO Analysis'!F:F,'SO Analysis'!B:B,'Print Form'!C459,'SO Analysis'!D:D,'Print Form'!E459)","v":0},{"$f":"SUMIFS('SO Analysis'!G:G,'SO Analysis'!B:B,'Print Form'!C459,'SO Analysis'!D:D,'Print Form'!E459)","v":0}]
[null,"",null,null,null,{"$f":"SUMIFS('SO Analysis'!E:E,'SO Analysis'!B:B,'Print Form'!C460,'SO Analysis'!D:D,'Print Form'!E460)","v":0},{"$f":"SUMIFS('SO Analysis'!F:F,'SO Analysis'!B:B,'Print Form'!C460,'SO Analysis'!D:D,'Print Form'!E460)","v":0},{"$f":"SUMIFS('SO Analysis'!G:G,'SO Analysis'!B:B,'Print Form'!C460,'SO Analysis'!D:D,'Print Form'!E460)","v":0}]
[null,"",null,null,null,{"$f":"SUMIFS('SO Analysis'!E:E,'SO Analysis'!B:B,'Print Form'!C461,'SO Analysis'!D:D,'Print Form'!E461)","v":0},{"$f":"SUMIFS('SO Analysis'!F:F,'SO Analysis'!B:B,'Print Form'!C461,'SO Analysis'!D:D,'Print Form'!E461)","v":0},{"$f":"SUMIFS('SO Analysis'!G:G,'SO Analysis'!B:B,'Print Form'!C461,'SO Analysis'!D:D,'Print Form'!E461)","v":0}]
[null,{"$f":"IF(C462=\"\",\"\",ROW()-12)","v":""},null,null,null,{"$f":"SUMIFS('SO Analysis'!E:E,'SO Analysis'!B:B,'Print Form'!C462,'SO Analysis'!D:D,'Print Form'!E462)","v":0},{"$f":"SUMIFS('SO Analysis'!F:F,'SO Analysis'!B:B,'Print Form'!C462,'SO Analysis'!D:D,'Print Form'!E462)","v":0},{"$f":"SUMIFS('SO Analysis'!G:G,'SO Analysis'!B:B,'Print Form'!C462,'SO Analysis'!D:D,'Print Form'!E462)","v":0}]
[null,"",null,null,null,{"$f":"SUMIFS('SO Analysis'!E:E,'SO Analysis'!B:B,'Print Form'!C463,'SO Analysis'!D:D,'Print Form'!E463)","v":0},{"$f":"SUMIFS('SO Analysis'!F:F,'SO Analysis'!B:B,'Print Form'!C463,'SO Analysis'!D:D,'Print Form'!E463)","v":0},{"$f":"SUMIFS('SO Analysis'!G:G,'SO Analysis'!B:B,'Print Form'!C463,'SO Analysis'!D:D,'Print Form'!E463)","v":0}]
[null,"",null,null,null,{"$f":"SUMIFS('SO Analysis'!E:E,'SO Analysis'!B:B,'Print Form'!C464,'SO Analysis'!D:D,'Print Form'!E464)","v":0},{"$f":"SUMIFS('SO Analysis'!F:F,'SO Analysis'!B:B,'Print Form'!C464,'SO Analysis'!D:D,'Print Form'!E464)","v":0},{"$f":"SUMIFS('SO Analysis'!G:G,'SO Analysis'!B:B,'Print Form'!C464,'SO Analysis'!D:D,'Print Form'!E464)","v":0}]
[null,"",null,null,null,{"$f":"SUMIFS('SO Analysis'!E:E,'SO Analysis'!B:B,'Print Form'!C465,'SO Analysis'!D:D,'Print Form'!E465)","v":0},{"$f":"SUMIFS('SO Analysis'!F:F,'SO Analysis'!B:B,'Print Form'!C465,'SO Analysis'!D:D,'Print Form'!E465)","v":0},{"$f":"SUMIFS('SO Analysis'!G:G,'SO Analysis'!B:B,'Print Form'!C465,'SO Analysis'!D:D,'Print Form'!E465)","v":0}]
[null,"",null,null,null,{"$f":"SUMIFS('SO Analysis'!E:E,'SO Analysis'!B:B,'Print Form'!C466,'SO Analysis'!D:D,'Print Form'!E466)","v":0},{"$f":"SUMIFS('SO Analysis'!F:F,'SO Analysis'!B:B,'Print Form'!C466,'SO Analysis'!D:D,'Print Form'!E466)","v":0},{"$f":"SUMIFS('SO Analysis'!G:G,'SO Analysis'!B:B,'Print Form'!C466,'SO Analysis'!D:D,'Print Form'!E466)","v":0}]
[null,"",null,null,null,{"$f":"SUMIFS('SO Analysis'!E:E,'SO Analysis'!B:B,'Print Form'!C467,'SO Analysis'!D:D,'Print Form'!E467)","v":0},{"$f":"SUMIFS('SO Analysis'!F:F,'SO Analysis'!B:B,'Print Form'!C467,'SO Analysis'!D:D,'Print Form'!E467)","v":0},{"$f":"SUMIFS('SO Analysis'!G:G,'SO Analysis'!B:B,'Print Form'!C467,'SO Analysis'!D:D,'Print Form'!E467)","v":0}]
[null,"",null,null,null,{"$f":"SUMIFS('SO Analysis'!E:E,'SO Analysis'!B:B,'Print Form'!C468,'SO Analysis'!D:D,'Print Form'!E468)","v":0},{"$f":"SUMIFS('SO Analysis'!F:F,'SO Analysis'!B:B,'Print Form'!C468,'SO Analysis'!D:D,'Print Form'!E468)","v":0},{"$f":"SUMIFS('SO Analysis'!G:G,'SO Analysis'!B:B,'Print Form'!C468,'SO Analysis'!D:D,'Print Form'!E468)","v":0}]
[null,"",null,null,null,{"$f":"SUMIFS('SO Analysis'!E:E,'SO Analysis'!B:B,'Print Form'!C469,'SO Analysis'!D:D,'Print Form'!E469)","v":0},{"$f":"SUMIFS('SO Analysis'!F:F,'SO Analysis'!B:B,'Print Form'!C469,'SO Analysis'!D:D,'Print Form'!E469)","v":0},{"$f":"SUMIFS('SO Analysis'!G:G,'SO Analysis'!B:B,'Print Form'!C469,'SO Analysis'!D:D,'Print Form'!E469)","v":0}]
[null,"",null,null,null,{"$f":"SUMIFS('SO Analysis'!E:E,'SO Analysis'!B:B,'Print Form'!C470,'SO Analysis'!D:D,'Print Form'!E470)","v":0},{"$f":"SUMIFS('SO Analysis'!F:F,'SO Analysis'!B:B,'Print Form'!C470,'SO Analysis'!D:D,'Print Form'!E470)","v":0},{"$f":"SUMIFS('SO Analysis'!G:G,'SO Analysis'!B:B,'Print Form'!C470,'SO Analysis'!D:D,'Print Form'!E470)","v":0}]
[null,"",null,null,null,{"$f":"SUMIFS('SO Analysis'!E:E,'SO Analysis'!B:B,'Print Form'!C471,'SO Analysis'!D:D,'Print Form'!E471)","v":0},{"$f":"SUMIFS('SO Analysis'!F:F,'SO Analysis'!B:B,'Print Form'!C471,'SO Analysis'!D:D,'Print Form'!E471)","v":0},{"$f":"SUMIFS('SO Analysis'!G:G,'SO Analysis'!B:B,'Print Form'!C471,'SO Analysis'!D:D,'Print Form'!E471)","v":0}]
[null,"",null,null,null,{"$f":"SUMIFS('SO Analysis'!E:E,'SO Analysis'!B:B,'Print Form'!C472,'SO Analysis'!D:D,'Print Form'!E472)","v":0},{"$f":"SUMIFS('SO Analysis'!F:F,'SO Analysis'!B:B,'Print Form'!C472,'SO Analysis'!D:D,'Print Form'!E472)","v":0},{"$f":"SUMIFS('SO Analysis'!G:G,'SO Analysis'!B:B,'Print Form'!C472,'SO Analysis'!D:D,'Print Form'!E472)","v":0}]
[null,"",null,null,null,{"$f":"SUMIFS('SO Analysis'!E:E,'SO Analysis'!B:B,'Print Form'!C473,'SO Analysis'!D:D,'Print Form'!E473)","v":0},{"$f":"SUMIFS('SO Analysis'!F:F,'SO Analysis'!B:B,'Print Form'!C473,'SO Analysis'!D:D,'Print Form'!E473)","v":0},{"$f":"SUMIFS('SO Analysis'!G:G,'SO Analysis'!B:B,'Print Form'!C473,'SO Analysis'!D:D,'Print Form'!E473)","v":0}]
[null,"",null,null,null,{"$f":"SUMIFS('SO Analysis'!E:E,'SO Analysis'!B:B,'Print Form'!C474,'SO Analysis'!D:D,'Print Form'!E474)","v":0},{"$f":"SUMIFS('SO Analysis'!F:F,'SO Analysis'!B:B,'Print Form'!C474,'SO Analysis'!D:D,'Print Form'!E474)","v":0},{"$f":"SUMIFS('SO Analysis'!G:G,'SO Analysis'!B:B,'Print Form'!C474,'SO Analysis'!D:D,'Print Form'!E474)","v":0}]
[null,"",null,null,null,{"$f":"SUMIFS('SO Analysis'!E:E,'SO Analysis'!B:B,'Print Form'!C475,'SO Analysis'!D:D,'Print Form'!E475)","v":0},{"$f":"SUMIFS('SO Analysis'!F:F,'SO Analysis'!B:B,'Print Form'!C475,'SO Analysis'!D:D,'Print Form'!E475)","v":0},{"$f":"SUMIFS('SO Analysis'!G:G,'SO Analysis'!B:B,'Print Form'!C475,'SO Analysis'!D:D,'Print Form'!E475)","v":0}]
[null,"",null,null,null,{"$f":"SUMIFS('SO Analysis'!E:E,'SO Analysis'!B:B,'Print Form'!C476,'SO Analysis'!D:D,'Print Form'!E476)","v":0},{"$f":"SUMIFS('SO Analysis'!F:F,'SO Analysis'!B:B,'Print Form'!C476,'SO Analysis'!D:D,'Print Form'!E476)","v":0},{"$f":"SUMIFS('SO Analysis'!G:G,'SO Analysis'!B:B,'Print Form'!C476,'SO Analysis'!D:D,'Print Form'!E476)","v":0}]
[null,"",null,null,null,{"$f":"SUMIFS('SO Analysis'!E:E,'SO Analysis'!B:B,'Print Form'!C477,'SO Analysis'!D:D,'Print Form'!E477)","v":0},{"$f":"SUMIFS('SO Analysis'!F:F,'SO Analysis'!B:B,'Print Form'!C477,'SO Analysis'!D:D,'Print Form'!E477)","v":0},{"$f":"SUMIFS('SO Analysis'!G:G,'SO Analysis'!B:B,'Print Form'!C477,'SO Analysis'!D:D,'Print Form'!E477)","v":0}]
[null,"",null,null,null,{"$f":"SUMIFS('SO Analysis'!E:E,'SO Analysis'!B:B,'Print Form'!C478,'SO Analysis'!D:D,'Print Form'!E478)","v":0},{"$f":"SUMIFS('SO Analysis'!F:F,'SO Analysis'!B:B,'Print Form'!C478,'SO Analysis'!D:D,'Print Form'!E478)","v":0},{"$f":"SUMIFS('SO Analysis'!G:G,'SO Analysis'!B:B,'Print Form'!C478,'SO Analysis'!D:D,'Print Form'!E478)","v":0}]
[null,"",null,null,null,{"$f":"SUMIFS('SO Analysis'!E:E,'SO Analysis'!B:B,'Print Form'!C479,'SO Analysis'!D:D,'Print Form'!E479)","v":0},{"$f":"SUMIFS('SO Analysis'!F:F,'SO Analysis'!B:B,'Print Form'!C479,'SO Analysis'!D:D,'Print Form'!E479)","v":0},{"$f":"SUMIFS('SO Analysis'!G:G,'SO Analysis'!B:B,'Print Form'!C479,'SO Analysis'!D:D,'Print Form'!E479)","v":0}]
[null,"",null,null,null,{"$f":"SUMIFS('SO Analysis'!E:E,'SO Analysis'!B:B,'Print Form'!C480,'SO Analysis'!D:D,'Print Form'!E480)","v":0},{"$f":"SUMIFS('SO Analysis'!F:F,'SO Analysis'!B:B,'Print Form'!C480,'SO Analysis'!D:D,'Print Form'!E480)","v":0},{"$f":"SUMIFS('SO Analysis'!G:G,'SO Analysis'!B:B,'Print Form'!C480,'SO Analysis'!D:D,'Print Form'!E480)","v":0}]
[null,"",null,null,null,{"$f":"SUMIFS('SO Analysis'!E:E,'SO Analysis'!B:B,'Print Form'!C481,'SO Analysis'!D:D,'Print Form'!E481)","v":0},{"$f":"SUMIFS('SO Analysis'!F:F,'SO Analysis'!B:B,'Print Form'!C481,'SO Analysis'!D:D,'Print Form'!E481)","v":0},{"$f":"SUMIFS('SO Analysis'!G:G,'SO Analysis'!B:B,'Print Form'!C481,'SO Analysis'!D:D,'Print Form'!E481)","v":0}]
[null,"",null,null,null,{"$f":"SUMIFS('SO Analysis'!E:E,'SO Analysis'!B:B,'Print Form'!C482,'SO Analysis'!D:D,'Print Form'!E482)","v":0},{"$f":"SUMIFS('SO Analysis'!F:F,'SO Analysis'!B:B,'Print Form'!C482,'SO Analysis'!D:D,'Print Form'!E482)","v":0},{"$f":"SUMIFS('SO Analysis'!G:G,'SO Analysis'!B:B,'Print Form'!C482,'SO Analysis'!D:D,'Print Form'!E482)","v":0}]
[null,"",null,null,null,{"$f":"SUMIFS('SO Analysis'!E:E,'SO Analysis'!B:B,'Print Form'!C483,'SO Analysis'!D:D,'Print Form'!E483)","v":0},{"$f":"SUMIFS('SO Analysis'!F:F,'SO Analysis'!B:B,'Print Form'!C483,'SO Analysis'!D:D,'Print Form'!E483)","v":0},{"$f":"SUMIFS('SO Analysis'!G:G,'SO Analysis'!B:B,'Print Form'!C483,'SO Analysis'!D:D,'Print Form'!E483)","v":0}]
[null,"",null,null,null,{"$f":"SUMIFS('SO Analysis'!E:E,'SO Analysis'!B:B,'Print Form'!C484,'SO Analysis'!D:D,'Print Form'!E484)","v":0},{"$f":"SUMIFS('SO Analysis'!F:F,'SO Analysis'!B:B,'Print Form'!C484,'SO Analysis'!D:D,'Print Form'!E484)","v":0},{"$f":"SUMIFS('SO Analysis'!G:G,'SO Analysis'!B:B,'Print Form'!C484,'SO Analysis'!D:D,'Print Form'!E484)","v":0}]
[null,"",null,null,null,{"$f":"SUMIFS('SO Analysis'!E:E,'SO Analysis'!B:B,'Print Form'!C485,'SO Analysis'!D:D,'Print Form'!E485)","v":0},{"$f":"SUMIFS('SO Analysis'!F:F,'SO Analysis'!B:B,'Print Form'!C485,'SO Analysis'!D:D,'Print Form'!E485)","v":0},{"$f":"SUMIFS('SO Analysis'!G:G,'SO Analysis'!B:B,'Print Form'!C485,'SO Analysis'!D:D,'Print Form'!E485)","v":0}]
[null,"",null,null,null,{"$f":"SUMIFS('SO Analysis'!E:E,'SO Analysis'!B:B,'Print Form'!C486,'SO Analysis'!D:D,'Print Form'!E486)","v":0},{"$f":"SUMIFS('SO Analysis'!F:F,'SO Analysis'!B:B,'Print Form'!C486,'SO Analysis'!D:D,'Print Form'!E486)","v":0},{"$f":"SUMIFS('SO Analysis'!G:G,'SO Analysis'!B:B,'Print Form'!C486,'SO Analysis'!D:D,'Print Form'!E486)","v":0}]
[null,"",null,null,null,{"$f":"SUMIFS('SO Analysis'!E:E,'SO Analysis'!B:B,'Print Form'!C487,'SO Analysis'!D:D,'Print Form'!E487)","v":0},{"$f":"SUMIFS('SO Analysis'!F:F,'SO Analysis'!B:B,'Print Form'!C487,'SO Analysis'!D:D,'Print Form'!E487)","v":0},{"$f":"SUMIFS('SO Analysis'!G:G,'SO Analysis'!B:B,'Print Form'!C487,'SO Analysis'!D:D,'Print Form'!E487)","v":0}]
[null,"",null,null,null,{"$f":"SUMIFS('SO Analysis'!E:E,'SO Analysis'!B:B,'Print Form'!C488,'SO Analysis'!D:D,'Print Form'!E488)","v":0},{"$f":"SUMIFS('SO Analysis'!F:F,'SO Analysis'!B:B,'Print Form'!C488,'SO Analysis'!D:D,'Print Form'!E488)","v":0},{"$f":"SUMIFS('SO Analysis'!G:G,'SO Analysis'!B:B,'Print Form'!C488,'SO Analysis'!D:D,'Print Form'!E488)","v":0}]
[null,"",null,null,null,{"$f":"SUMIFS('SO Analysis'!E:E,'SO Analysis'!B:B,'Print Form'!C489,'SO Analysis'!D:D,'Print Form'!E489)","v":0},{"$f":"SUMIFS('SO Analysis'!F:F,'SO Analysis'!B:B,'Print Form'!C489,'SO Analysis'!D:D,'Print Form'!E489)","v":0},{"$f":"SUMIFS('SO Analysis'!G:G,'SO Analysis'!B:B,'Print Form'!C489,'SO Analysis'!D:D,'Print Form'!E489)","v":0}]
[null,"",null,null,null,{"$f":"SUMIFS('SO Analysis'!E:E,'SO Analysis'!B:B,'Print Form'!C490,'SO Analysis'!D:D,'Print Form'!E490)","v":0},{"$f":"SUMIFS('SO Analysis'!F:F,'SO Analysis'!B:B,'Print Form'!C490,'SO Analysis'!D:D,'Print Form'!E490)","v":0},{"$f":"SUMIFS('SO Analysis'!G:G,'SO Analysis'!B:B,'Print Form'!C490,'SO Analysis'!D:D,'Print Form'!E490)","v":0}]
[null,"",null,null,null,{"$f":"SUMIFS('SO Analysis'!E:E,'SO Analysis'!B:B,'Print Form'!C491,'SO Analysis'!D:D,'Print Form'!E491)","v":0},{"$f":"SUMIFS('SO Analysis'!F:F,'SO Analysis'!B:B,'Print Form'!C491,'SO Analysis'!D:D,'Print Form'!E491)","v":0},{"$f":"SUMIFS('SO Analysis'!G:G,'SO Analysis'!B:B,'Print Form'!C491,'SO Analysis'!D:D,'Print Form'!E491)","v":0}]
[null,"",null,null,null,{"$f":"SUMIFS('SO Analysis'!E:E,'SO Analysis'!B:B,'Print Form'!C492,'SO Analysis'!D:D,'Print Form'!E492)","v":0},{"$f":"SUMIFS('SO Analysis'!F:F,'SO Analysis'!B:B,'Print Form'!C492,'SO Analysis'!D:D,'Print Form'!E492)","v":0},{"$f":"SUMIFS('SO Analysis'!G:G,'SO Analysis'!B:B,'Print Form'!C492,'SO Analysis'!D:D,'Print Form'!E492)","v":0}]
[null,"",null,null,null,{"$f":"SUMIFS('SO Analysis'!E:E,'SO Analysis'!B:B,'Print Form'!C493,'SO Analysis'!D:D,'Print Form'!E493)","v":0},{"$f":"SUMIFS('SO Analysis'!F:F,'SO Analysis'!B:B,'Print Form'!C493,'SO Analysis'!D:D,'Print Form'!E493)","v":0},{"$f":"SUMIFS('SO Analysis'!G:G,'SO Analysis'!B:B,'Print Form'!C493,'SO Analysis'!D:D,'Print Form'!E493)","v":0}]
[null,"",null,null,null,{"$f":"SUMIFS('SO Analysis'!E:E,'SO Analysis'!B:B,'Print Form'!C494,'SO Analysis'!D:D,'Print Form'!E494)","v":0},{"$f":"SUMIFS('SO Analysis'!F:F,'SO Analysis'!B:B,'Print Form'!C494,'SO Analysis'!D:D,'Print Form'!E494)","v":0},{"$f":"SUMIFS('SO Analysis'!G:G,'SO Analysis'!B:B,'Print Form'!C494,'SO Analysis'!D:D,'Print Form'!E494)","v":0}]
[null,"",null,null,null,{"$f":"SUMIFS('SO Analysis'!E:E,'SO Analysis'!B:B,'Print Form'!C495,'SO Analysis'!D:D,'Print Form'!E495)","v":0},{"$f":"SUMIFS('SO Analysis'!F:F,'SO Analysis'!B:B,'Print Form'!C495,'SO Analysis'!D:D,'Print Form'!E495)","v":0},{"$f":"SUMIFS('SO Analysis'!G:G,'SO Analysis'!B:B,'Print Form'!C495,'SO Analysis'!D:D,'Print Form'!E495)","v":0}]
[null,"",null,null,null,{"$f":"SUMIFS('SO Analysis'!E:E,'SO Analysis'!B:B,'Print Form'!C496,'SO Analysis'!D:D,'Print Form'!E496)","v":0},{"$f":"SUMIFS('SO Analysis'!F:F,'SO Analysis'!B:B,'Print Form'!C496,'SO Analysis'!D:D,'Print Form'!E496)","v":0},{"$f":"SUMIFS('SO Analysis'!G:G,'SO Analysis'!B:B,'Print Form'!C496,'SO Analysis'!D:D,'Print Form'!E496)","v":0}]
[null,"",null,null,null,{"$f":"SUMIFS('SO Analysis'!E:E,'SO Analysis'!B:B,'Print Form'!C497,'SO Analysis'!D:D,'Print Form'!E497)","v":0},{"$f":"SUMIFS('SO Analysis'!F:F,'SO Analysis'!B:B,'Print Form'!C497,'SO Analysis'!D:D,'Print Form'!E497)","v":0},{"$f":"SUMIFS('SO Analysis'!G:G,'SO Analysis'!B:B,'Print Form'!C497,'SO Analysis'!D:D,'Print Form'!E497)","v":0}]
[null,"",null,null,null,{"$f":"SUMIFS('SO Analysis'!E:E,'SO Analysis'!B:B,'Print Form'!C498,'SO Analysis'!D:D,'Print Form'!E498)","v":0},{"$f":"SUMIFS('SO Analysis'!F:F,'SO Analysis'!B:B,'Print Form'!C498,'SO Analysis'!D:D,'Print Form'!E498)","v":0},{"$f":"SUMIFS('SO Analysis'!G:G,'SO Analysis'!B:B,'Print Form'!C498,'SO Analysis'!D:D,'Print Form'!E498)","v":0}]
[null,"",null,null,null,{"$f":"SUMIFS('SO Analysis'!E:E,'SO Analysis'!B:B,'Print Form'!C499,'SO Analysis'!D:D,'Print Form'!E499)","v":0},{"$f":"SUMIFS('SO Analysis'!F:F,'SO Analysis'!B:B,'Print Form'!C499,'SO Analysis'!D:D,'Print Form'!E499)","v":0},{"$f":"SUMIFS('SO Analysis'!G:G,'SO Analysis'!B:B,'Print Form'!C499,'SO Analysis'!D:D,'Print Form'!E499)","v":0}]
[null,"",null,null,null,{"$f":"SUMIFS('SO Analysis'!E:E,'SO Analysis'!B:B,'Print Form'!C500,'SO Analysis'!D:D,'Print Form'!E500)","v":0},{"$f":"SUMIFS('SO Analysis'!F:F,'SO Analysis'!B:B,'Print Form'!C500,'SO Analysis'!D:D,'Print Form'!E500)","v":0},{"$f":"SUMIFS('SO Analysis'!G:G,'SO Analysis'!B:B,'Print Form'!C500,'SO Analysis'!D:D,'Print Form'!E500)","v":0}]
[null,"",null,null,null,{"$f":"SUMIFS('SO Analysis'!E:E,'SO Analysis'!B:B,'Print Form'!C501,'SO Analysis'!D:D,'Print Form'!E501)","v":0},{"$f":"SUMIFS('SO Analysis'!F:F,'SO Analysis'!B:B,'Print Form'!C501,'SO Analysis'!D:D,'Print Form'!E501)","v":0},{"$f":"SUMIFS('SO Analysis'!G:G,'SO Analysis'!B:B,'Print Form'!C501,'SO Analysis'!D:D,'Print Form'!E501)","v":0}]
[null,"",null,null,null,{"$f":"SUMIFS('SO Analysis'!E:E,'SO Analysis'!B:B,'Print Form'!C502,'SO Analysis'!D:D,'Print Form'!E502)","v":0},{"$f":"SUMIFS('SO Analysis'!F:F,'SO Analysis'!B:B,'Print Form'!C502,'SO Analysis'!D:D,'Print Form'!E502)","v":0},{"$f":"SUMIFS('SO Analysis'!G:G,'SO Analysis'!B:B,'Print Form'!C502,'SO Analysis'!D:D,'Print Form'!E502)","v":0}]
[null,"",null,null,null,{"$f":"SUMIFS('SO Analysis'!E:E,'SO Analysis'!B:B,'Print Form'!C503,'SO Analysis'!D:D,'Print Form'!E503)","v":0},{"$f":"SUMIFS('SO Analysis'!F:F,'SO Analysis'!B:B,'Print Form'!C503,'SO Analysis'!D:D,'Print Form'!E503)","v":0},{"$f":"SUMIFS('SO Analysis'!G:G,'SO Analysis'!B:B,'Print Form'!C503,'SO Analysis'!D:D,'Print Form'!E503)","v":0}]
[null,"",null,null,null,{"$f":"SUMIFS('SO Analysis'!E:E,'SO Analysis'!B:B,'Print Form'!C504,'SO Analysis'!D:D,'Print Form'!E504)","v":0},{"$f":"SUMIFS('SO Analysis'!F:F,'SO Analysis'!B:B,'Print Form'!C504,'SO Analysis'!D:D,'Print Form'!E504)","v":0},{"$f":"SUMIFS('SO Analysis'!G:G,'SO Analysis'!B:B,'Print Form'!C504,'SO Analysis'!D:D,'Print Form'!E504)","v":0}]
[null,"",null,null,null,{"$f":"SUMIFS('SO Analysis'!E:E,'SO Analysis'!B:B,'Print Form'!C505,'SO Analysis'!D:D,'Print Form'!E505)","v":0},{"$f":"SUMIFS('SO Analysis'!F:F,'SO Analysis'!B:B,'Print Form'!C505,'SO Analysis'!D:D,'Print Form'!E505)","v":0},{"$f":"SUMIFS('SO Analysis'!G:G,'SO Analysis'!B:B,'Print Form'!C505,'SO Analysis'!D:D,'Print Form'!E505)","v":0}]
[null,"",null,null,null,{"$f":"SUMIFS('SO Analysis'!E:E,'SO Analysis'!B:B,'Print Form'!C506,'SO Analysis'!D:D,'Print Form'!E506)","v":0},{"$f":"SUMIFS('SO Analysis'!F:F,'SO Analysis'!B:B,'Print Form'!C506,'SO Analysis'!D:D,'Print Form'!E506)","v":0},{"$f":"SUMIFS('SO Analysis'!G:G,'SO Analysis'!B:B,'Print Form'!C506,'SO Analysis'!D:D,'Print Form'!E506)","v":0}]
[null,"",null,null,null,{"$f":"SUMIFS('SO Analysis'!E:E,'SO Analysis'!B:B,'Print Form'!C507,'SO Analysis'!D:D,'Print Form'!E507)","v":0},{"$f":"SUMIFS('SO Analysis'!F:F,'SO Analysis'!B:B,'Print Form'!C507,'SO Analysis'!D:D,'Print Form'!E507)","v":0},{"$f":"SUMIFS('SO Analysis'!G:G,'SO Analysis'!B:B,'Print Form'!C507,'SO Analysis'!D:D,'Print Form'!E507)","v":0}]
[null,"",null,null,null,{"$f":"SUMIFS('SO Analysis'!E:E,'SO Analysis'!B:B,'Print Form'!C508,'SO Analysis'!D:D,'Print Form'!E508)","v":0},{"$f":"SUMIFS('SO Analysis'!F:F,'SO Analysis'!B:B,'Print Form'!C508,'SO Analysis'!D:D,'Print Form'!E508)","v":0},{"$f":"SUMIFS('SO Analysis'!G:G,'SO Analysis'!B:B,'Print Form'!C508,'SO Analysis'!D:D,'Print Form'!E508)","v":0}]
[null,"",null,null,null,{"$f":"SUMIFS('SO Analysis'!E:E,'SO Analysis'!B:B,'Print Form'!C509,'SO Analysis'!D:D,'Print Form'!E509)","v":0},{"$f":"SUMIFS('SO Analysis'!F:F,'SO Analysis'!B:B,'Print Form'!C509,'SO Analysis'!D:D,'Print Form'!E509)","v":0},{"$f":"SUMIFS('SO Analysis'!G:G,'SO Analysis'!B:B,'Print Form'!C509,'SO Analysis'!D:D,'Print Form'!E509)","v":0}]
[null,"",null,null,null,{"$f":"SUMIFS('SO Analysis'!E:E,'SO Analysis'!B:B,'Print Form'!C510,'SO Analysis'!D:D,'Print Form'!E510)","v":0},{"$f":"SUMIFS('SO Analysis'!F:F,'SO Analysis'!B:B,'Print Form'!C510,'SO Analysis'!D:D,'Print Form'!E510)","v":0},{"$f":"SUMIFS('SO Analysis'!G:G,'SO Analysis'!B:B,'Print Form'!C510,'SO Analysis'!D:D,'Print Form'!E510)","v":0}]
[null,"",null,null,null,{"$f":"SUMIFS('SO Analysis'!E:E,'SO Analysis'!B:B,'Print Form'!C511,'SO Analysis'!D:D,'Print Form'!E511)","v":0},{"$f":"SUMIFS('SO Analysis'!F:F,'SO Analysis'!B:B,'Print Form'!C511,'SO Analysis'!D:D,'Print Form'!E511)","v":0},{"$f":"SUMIFS('SO Analysis'!G:G,'SO Analysis'!B:B,'Print Form'!C511,'SO Analysis'!D:D,'Print Form'!E511)","v":0}]
[null,"",null,null,null,{"$f":"SUMIFS('SO Analysis'!E:E,'SO Analysis'!B:B,'Print Form'!C512,'SO Analysis'!D:D,'Print Form'!E512)","v":0},{"$f":"SUMIFS('SO Analysis'!F:F,'SO Analysis'!B:B,'Print Form'!C512,'SO Analysis'!D:D,'Print Form'!E512)","v":0},{"$f":"SUMIFS('SO Analysis'!G:G,'SO Analysis'!B:B,'Print Form'!C512,'SO Analysis'!D:D,'Print Form'!E512)","v":0}]
[null,"",null,null,null,{"$f":"SUMIFS('SO Analysis'!E:E,'SO Analysis'!B:B,'Print Form'!C513,'SO Analysis'!D:D,'Print Form'!E513)","v":0},{"$f":"SUMIFS('SO Analysis'!F:F,'SO Analysis'!B:B,'Print Form'!C513,'SO Analysis'!D:D,'Print Form'!E513)","v":0},{"$f":"SUMIFS('SO Analysis'!G:G,'SO Analysis'!B:B,'Print Form'!C513,'SO Analysis'!D:D,'Print Form'!E513)","v":0}]
[null,"",null,null,null,{"$f":"SUMIFS('SO Analysis'!E:E,'SO Analysis'!B:B,'Print Form'!C514,'SO Analysis'!D:D,'Print Form'!E514)","v":0},{"$f":"SUMIFS('SO Analysis'!F:F,'SO Analysis'!B:B,'Print Form'!C514,'SO Analysis'!D:D,'Print Form'!E514)","v":0},{"$f":"SUMIFS('SO Analysis'!G:G,'SO Analysis'!B:B,'Print Form'!C514,'SO Analysis'!D:D,'Print Form'!E514)","v":0}]
[null,"",null,null,null,{"$f":"SUMIFS('SO Analysis'!E:E,'SO Analysis'!B:B,'Print Form'!C515,'SO Analysis'!D:D,'Print Form'!E515)","v":0},{"$f":"SUMIFS('SO Analysis'!F:F,'SO Analysis'!B:B,'Print Form'!C515,'SO Analysis'!D:D,'Print Form'!E515)","v":0},{"$f":"SUMIFS('SO Analysis'!G:G,'SO Analysis'!B:B,'Print Form'!C515,'SO Analysis'!D:D,'Print Form'!E515)","v":0}]
[null,"",null,null,null,{"$f":"SUMIFS('SO Analysis'!E:E,'SO Analysis'!B:B,'Print Form'!C516,'SO Analysis'!D:D,'Print Form'!E516)","v":0},{"$f":"SUMIFS('SO Analysis'!F:F,'SO Analysis'!B:B,'Print Form'!C516,'SO Analysis'!D:D,'Print Form'!E516)","v":0},{"$f":"SUMIFS('SO Analysis'!G:G,'SO Analysis'!B:B,'Print Form'!C516,'SO Analysis'!D:D,'Print Form'!E516)","v":0}]
[null,"",null,null,null,{"$f":"SUMIFS('SO Analysis'!E:E,'SO Analysis'!B:B,'Print Form'!C517,'SO Analysis'!D:D,'Print Form'!E517)","v":0},{"$f":"SUMIFS('SO Analysis'!F:F,'SO Analysis'!B:B,'Print Form'!C517,'SO Analysis'!D:D,'Print Form'!E517)","v":0},{"$f":"SUMIFS('SO Analysis'!G:G,'SO Analysis'!B:B,'Print Form'!C517,'SO Analysis'!D:D,'Print Form'!E517)","v":0}]
[null,"",null,null,null,{"$f":"SUMIFS('SO Analysis'!E:E,'SO Analysis'!B:B,'Print Form'!C518,'SO Analysis'!D:D,'Print Form'!E518)","v":0},{"$f":"SUMIFS('SO Analysis'!F:F,'SO Analysis'!B:B,'Print Form'!C518,'SO Analysis'!D:D,'Print Form'!E518)","v":0},{"$f":"SUMIFS('SO Analysis'!G:G,'SO Analysis'!B:B,'Print Form'!C518,'SO Analysis'!D:D,'Print Form'!E518)","v":0}]
[null,"",null,null,null,{"$f":"SUMIFS('SO Analysis'!E:E,'SO Analysis'!B:B,'Print Form'!C519,'SO Analysis'!D:D,'Print Form'!E519)","v":0},{"$f":"SUMIFS('SO Analysis'!F:F,'SO Analysis'!B:B,'Print Form'!C519,'SO Analysis'!D:D,'Print Form'!E519)","v":0},{"$f":"SUMIFS('SO Analysis'!G:G,'SO Analysis'!B:B,'Print Form'!C519,'SO Analysis'!D:D,'Print Form'!E519)","v":0}]
[null,"",null,null,null,{"$f":"SUMIFS('SO Analysis'!E:E,'SO Analysis'!B:B,'Print Form'!C520,'SO Analysis'!D:D,'Print Form'!E520)","v":0},{"$f":"SUMIFS('SO Analysis'!F:F,'SO Analysis'!B:B,'Print Form'!C520,'SO Analysis'!D:D,'Print Form'!E520)","v":0},{"$f":"SUMIFS('SO Analysis'!G:G,'SO Analysis'!B:B,'Print Form'!C520,'SO Analysis'!D:D,'Print Form'!E520)","v":0}]
[null,"",null,null,null,{"$f":"SUMIFS('SO Analysis'!E:E,'SO Analysis'!B:B,'Print Form'!C521,'SO Analysis'!D:D,'Print Form'!E521)","v":0},{"$f":"SUMIFS('SO Analysis'!F:F,'SO Analysis'!B:B,'Print Form'!C521,'SO Analysis'!D:D,'Print Form'!E521)","v":0},{"$f":"SUMIFS('SO Analysis'!G:G,'SO Analysis'!B:B,'Print Form'!C521,'SO Analysis'!D:D,'Print Form'!E521)","v":0}]
[null,"",null,null,null,{"$f":"SUMIFS('SO Analysis'!E:E,'SO Analysis'!B:B,'Print Form'!C522,'SO Analysis'!D:D,'Print Form'!E522)","v":0},{"$f":"SUMIFS('SO Analysis'!F:F,'SO Analysis'!B:B,'Print Form'!C522,'SO Analysis'!D:D,'Print Form'!E522)","v":0},{"$f":"SUMIFS('SO Analysis'!G:G,'SO Analysis'!B:B,'Print Form'!C522,'SO Analysis'!D:D,'Print Form'!E522)","v":0}]
[null,"",null,null,null,{"$f":"SUMIFS('SO Analysis'!E:E,'SO Analysis'!B:B,'Print Form'!C523,'SO Analysis'!D:D,'Print Form'!E523)","v":0},{"$f":"SUMIFS('SO Analysis'!F:F,'SO Analysis'!B:B,'Print Form'!C523,'SO Analysis'!D:D,'Print Form'!E523)","v":0},{"$f":"SUMIFS('SO Analysis'!G:G,'SO Analysis'!B:B,'Print Form'!C523,'SO Analysis'!D:D,'Print Form'!E523)","v":0}]
[null,"",null,null,null,{"$f":"SUMIFS('SO Analysis'!E:E,'SO Analysis'!B:B,'Print Form'!C524,'SO Analysis'!D:D,'Print Form'!E524)","v":0},{"$f":"SUMIFS('SO Analysis'!F:F,'SO Analysis'!B:B,'Print Form'!C524,'SO Analysis'!D:D,'Print Form'!E524)","v":0},{"$f":"SUMIFS('SO Analysis'!G:G,'SO Analysis'!B:B,'Print Form'!C524,'SO Analysis'!D:D,'Print Form'!E524)","v":0}]
[null,"",null,null,null,{"$f":"SUMIFS('SO Analysis'!E:E,'SO Analysis'!B:B,'Print Form'!C525,'SO Analysis'!D:D,'Print Form'!E525)","v":0},{"$f":"SUMIFS('SO Analysis'!F:F,'SO Analysis'!B:B,'Print Form'!C525,'SO Analysis'!D:D,'Print Form'!E525)","v":0},{"$f":"SUMIFS('SO Analysis'!G:G,'SO Analysis'!B:B,'Print Form'!C525,'SO Analysis'!D:D,'Print Form'!E525)","v":0}]
[null,{"$f":"IF(C526=\"\",\"\",ROW()-12)","v":""},null,null,null,{"$f":"SUMIFS('SO Analysis'!E:E,'SO Analysis'!B:B,'Print Form'!C526,'SO Analysis'!D:D,'Print Form'!E526)","v":0},{"$f":"SUMIFS('SO Analysis'!F:F,'SO Analysis'!B:B,'Print Form'!C526,'SO Analysis'!D:D,'Print Form'!E526)","v":0},{"$f":"SUMIFS('SO Analysis'!G:G,'SO Analysis'!B:B,'Print Form'!C526,'SO Analysis'!D:D,'Print Form'!E526)","v":0}]
[null,"",null,null,null,{"$f":"SUMIFS('SO Analysis'!E:E,'SO Analysis'!B:B,'Print Form'!C527,'SO Analysis'!D:D,'Print Form'!E527)","v":0},{"$f":"SUMIFS('SO Analysis'!F:F,'SO Analysis'!B:B,'Print Form'!C527,'SO Analysis'!D:D,'Print Form'!E527)","v":0},{"$f":"SUMIFS('SO Analysis'!G:G,'SO Analysis'!B:B,'Print Form'!C527,'SO Analysis'!D:D,'Print Form'!E527)","v":0}]
[null,"",null,null,null,{"$f":"SUMIFS('SO Analysis'!E:E,'SO Analysis'!B:B,'Print Form'!C528,'SO Analysis'!D:D,'Print Form'!E528)","v":0},{"$f":"SUMIFS('SO Analysis'!F:F,'SO Analysis'!B:B,'Print Form'!C528,'SO Analysis'!D:D,'Print Form'!E528)","v":0},{"$f":"SUMIFS('SO Analysis'!G:G,'SO Analysis'!B:B,'Print Form'!C528,'SO Analysis'!D:D,'Print Form'!E528)","v":0}]
[null,"",null,null,null,{"$f":"SUMIFS('SO Analysis'!E:E,'SO Analysis'!B:B,'Print Form'!C529,'SO Analysis'!D:D,'Print Form'!E529)","v":0},{"$f":"SUMIFS('SO Analysis'!F:F,'SO Analysis'!B:B,'Print Form'!C529,'SO Analysis'!D:D,'Print Form'!E529)","v":0},{"$f":"SUMIFS('SO Analysis'!G:G,'SO Analysis'!B:B,'Print Form'!C529,'SO Analysis'!D:D,'Print Form'!E529)","v":0}]
[null,"",null,null,null,{"$f":"SUMIFS('SO Analysis'!E:E,'SO Analysis'!B:B,'Print Form'!C530,'SO Analysis'!D:D,'Print Form'!E530)","v":0},{"$f":"SUMIFS('SO Analysis'!F:F,'SO Analysis'!B:B,'Print Form'!C530,'SO Analysis'!D:D,'Print Form'!E530)","v":0},{"$f":"SUMIFS('SO Analysis'!G:G,'SO Analysis'!B:B,'Print Form'!C530,'SO Analysis'!D:D,'Print Form'!E530)","v":0}]
[null,"",null,null,null,{"$f":"SUMIFS('SO Analysis'!E:E,'SO Analysis'!B:B,'Print Form'!C531,'SO Analysis'!D:D,'Print Form'!E531)","v":0},{"$f":"SUMIFS('SO Analysis'!F:F,'SO Analysis'!B:B,'Print Form'!C531,'SO Analysis'!D:D,'Print Form'!E531)","v":0},{"$f":"SUMIFS('SO Analysis'!G:G,'SO Analysis'!B:B,'Print Form'!C531,'SO Analysis'!D:D,'Print Form'!E531)","v":0}]
[null,"",null,null,null,{"$f":"SUMIFS('SO Analysis'!E:E,'SO Analysis'!B:B,'Print Form'!C532,'SO Analysis'!D:D,'Print Form'!E532)","v":0},{"$f":"SUMIFS('SO Analysis'!F:F,'SO Analysis'!B:B,'Print Form'!C532,'SO Analysis'!D:D,'Print Form'!E532)","v":0},{"$f":"SUMIFS('SO Analysis'!G:G,'SO Analysis'!B:B,'Print Form'!C532,'SO Analysis'!D:D,'Print Form'!E532)","v":0}]
[null,"",null,null,null,{"$f":"SUMIFS('SO Analysis'!E:E,'SO Analysis'!B:B,'Print Form'!C533,'SO Analysis'!D:D,'Print Form'!E533)","v":0},{"$f":"SUMIFS('SO Analysis'!F:F,'SO Analysis'!B:B,'Print Form'!C533,'SO Analysis'!D:D,'Print Form'!E533)","v":0},{"$f":"SUMIFS('SO Analysis'!G:G,'SO Analysis'!B:B,'Print Form'!C533,'SO Analysis'!D:D,'Print Form'!E533)","v":0}]
[null,"",null,null,null,{"$f":"SUMIFS('SO Analysis'!E:E,'SO Analysis'!B:B,'Print Form'!C534,'SO Analysis'!D:D,'Print Form'!E534)","v":0},{"$f":"SUMIFS('SO Analysis'!F:F,'SO Analysis'!B:B,'Print Form'!C534,'SO Analysis'!D:D,'Print Form'!E534)","v":0},{"$f":"SUMIFS('SO Analysis'!G:G,'SO Analysis'!B:B,'Print Form'!C534,'SO Analysis'!D:D,'Print Form'!E534)","v":0}]
[null,"",null,null,null,{"$f":"SUMIFS('SO Analysis'!E:E,'SO Analysis'!B:B,'Print Form'!C535,'SO Analysis'!D:D,'Print Form'!E535)","v":0},{"$f":"SUMIFS('SO Analysis'!F:F,'SO Analysis'!B:B,'Print Form'!C535,'SO Analysis'!D:D,'Print Form'!E535)","v":0},{"$f":"SUMIFS('SO Analysis'!G:G,'SO Analysis'!B:B,'Print Form'!C535,'SO Analysis'!D:D,'Print Form'!E535)","v":0}]
[null,"",null,null,null,{"$f":"SUMIFS('SO Analysis'!E:E,'SO Analysis'!B:B,'Print Form'!C536,'SO Analysis'!D:D,'Print Form'!E536)","v":0},{"$f":"SUMIFS('SO Analysis'!F:F,'SO Analysis'!B:B,'Print Form'!C536,'SO Analysis'!D:D,'Print Form'!E536)","v":0},{"$f":"SUMIFS('SO Analysis'!G:G,'SO Analysis'!B:B,'Print Form'!C536,'SO Analysis'!D:D,'Print Form'!E536)","v":0}]
[null,"",null,null,null,{"$f":"SUMIFS('SO Analysis'!E:E,'SO Analysis'!B:B,'Print Form'!C537,'SO Analysis'!D:D,'Print Form'!E537)","v":0},{"$f":"SUMIFS('SO Analysis'!F:F,'SO Analysis'!B:B,'Print Form'!C537,'SO Analysis'!D:D,'Print Form'!E537)","v":0},{"$f":"SUMIFS('SO Analysis'!G:G,'SO Analysis'!B:B,'Print Form'!C537,'SO Analysis'!D:D,'Print Form'!E537)","v":0}]
[null,"",null,null,null,{"$f":"SUMIFS('SO Analysis'!E:E,'SO Analysis'!B:B,'Print Form'!C538,'SO Analysis'!D:D,'Print Form'!E538)","v":0},{"$f":"SUMIFS('SO Analysis'!F:F,'SO Analysis'!B:B,'Print Form'!C538,'SO Analysis'!D:D,'Print Form'!E538)","v":0},{"$f":"SUMIFS('SO Analysis'!G:G,'SO Analysis'!B:B,'Print Form'!C538,'SO Analysis'!D:D,'Print Form'!E538)","v":0}]
[null,"",null,null,null,{"$f":"SUMIFS('SO Analysis'!E:E,'SO Analysis'!B:B,'Print Form'!C539,'SO Analysis'!D:D,'Print Form'!E539)","v":0},{"$f":"SUMIFS('SO Analysis'!F:F,'SO Analysis'!B:B,'Print Form'!C539,'SO Analysis'!D:D,'Print Form'!E539)","v":0},{"$f":"SUMIFS('SO Analysis'!G:G,'SO Analysis'!B:B,'Print Form'!C539,'SO Analysis'!D:D,'Print Form'!E539)","v":0}]
[null,"",null,null,null,{"$f":"SUMIFS('SO Analysis'!E:E,'SO Analysis'!B:B,'Print Form'!C540,'SO Analysis'!D:D,'Print Form'!E540)","v":0},{"$f":"SUMIFS('SO Analysis'!F:F,'SO Analysis'!B:B,'Print Form'!C540,'SO Analysis'!D:D,'Print Form'!E540)","v":0},{"$f":"SUMIFS('SO Analysis'!G:G,'SO Analysis'!B:B,'Print Form'!C540,'SO Analysis'!D:D,'Print Form'!E540)","v":0}]
[null,"",null,null,null,{"$f":"SUMIFS('SO Analysis'!E:E,'SO Analysis'!B:B,'Print Form'!C541,'SO Analysis'!D:D,'Print Form'!E541)","v":0},{"$f":"SUMIFS('SO Analysis'!F:F,'SO Analysis'!B:B,'Print Form'!C541,'SO Analysis'!D:D,'Print Form'!E541)","v":0},{"$f":"SUMIFS('SO Analysis'!G:G,'SO Analysis'!B:B,'Print Form'!C541,'SO Analysis'!D:D,'Print Form'!E541)","v":0}]
[null,"",null,null,null,{"$f":"SUMIFS('SO Analysis'!E:E,'SO Analysis'!B:B,'Print Form'!C542,'SO Analysis'!D:D,'Print Form'!E542)","v":0},{"$f":"SUMIFS('SO Analysis'!F:F,'SO Analysis'!B:B,'Print Form'!C542,'SO Analysis'!D:D,'Print Form'!E542)","v":0},{"$f":"SUMIFS('SO Analysis'!G:G,'SO Analysis'!B:B,'Print Form'!C542,'SO Analysis'!D:D,'Print Form'!E542)","v":0}]
[null,"",null,null,null,{"$f":"SUMIFS('SO Analysis'!E:E,'SO Analysis'!B:B,'Print Form'!C543,'SO Analysis'!D:D,'Print Form'!E543)","v":0},{"$f":"SUMIFS('SO Analysis'!F:F,'SO Analysis'!B:B,'Print Form'!C543,'SO Analysis'!D:D,'Print Form'!E543)","v":0},{"$f":"SUMIFS('SO Analysis'!G:G,'SO Analysis'!B:B,'Print Form'!C543,'SO Analysis'!D:D,'Print Form'!E543)","v":0}]
[null,"",null,null,null,{"$f":"SUMIFS('SO Analysis'!E:E,'SO Analysis'!B:B,'Print Form'!C544,'SO Analysis'!D:D,'Print Form'!E544)","v":0},{"$f":"SUMIFS('SO Analysis'!F:F,'SO Analysis'!B:B,'Print Form'!C544,'SO Analysis'!D:D,'Print Form'!E544)","v":0},{"$f":"SUMIFS('SO Analysis'!G:G,'SO Analysis'!B:B,'Print Form'!C544,'SO Analysis'!D:D,'Print Form'!E544)","v":0}]
[null,"",null,null,null,{"$f":"SUMIFS('SO Analysis'!E:E,'SO Analysis'!B:B,'Print Form'!C545,'SO Analysis'!D:D,'Print Form'!E545)","v":0},{"$f":"SUMIFS('SO Analysis'!F:F,'SO Analysis'!B:B,'Print Form'!C545,'SO Analysis'!D:D,'Print Form'!E545)","v":0},{"$f":"SUMIFS('SO Analysis'!G:G,'SO Analysis'!B:B,'Print Form'!C545,'SO Analysis'!D:D,'Print Form'!E545)","v":0}]
[null,"",null,null,null,{"$f":"SUMIFS('SO Analysis'!E:E,'SO Analysis'!B:B,'Print Form'!C546,'SO Analysis'!D:D,'Print Form'!E546)","v":0},{"$f":"SUMIFS('SO Analysis'!F:F,'SO Analysis'!B:B,'Print Form'!C546,'SO Analysis'!D:D,'Print Form'!E546)","v":0},{"$f":"SUMIFS('SO Analysis'!G:G,'SO Analysis'!B:B,'Print Form'!C546,'SO Analysis'!D:D,'Print Form'!E546)","v":0}]
[null,"",null,null,null,{"$f":"SUMIFS('SO Analysis'!E:E,'SO Analysis'!B:B,'Print Form'!C547,'SO Analysis'!D:D,'Print Form'!E547)","v":0},{"$f":"SUMIFS('SO Analysis'!F:F,'SO Analysis'!B:B,'Print Form'!C547,'SO Analysis'!D:D,'Print Form'!E547)","v":0},{"$f":"SUMIFS('SO Analysis'!G:G,'SO Analysis'!B:B,'Print Form'!C547,'SO Analysis'!D:D,'Print Form'!E547)","v":0}]
[null,"",null,null,null,{"$f":"SUMIFS('SO Analysis'!E:E,'SO Analysis'!B:B,'Print Form'!C548,'SO Analysis'!D:D,'Print Form'!E548)","v":0},{"$f":"SUMIFS('SO Analysis'!F:F,'SO Analysis'!B:B,'Print Form'!C548,'SO Analysis'!D:D,'Print Form'!E548)","v":0},{"$f":"SUMIFS('SO Analysis'!G:G,'SO Analysis'!B:B,'Print Form'!C548,'SO Analysis'!D:D,'Print Form'!E548)","v":0}]
[null,"",null,null,null,{"$f":"SUMIFS('SO Analysis'!E:E,'SO Analysis'!B:B,'Print Form'!C549,'SO Analysis'!D:D,'Print Form'!E549)","v":0},{"$f":"SUMIFS('SO Analysis'!F:F,'SO Analysis'!B:B,'Print Form'!C549,'SO Analysis'!D:D,'Print Form'!E549)","v":0},{"$f":"SUMIFS('SO Analysis'!G:G,'SO Analysis'!B:B,'Print Form'!C549,'SO Analysis'!D:D,'Print Form'!E549)","v":0}]
[null,"",null,null,null,{"$f":"SUMIFS('SO Analysis'!E:E,'SO Analysis'!B:B,'Print Form'!C550,'SO Analysis'!D:D,'Print Form'!E550)","v":0},{"$f":"SUMIFS('SO Analysis'!F:F,'SO Analysis'!B:B,'Print Form'!C550,'SO Analysis'!D:D,'Print Form'!E550)","v":0},{"$f":"SUMIFS('SO Analysis'!G:G,'SO Analysis'!B:B,'Print Form'!C550,'SO Analysis'!D:D,'Print Form'!E550)","v":0}]
[null,"",null,null,null,{"$f":"SUMIFS('SO Analysis'!E:E,'SO Analysis'!B:B,'Print Form'!C551,'SO Analysis'!D:D,'Print Form'!E551)","v":0},{"$f":"SUMIFS('SO Analysis'!F:F,'SO Analysis'!B:B,'Print Form'!C551,'SO Analysis'!D:D,'Print Form'!E551)","v":0},{"$f":"SUMIFS('SO Analysis'!G:G,'SO Analysis'!B:B,'Print Form'!C551,'SO Analysis'!D:D,'Print Form'!E551)","v":0}]
[null,"",null,null,null,{"$f":"SUMIFS('SO Analysis'!E:E,'SO Analysis'!B:B,'Print Form'!C552,'SO Analysis'!D:D,'Print Form'!E552)","v":0},{"$f":"SUMIFS('SO Analysis'!F:F,'SO Analysis'!B:B,'Print Form'!C552,'SO Analysis'!D:D,'Print Form'!E552)","v":0},{"$f":"SUMIFS('SO Analysis'!G:G,'SO Analysis'!B:B,'Print Form'!C552,'SO Analysis'!D:D,'Print Form'!E552)","v":0}]
[null,"",null,null,null,{"$f":"SUMIFS('SO Analysis'!E:E,'SO Analysis'!B:B,'Print Form'!C553,'SO Analysis'!D:D,'Print Form'!E553)","v":0},{"$f":"SUMIFS('SO Analysis'!F:F,'SO Analysis'!B:B,'Print Form'!C553,'SO Analysis'!D:D,'Print Form'!E553)","v":0},{"$f":"SUMIFS('SO Analysis'!G:G,'SO Analysis'!B:B,'Print Form'!C553,'SO Analysis'!D:D,'Print Form'!E553)","v":0}]
[null,"",null,null,null,{"$f":"SUMIFS('SO Analysis'!E:E,'SO Analysis'!B:B,'Print Form'!C554,'SO Analysis'!D:D,'Print Form'!E554)","v":0},{"$f":"SUMIFS('SO Analysis'!F:F,'SO Analysis'!B:B,'Print Form'!C554,'SO Analysis'!D:D,'Print Form'!E554)","v":0},{"$f":"SUMIFS('SO Analysis'!G:G,'SO Analysis'!B:B,'Print Form'!C554,'SO Analysis'!D:D,'Print Form'!E554)","v":0}]
[null,"",null,null,null,{"$f":"SUMIFS('SO Analysis'!E:E,'SO Analysis'!B:B,'Print Form'!C555,'SO Analysis'!D:D,'Print Form'!E555)","v":0},{"$f":"SUMIFS('SO Analysis'!F:F,'SO Analysis'!B:B,'Print Form'!C555,'SO Analysis'!D:D,'Print Form'!E555)","v":0},{"$f":"SUMIFS('SO Analysis'!G:G,'SO Analysis'!B:B,'Print Form'!C555,'SO Analysis'!D:D,'Print Form'!E555)","v":0}]
[null,"",null,null,null,{"$f":"SUMIFS('SO Analysis'!E:E,'SO Analysis'!B:B,'Print Form'!C556,'SO Analysis'!D:D,'Print Form'!E556)","v":0},{"$f":"SUMIFS('SO Analysis'!F:F,'SO Analysis'!B:B,'Print Form'!C556,'SO Analysis'!D:D,'Print Form'!E556)","v":0},{"$f":"SUMIFS('SO Analysis'!G:G,'SO Analysis'!B:B,'Print Form'!C556,'SO Analysis'!D:D,'Print Form'!E556)","v":0}]
[null,"",null,null,null,{"$f":"SUMIFS('SO Analysis'!E:E,'SO Analysis'!B:B,'Print Form'!C557,'SO Analysis'!D:D,'Print Form'!E557)","v":0},{"$f":"SUMIFS('SO Analysis'!F:F,'SO Analysis'!B:B,'Print Form'!C557,'SO Analysis'!D:D,'Print Form'!E557)","v":0},{"$f":"SUMIFS('SO Analysis'!G:G,'SO Analysis'!B:B,'Print Form'!C557,'SO Analysis'!D:D,'Print Form'!E557)","v":0}]
[null,"",null,null,null,{"$f":"SUMIFS('SO Analysis'!E:E,'SO Analysis'!B:B,'Print Form'!C558,'SO Analysis'!D:D,'Print Form'!E558)","v":0},{"$f":"SUMIFS('SO Analysis'!F:F,'SO Analysis'!B:B,'Print Form'!C558,'SO Analysis'!D:D,'Print Form'!E558)","v":0},{"$f":"SUMIFS('SO Analysis'!G:G,'SO Analysis'!B:B,'Print Form'!C558,'SO Analysis'!D:D,'Print Form'!E558)","v":0}]
[null,"",null,null,null,{"$f":"SUMIFS('SO Analysis'!E:E,'SO Analysis'!B:B,'Print Form'!C559,'SO Analysis'!D:D,'Print Form'!E559)","v":0},{"$f":"SUMIFS('SO Analysis'!F:F,'SO Analysis'!B:B,'Print Form'!C559,'SO Analysis'!D:D,'Print Form'!E559)","v":0},{"$f":"SUMIFS('SO Analysis'!G:G,'SO Analysis'!B:B,'Print Form'!C559,'SO Analysis'!D:D,'Print Form'!E559)","v":0}]
[null,"",null,null,null,{"$f":"SUMIFS('SO Analysis'!E:E,'SO Analysis'!B:B,'Print Form'!C560,'SO Analysis'!D:D,'Print Form'!E560)","v":0},{"$f":"SUMIFS('SO Analysis'!F:F,'SO Analysis'!B:B,'Print Form'!C560,'SO Analysis'!D:D,'Print Form'!E560)","v":0},{"$f":"SUMIFS('SO Analysis'!G:G,'SO Analysis'!B:B,'Print Form'!C560,'SO Analysis'!D:D,'Print Form'!E560)","v":0}]
[null,"",null,null,null,{"$f":"SUMIFS('SO Analysis'!E:E,'SO Analysis'!B:B,'Print Form'!C561,'SO Analysis'!D:D,'Print Form'!E561)","v":0},{"$f":"SUMIFS('SO Analysis'!F:F,'SO Analysis'!B:B,'Print Form'!C561,'SO Analysis'!D:D,'Print Form'!E561)","v":0},{"$f":"SUMIFS('SO Analysis'!G:G,'SO Analysis'!B:B,'Print Form'!C561,'SO Analysis'!D:D,'Print Form'!E561)","v":0}]
[null,"",null,null,null,{"$f":"SUMIFS('SO Analysis'!E:E,'SO Analysis'!B:B,'Print Form'!C562,'SO Analysis'!D:D,'Print Form'!E562)","v":0},{"$f":"SUMIFS('SO Analysis'!F:F,'SO Analysis'!B:B,'Print Form'!C562,'SO Analysis'!D:D,'Print Form'!E562)","v":0},{"$f":"SUMIFS('SO Analysis'!G:G,'SO Analysis'!B:B,'Print Form'!C562,'SO Analysis'!D:D,'Print Form'!E562)","v":0}]
[null,"",null,null,null,{"$f":"SUMIFS('SO Analysis'!E:E,'SO Analysis'!B:B,'Print Form'!C563,'SO Analysis'!D:D,'Print Form'!E563)","v":0},{"$f":"SUMIFS('SO Analysis'!F:F,'SO Analysis'!B:B,'Print Form'!C563,'SO Analysis'!D:D,'Print Form'!E563)","v":0},{"$f":"SUMIFS('SO Analysis'!G:G,'SO Analysis'!B:B,'Print Form'!C563,'SO Analysis'!D:D,'Print Form'!E563)","v":0}]
[null,"",null,null,null,{"$f":"SUMIFS('SO Analysis'!E:E,'SO Analysis'!B:B,'Print Form'!C564,'SO Analysis'!D:D,'Print Form'!E564)","v":0},{"$f":"SUMIFS('SO Analysis'!F:F,'SO Analysis'!B:B,'Print Form'!C564,'SO Analysis'!D:D,'Print Form'!E564)","v":0},{"$f":"SUMIFS('SO Analysis'!G:G,'SO Analysis'!B:B,'Print Form'!C564,'SO Analysis'!D:D,'Print Form'!E564)","v":0}]
[null,"",null,null,null,{"$f":"SUMIFS('SO Analysis'!E:E,'SO Analysis'!B:B,'Print Form'!C565,'SO Analysis'!D:D,'Print Form'!E565)","v":0},{"$f":"SUMIFS('SO Analysis'!F:F,'SO Analysis'!B:B,'Print Form'!C565,'SO Analysis'!D:D,'Print Form'!E565)","v":0},{"$f":"SUMIFS('SO Analysis'!G:G,'SO Analysis'!B:B,'Print Form'!C565,'SO Analysis'!D:D,'Print Form'!E565)","v":0}]
[null,"",null,null,null,{"$f":"SUMIFS('SO Analysis'!E:E,'SO Analysis'!B:B,'Print Form'!C566,'SO Analysis'!D:D,'Print Form'!E566)","v":0},{"$f":"SUMIFS('SO Analysis'!F:F,'SO Analysis'!B:B,'Print Form'!C566,'SO Analysis'!D:D,'Print Form'!E566)","v":0},{"$f":"SUMIFS('SO Analysis'!G:G,'SO Analysis'!B:B,'Print Form'!C566,'SO Analysis'!D:D,'Print Form'!E566)","v":0}]
[null,"",null,null,null,{"$f":"SUMIFS('SO Analysis'!E:E,'SO Analysis'!B:B,'Print Form'!C567,'SO Analysis'!D:D,'Print Form'!E567)","v":0},{"$f":"SUMIFS('SO Analysis'!F:F,'SO Analysis'!B:B,'Print Form'!C567,'SO Analysis'!D:D,'Print Form'!E567)","v":0},{"$f":"SUMIFS('SO Analysis'!G:G,'SO Analysis'!B:B,'Print Form'!C567,'SO Analysis'!D:D,'Print Form'!E567)","v":0}]
[null,"",null,null,null,{"$f":"SUMIFS('SO Analysis'!E:E,'SO Analysis'!B:B,'Print Form'!C568,'SO Analysis'!D:D,'Print Form'!E568)","v":0},{"$f":"SUMIFS('SO Analysis'!F:F,'SO Analysis'!B:B,'Print Form'!C568,'SO Analysis'!D:D,'Print Form'!E568)","v":0},{"$f":"SUMIFS('SO Analysis'!G:G,'SO Analysis'!B:B,'Print Form'!C568,'SO Analysis'!D:D,'Print Form'!E568)","v":0}]
[null,"",null,null,null,{"$f":"SUMIFS('SO Analysis'!E:E,'SO Analysis'!B:B,'Print Form'!C569,'SO Analysis'!D:D,'Print Form'!E569)","v":0},{"$f":"SUMIFS('SO Analysis'!F:F,'SO Analysis'!B:B,'Print Form'!C569,'SO Analysis'!D:D,'Print Form'!E569)","v":0},{"$f":"SUMIFS('SO Analysis'!G:G,'SO Analysis'!B:B,'Print Form'!C569,'SO Analysis'!D:D,'Print Form'!E569)","v":0}]
[null,"",null,null,null,{"$f":"SUMIFS('SO Analysis'!E:E,'SO Analysis'!B:B,'Print Form'!C570,'SO Analysis'!D:D,'Print Form'!E570)","v":0},{"$f":"SUMIFS('SO Analysis'!F:F,'SO Analysis'!B:B,'Print Form'!C570,'SO Analysis'!D:D,'Print Form'!E570)","v":0},{"$f":"SUMIFS('SO Analysis'!G:G,'SO Analysis'!B:B,'Print Form'!C570,'SO Analysis'!D:D,'Print Form'!E570)","v":0}]
[null,"",null,null,null,{"$f":"SUMIFS('SO Analysis'!E:E,'SO Analysis'!B:B,'Print Form'!C571,'SO Analysis'!D:D,'Print Form'!E571)","v":0},{"$f":"SUMIFS('SO Analysis'!F:F,'SO Analysis'!B:B,'Print Form'!C571,'SO Analysis'!D:D,'Print Form'!E571)","v":0},{"$f":"SUMIFS('SO Analysis'!G:G,'SO Analysis'!B:B,'Print Form'!C571,'SO Analysis'!D:D,'Print Form'!E571)","v":0}]
[null,"",null,null,null,{"$f":"SUMIFS('SO Analysis'!E:E,'SO Analysis'!B:B,'Print Form'!C572,'SO Analysis'!D:D,'Print Form'!E572)","v":0},{"$f":"SUMIFS('SO Analysis'!F:F,'SO Analysis'!B:B,'Print Form'!C572,'SO Analysis'!D:D,'Print Form'!E572)","v":0},{"$f":"SUMIFS('SO Analysis'!G:G,'SO Analysis'!B:B,'Print Form'!C572,'SO Analysis'!D:D,'Print Form'!E572)","v":0}]
[null,"",null,null,null,{"$f":"SUMIFS('SO Analysis'!E:E,'SO Analysis'!B:B,'Print Form'!C573,'SO Analysis'!D:D,'Print Form'!E573)","v":0},{"$f":"SUMIFS('SO Analysis'!F:F,'SO Analysis'!B:B,'Print Form'!C573,'SO Analysis'!D:D,'Print Form'!E573)","v":0},{"$f":"SUMIFS('SO Analysis'!G:G,'SO Analysis'!B:B,'Print Form'!C573,'SO Analysis'!D:D,'Print Form'!E573)","v":0}]
[null,"",null,null,null,{"$f":"SUMIFS('SO Analysis'!E:E,'SO Analysis'!B:B,'Print Form'!C574,'SO Analysis'!D:D,'Print Form'!E574)","v":0},{"$f":"SUMIFS('SO Analysis'!F:F,'SO Analysis'!B:B,'Print Form'!C574,'SO Analysis'!D:D,'Print Form'!E574)","v":0},{"$f":"SUMIFS('SO Analysis'!G:G,'SO Analysis'!B:B,'Print Form'!C574,'SO Analysis'!D:D,'Print Form'!E574)","v":0}]
[null,"",null,null,null,{"$f":"SUMIFS('SO Analysis'!E:E,'SO Analysis'!B:B,'Print Form'!C575,'SO Analysis'!D:D,'Print Form'!E575)","v":0},{"$f":"SUMIFS('SO Analysis'!F:F,'SO Analysis'!B:B,'Print Form'!C575,'SO Analysis'!D:D,'Print Form'!E575)","v":0},{"$f":"SUMIFS('SO Analysis'!G:G,'SO Analysis'!B:B,'Print Form'!C575,'SO Analysis'!D:D,'Print Form'!E575)","v":0}]
[null,"",null,null,null,{"$f":"SUMIFS('SO Analysis'!E:E,'SO Analysis'!B:B,'Print Form'!C576,'SO Analysis'!D:D,'Print Form'!E576)","v":0},{"$f":"SUMIFS('SO Analysis'!F:F,'SO Analysis'!B:B,'Print Form'!C576,'SO Analysis'!D:D,'Print Form'!E576)","v":0},{"$f":"SUMIFS('SO Analysis'!G:G,'SO Analysis'!B:B,'Print Form'!C576,'SO Analysis'!D:D,'Print Form'!E576)","v":0}]
[null,"",null,null,null,{"$f":"SUMIFS('SO Analysis'!E:E,'SO Analysis'!B:B,'Print Form'!C577,'SO Analysis'!D:D,'Print Form'!E577)","v":0},{"$f":"SUMIFS('SO Analysis'!F:F,'SO Analysis'!B:B,'Print Form'!C577,'SO Analysis'!D:D,'Print Form'!E577)","v":0},{"$f":"SUMIFS('SO Analysis'!G:G,'SO Analysis'!B:B,'Print Form'!C577,'SO Analysis'!D:D,'Print Form'!E577)","v":0}]
[null,"",null,null,null,{"$f":"SUMIFS('SO Analysis'!E:E,'SO Analysis'!B:B,'Print Form'!C578,'SO Analysis'!D:D,'Print Form'!E578)","v":0},{"$f":"SUMIFS('SO Analysis'!F:F,'SO Analysis'!B:B,'Print Form'!C578,'SO Analysis'!D:D,'Print Form'!E578)","v":0},{"$f":"SUMIFS('SO Analysis'!G:G,'SO Analysis'!B:B,'Print Form'!C578,'SO Analysis'!D:D,'Print Form'!E578)","v":0}]
[null,"",null,null,null,{"$f":"SUMIFS('SO Analysis'!E:E,'SO Analysis'!B:B,'Print Form'!C579,'SO Analysis'!D:D,'Print Form'!E579)","v":0},{"$f":"SUMIFS('SO Analysis'!F:F,'SO Analysis'!B:B,'Print Form'!C579,'SO Analysis'!D:D,'Print Form'!E579)","v":0},{"$f":"SUMIFS('SO Analysis'!G:G,'SO Analysis'!B:B,'Print Form'!C579,'SO Analysis'!D:D,'Print Form'!E579)","v":0}]
[null,"",null,null,null,{"$f":"SUMIFS('SO Analysis'!E:E,'SO Analysis'!B:B,'Print Form'!C580,'SO Analysis'!D:D,'Print Form'!E580)","v":0},{"$f":"SUMIFS('SO Analysis'!F:F,'SO Analysis'!B:B,'Print Form'!C580,'SO Analysis'!D:D,'Print Form'!E580)","v":0},{"$f":"SUMIFS('SO Analysis'!G:G,'SO Analysis'!B:B,'Print Form'!C580,'SO Analysis'!D:D,'Print Form'!E580)","v":0}]
[null,"",null,null,null,{"$f":"SUMIFS('SO Analysis'!E:E,'SO Analysis'!B:B,'Print Form'!C581,'SO Analysis'!D:D,'Print Form'!E581)","v":0},{"$f":"SUMIFS('SO Analysis'!F:F,'SO Analysis'!B:B,'Print Form'!C581,'SO Analysis'!D:D,'Print Form'!E581)","v":0},{"$f":"SUMIFS('SO Analysis'!G:G,'SO Analysis'!B:B,'Print Form'!C581,'SO Analysis'!D:D,'Print Form'!E581)","v":0}]
[null,"",null,null,null,{"$f":"SUMIFS('SO Analysis'!E:E,'SO Analysis'!B:B,'Print Form'!C582,'SO Analysis'!D:D,'Print Form'!E582)","v":0},{"$f":"SUMIFS('SO Analysis'!F:F,'SO Analysis'!B:B,'Print Form'!C582,'SO Analysis'!D:D,'Print Form'!E582)","v":0},{"$f":"SUMIFS('SO Analysis'!G:G,'SO Analysis'!B:B,'Print Form'!C582,'SO Analysis'!D:D,'Print Form'!E582)","v":0}]
[null,"",null,null,null,{"$f":"SUMIFS('SO Analysis'!E:E,'SO Analysis'!B:B,'Print Form'!C583,'SO Analysis'!D:D,'Print Form'!E583)","v":0},{"$f":"SUMIFS('SO Analysis'!F:F,'SO Analysis'!B:B,'Print Form'!C583,'SO Analysis'!D:D,'Print Form'!E583)","v":0},{"$f":"SUMIFS('SO Analysis'!G:G,'SO Analysis'!B:B,'Print Form'!C583,'SO Analysis'!D:D,'Print Form'!E583)","v":0}]
[null,"",null,null,null,{"$f":"SUMIFS('SO Analysis'!E:E,'SO Analysis'!B:B,'Print Form'!C584,'SO Analysis'!D:D,'Print Form'!E584)","v":0},{"$f":"SUMIFS('SO Analysis'!F:F,'SO Analysis'!B:B,'Print Form'!C584,'SO Analysis'!D:D,'Print Form'!E584)","v":0},{"$f":"SUMIFS('SO Analysis'!G:G,'SO Analysis'!B:B,'Print Form'!C584,'SO Analysis'!D:D,'Print Form'!E584)","v":0}]
[null,"",null,null,null,{"$f":"SUMIFS('SO Analysis'!E:E,'SO Analysis'!B:B,'Print Form'!C585,'SO Analysis'!D:D,'Print Form'!E585)","v":0},{"$f":"SUMIFS('SO Analysis'!F:F,'SO Analysis'!B:B,'Print Form'!C585,'SO Analysis'!D:D,'Print Form'!E585)","v":0},{"$f":"SUMIFS('SO Analysis'!G:G,'SO Analysis'!B:B,'Print Form'!C585,'SO Analysis'!D:D,'Print Form'!E585)","v":0}]
[null,"",null,null,null,{"$f":"SUMIFS('SO Analysis'!E:E,'SO Analysis'!B:B,'Print Form'!C586,'SO Analysis'!D:D,'Print Form'!E586)","v":0},{"$f":"SUMIFS('SO Analysis'!F:F,'SO Analysis'!B:B,'Print Form'!C586,'SO Analysis'!D:D,'Print Form'!E586)","v":0},{"$f":"SUMIFS('SO Analysis'!G:G,'SO Analysis'!B:B,'Print Form'!C586,'SO Analysis'!D:D,'Print Form'!E586)","v":0}]
[null,"",null,null,null,{"$f":"SUMIFS('SO Analysis'!E:E,'SO Analysis'!B:B,'Print Form'!C587,'SO Analysis'!D:D,'Print Form'!E587)","v":0},{"$f":"SUMIFS('SO Analysis'!F:F,'SO Analysis'!B:B,'Print Form'!C587,'SO Analysis'!D:D,'Print Form'!E587)","v":0},{"$f":"SUMIFS('SO Analysis'!G:G,'SO Analysis'!B:B,'Print Form'!C587,'SO Analysis'!D:D,'Print Form'!E587)","v":0}]
[null,"",null,null,null,{"$f":"SUMIFS('SO Analysis'!E:E,'SO Analysis'!B:B,'Print Form'!C588,'SO Analysis'!D:D,'Print Form'!E588)","v":0},{"$f":"SUMIFS('SO Analysis'!F:F,'SO Analysis'!B:B,'Print Form'!C588,'SO Analysis'!D:D,'Print Form'!E588)","v":0},{"$f":"SUMIFS('SO Analysis'!G:G,'SO Analysis'!B:B,'Print Form'!C588,'SO Analysis'!D:D,'Print Form'!E588)","v":0}]
[null,"",null,null,null,{"$f":"SUMIFS('SO Analysis'!E:E,'SO Analysis'!B:B,'Print Form'!C589,'SO Analysis'!D:D,'Print Form'!E589)","v":0},{"$f":"SUMIFS('SO Analysis'!F:F,'SO Analysis'!B:B,'Print Form'!C589,'SO Analysis'!D:D,'Print Form'!E589)","v":0},{"$f":"SUMIFS('SO Analysis'!G:G,'SO Analysis'!B:B,'Print Form'!C589,'SO Analysis'!D:D,'Print Form'!E589)","v":0}]
[null,{"$f":"IF(C590=\"\",\"\",ROW()-12)","v":""},null,null,null,{"$f":"SUMIFS('SO Analysis'!E:E,'SO Analysis'!B:B,'Print Form'!C590,'SO Analysis'!D:D,'Print Form'!E590)","v":0},{"$f":"SUMIFS('SO Analysis'!F:F,'SO Analysis'!B:B,'Print Form'!C590,'SO Analysis'!D:D,'Print Form'!E590)","v":0},{"$f":"SUMIFS('SO Analysis'!G:G,'SO Analysis'!B:B,'Print Form'!C590,'SO Analysis'!D:D,'Print Form'!E590)","v":0}]
[null,"",null,null,null,{"$f":"SUMIFS('SO Analysis'!E:E,'SO Analysis'!B:B,'Print Form'!C591,'SO Analysis'!D:D,'Print Form'!E591)","v":0},{"$f":"SUMIFS('SO Analysis'!F:F,'SO Analysis'!B:B,'Print Form'!C591,'SO Analysis'!D:D,'Print Form'!E591)","v":0},{"$f":"SUMIFS('SO Analysis'!G:G,'SO Analysis'!B:B,'Print Form'!C591,'SO Analysis'!D:D,'Print Form'!E591)","v":0}]
[null,"",null,null,null,{"$f":"SUMIFS('SO Analysis'!E:E,'SO Analysis'!B:B,'Print Form'!C592,'SO Analysis'!D:D,'Print Form'!E592)","v":0},{"$f":"SUMIFS('SO Analysis'!F:F,'SO Analysis'!B:B,'Print Form'!C592,'SO Analysis'!D:D,'Print Form'!E592)","v":0},{"$f":"SUMIFS('SO Analysis'!G:G,'SO Analysis'!B:B,'Print Form'!C592,'SO Analysis'!D:D,'Print Form'!E592)","v":0}]
[null,"",null,null,null,{"$f":"SUMIFS('SO Analysis'!E:E,'SO Analysis'!B:B,'Print Form'!C593,'SO Analysis'!D:D,'Print Form'!E593)","v":0},{"$f":"SUMIFS('SO Analysis'!F:F,'SO Analysis'!B:B,'Print Form'!C593,'SO Analysis'!D:D,'Print Form'!E593)","v":0},{"$f":"SUMIFS('SO Analysis'!G:G,'SO Analysis'!B:B,'Print Form'!C593,'SO Analysis'!D:D,'Print Form'!E593)","v":0}]
[null,"",null,null,null,{"$f":"SUMIFS('SO Analysis'!E:E,'SO Analysis'!B:B,'Print Form'!C594,'SO Analysis'!D:D,'Print Form'!E594)","v":0},{"$f":"SUMIFS('SO Analysis'!F:F,'SO Analysis'!B:B,'Print Form'!C594,'SO Analysis'!D:D,'Print Form'!E594)","v":0},{"$f":"SUMIFS('SO Analysis'!G:G,'SO Analysis'!B:B,'Print Form'!C594,'SO Analysis'!D:D,'Print Form'!E594)","v":0}]
[null,"",null,null,null,{"$f":"SUMIFS('SO Analysis'!E:E,'SO Analysis'!B:B,'Print Form'!C595,'SO Analysis'!D:D,'Print Form'!E595)","v":0},{"$f":"SUMIFS('SO Analysis'!F:F,'SO Analysis'!B:B,'Print Form'!C595,'SO Analysis'!D:D,'Print Form'!E595)","v":0},{"$f":"SUMIFS('SO Analysis'!G:G,'SO Analysis'!B:B,'Print Form'!C595,'SO Analysis'!D:D,'Print Form'!E595)","v":0}]
[null,"",null,null,null,{"$f":"SUMIFS('SO Analysis'!E:E,'SO Analysis'!B:B,'Print Form'!C596,'SO Analysis'!D:D,'Print Form'!E596)","v":0},{"$f":"SUMIFS('SO Analysis'!F:F,'SO Analysis'!B:B,'Print Form'!C596,'SO Analysis'!D:D,'Print Form'!E596)","v":0},{"$f":"SUMIFS('SO Analysis'!G:G,'SO Analysis'!B:B,'Print Form'!C596,'SO Analysis'!D:D,'Print Form'!E596)","v":0}]
[null,"",null,null,null,{"$f":"SUMIFS('SO Analysis'!E:E,'SO Analysis'!B:B,'Print Form'!C597,'SO Analysis'!D:D,'Print Form'!E597)","v":0},{"$f":"SUMIFS('SO Analysis'!F:F,'SO Analysis'!B:B,'Print Form'!C597,'SO Analysis'!D:D,'Print Form'!E597)","v":0},{"$f":"SUMIFS('SO Analysis'!G:G,'SO Analysis'!B:B,'Print Form'!C597,'SO Analysis'!D:D,'Print Form'!E597)","v":0}]
[null,"",null,null,null,{"$f":"SUMIFS('SO Analysis'!E:E,'SO Analysis'!B:B,'Print Form'!C598,'SO Analysis'!D:D,'Print Form'!E598)","v":0},{"$f":"SUMIFS('SO Analysis'!F:F,'SO Analysis'!B:B,'Print Form'!C598,'SO Analysis'!D:D,'Print Form'!E598)","v":0},{"$f":"SUMIFS('SO Analysis'!G:G,'SO Analysis'!B:B,'Print Form'!C598,'SO Analysis'!D:D,'Print Form'!E598)","v":0}]
[null,"",null,null,null,{"$f":"SUMIFS('SO Analysis'!E:E,'SO Analysis'!B:B,'Print Form'!C599,'SO Analysis'!D:D,'Print Form'!E599)","v":0},{"$f":"SUMIFS('SO Analysis'!F:F,'SO Analysis'!B:B,'Print Form'!C599,'SO Analysis'!D:D,'Print Form'!E599)","v":0},{"$f":"SUMIFS('SO Analysis'!G:G,'SO Analysis'!B:B,'Print Form'!C599,'SO Analysis'!D:D,'Print Form'!E599)","v":0}]
[null,"",null,null,null,{"$f":"SUMIFS('SO Analysis'!E:E,'SO Analysis'!B:B,'Print Form'!C600,'SO Analysis'!D:D,'Print Form'!E600)","v":0},{"$f":"SUMIFS('SO Analysis'!F:F,'SO Analysis'!B:B,'Print Form'!C600,'SO Analysis'!D:D,'Print Form'!E600)","v":0},{"$f":"SUMIFS('SO Analysis'!G:G,'SO Analysis'!B:B,'Print Form'!C600,'SO Analysis'!D:D,'Print Form'!E600)","v":0}]
[null,"",null,null,null,{"$f":"SUMIFS('SO Analysis'!E:E,'SO Analysis'!B:B,'Print Form'!C601,'SO Analysis'!D:D,'Print Form'!E601)","v":0},{"$f":"SUMIFS('SO Analysis'!F:F,'SO Analysis'!B:B,'Print Form'!C601,'SO Analysis'!D:D,'Print Form'!E601)","v":0},{"$f":"SUMIFS('SO Analysis'!G:G,'SO Analysis'!B:B,'Print Form'!C601,'SO Analysis'!D:D,'Print Form'!E601)","v":0}]
[null,"",null,null,null,{"$f":"SUMIFS('SO Analysis'!E:E,'SO Analysis'!B:B,'Print Form'!C602,'SO Analysis'!D:D,'Print Form'!E602)","v":0},{"$f":"SUMIFS('SO Analysis'!F:F,'SO Analysis'!B:B,'Print Form'!C602,'SO Analysis'!D:D,'Print Form'!E602)","v":0},{"$f":"SUMIFS('SO Analysis'!G:G,'SO Analysis'!B:B,'Print Form'!C602,'SO Analysis'!D:D,'Print Form'!E602)","v":0}]
[null,"",null,null,null,{"$f":"SUMIFS('SO Analysis'!E:E,'SO Analysis'!B:B,'Print Form'!C603,'SO Analysis'!D:D,'Print Form'!E603)","v":0},{"$f":"SUMIFS('SO Analysis'!F:F,'SO Analysis'!B:B,'Print Form'!C603,'SO Analysis'!D:D,'Print Form'!E603)","v":0},{"$f":"SUMIFS('SO Analysis'!G:G,'SO Analysis'!B:B,'Print Form'!C603,'SO Analysis'!D:D,'Print Form'!E603)","v":0}]
[null,"",null,null,null,{"$f":"SUMIFS('SO Analysis'!E:E,'SO Analysis'!B:B,'Print Form'!C604,'SO Analysis'!D:D,'Print Form'!E604)","v":0},{"$f":"SUMIFS('SO Analysis'!F:F,'SO Analysis'!B:B,'Print Form'!C604,'SO Analysis'!D:D,'Print Form'!E604)","v":0},{"$f":"SUMIFS('SO Analysis'!G:G,'SO Analysis'!B:B,'Print Form'!C604,'SO Analysis'!D:D,'Print Form'!E604)","v":0}]
[null,"",null,null,null,{"$f":"SUMIFS('SO Analysis'!E:E,'SO Analysis'!B:B,'Print Form'!C605,'SO Analysis'!D:D,'Print Form'!E605)","v":0},{"$f":"SUMIFS('SO Analysis'!F:F,'SO Analysis'!B:B,'Print Form'!C605,'SO Analysis'!D:D,'Print Form'!E605)","v":0},{"$f":"SUMIFS('SO Analysis'!G:G,'SO Analysis'!B:B,'Print Form'!C605,'SO Analysis'!D:D,'Print Form'!E605)","v":0}]
[null,"",null,null,null,{"$f":"SUMIFS('SO Analysis'!E:E,'SO Analysis'!B:B,'Print Form'!C606,'SO Analysis'!D:D,'Print Form'!E606)","v":0},{"$f":"SUMIFS('SO Analysis'!F:F,'SO Analysis'!B:B,'Print Form'!C606,'SO Analysis'!D:D,'Print Form'!E606)","v":0},{"$f":"SUMIFS('SO Analysis'!G:G,'SO Analysis'!B:B,'Print Form'!C606,'SO Analysis'!D:D,'Print Form'!E606)","v":0}]
[null,"",null,null,null,{"$f":"SUMIFS('SO Analysis'!E:E,'SO Analysis'!B:B,'Print Form'!C607,'SO Analysis'!D:D,'Print Form'!E607)","v":0},{"$f":"SUMIFS('SO Analysis'!F:F,'SO Analysis'!B:B,'Print Form'!C607,'SO Analysis'!D:D,'Print Form'!E607)","v":0},{"$f":"SUMIFS('SO Analysis'!G:G,'SO Analysis'!B:B,'Print Form'!C607,'SO Analysis'!D:D,'Print Form'!E607)","v":0}]
[null,"",null,null,null,{"$f":"SUMIFS('SO Analysis'!E:E,'SO Analysis'!B:B,'Print Form'!C608,'SO Analysis'!D:D,'Print Form'!E608)","v":0},{"$f":"SUMIFS('SO Analysis'!F:F,'SO Analysis'!B:B,'Print Form'!C608,'SO Analysis'!D:D,'Print Form'!E608)","v":0},{"$f":"SUMIFS('SO Analysis'!G:G,'SO Analysis'!B:B,'Print Form'!C608,'SO Analysis'!D:D,'Print Form'!E608)","v":0}]
[null,"",null,null,null,{"$f":"SUMIFS('SO Analysis'!E:E,'SO Analysis'!B:B,'Print Form'!C609,'SO Analysis'!D:D,'Print Form'!E609)","v":0},{"$f":"SUMIFS('SO Analysis'!F:F,'SO Analysis'!B:B,'Print Form'!C609,'SO Analysis'!D:D,'Print Form'!E609)","v":0},{"$f":"SUMIFS('SO Analysis'!G:G,'SO Analysis'!B:B,'Print Form'!C609,'SO Analysis'!D:D,'Print Form'!E609)","v":0}]
[null,"",null,null,null,{"$f":"SUMIFS('SO Analysis'!E:E,'SO Analysis'!B:B,'Print Form'!C610,'SO Analysis'!D:D,'Print Form'!E610)","v":0},{"$f":"SUMIFS('SO Analysis'!F:F,'SO Analysis'!B:B,'Print Form'!C610,'SO Analysis'!D:D,'Print Form'!E610)","v":0},{"$f":"SUMIFS('SO Analysis'!G:G,'SO Analysis'!B:B,'Print Form'!C610,'SO Analysis'!D:D,'Print Form'!E610)","v":0}]
[null,"",null,null,null,{"$f":"SUMIFS('SO Analysis'!E:E,'SO Analysis'!B:B,'Print Form'!C611,'SO Analysis'!D:D,'Print Form'!E611)","v":0},{"$f":"SUMIFS('SO Analysis'!F:F,'SO Analysis'!B:B,'Print Form'!C611,'SO Analysis'!D:D,'Print Form'!E611)","v":0},{"$f":"SUMIFS('SO Analysis'!G:G,'SO Analysis'!B:B,'Print Form'!C611,'SO Analysis'!D:D,'Print Form'!E611)","v":0}]
[null,"",null,null,null,{"$f":"SUMIFS('SO Analysis'!E:E,'SO Analysis'!B:B,'Print Form'!C612,'SO Analysis'!D:D,'Print Form'!E612)","v":0},{"$f":"SUMIFS('SO Analysis'!F:F,'SO Analysis'!B:B,'Print Form'!C612,'SO Analysis'!D:D,'Print Form'!E612)","v":0},{"$f":"SUMIFS('SO Analysis'!G:G,'SO Analysis'!B:B,'Print Form'!C612,'SO Analysis'!D:D,'Print Form'!E612)","v":0}]
[null,"",null,null,null,{"$f":"SUMIFS('SO Analysis'!E:E,'SO Analysis'!B:B,'Print Form'!C613,'SO Analysis'!D:D,'Print Form'!E613)","v":0},{"$f":"SUMIFS('SO Analysis'!F:F,'SO Analysis'!B:B,'Print Form'!C613,'SO Analysis'!D:D,'Print Form'!E613)","v":0},{"$f":"SUMIFS('SO Analysis'!G:G,'SO Analysis'!B:B,'Print Form'!C613,'SO Analysis'!D:D,'Print Form'!E613)","v":0}]
[null,"",null,null,null,{"$f":"SUMIFS('SO Analysis'!E:E,'SO Analysis'!B:B,'Print Form'!C614,'SO Analysis'!D:D,'Print Form'!E614)","v":0},{"$f":"SUMIFS('SO Analysis'!F:F,'SO Analysis'!B:B,'Print Form'!C614,'SO Analysis'!D:D,'Print Form'!E614)","v":0},{"$f":"SUMIFS('SO Analysis'!G:G,'SO Analysis'!B:B,'Print Form'!C614,'SO Analysis'!D:D,'Print Form'!E614)","v":0}]
[null,"",null,null,null,{"$f":"SUMIFS('SO Analysis'!E:E,'SO Analysis'!B:B,'Print Form'!C615,'SO Analysis'!D:D,'Print Form'!E615)","v":0},{"$f":"SUMIFS('SO Analysis'!F:F,'SO Analysis'!B:B,'Print Form'!C615,'SO Analysis'!D:D,'Print Form'!E615)","v":0},{"$f":"SUMIFS('SO Analysis'!G:G,'SO Analysis'!B:B,'Print Form'!C615,'SO Analysis'!D:D,'Print Form'!E615)","v":0}]
[null,"",null,null,null,{"$f":"SUMIFS('SO Analysis'!E:E,'SO Analysis'!B:B,'Print Form'!C616,'SO Analysis'!D:D,'Print Form'!E616)","v":0},{"$f":"SUMIFS('SO Analysis'!F:F,'SO Analysis'!B:B,'Print Form'!C616,'SO Analysis'!D:D,'Print Form'!E616)","v":0},{"$f":"SUMIFS('SO Analysis'!G:G,'SO Analysis'!B:B,'Print Form'!C616,'SO Analysis'!D:D,'Print Form'!E616)","v":0}]
[null,"",null,null,null,{"$f":"SUMIFS('SO Analysis'!E:E,'SO Analysis'!B:B,'Print Form'!C617,'SO Analysis'!D:D,'Print Form'!E617)","v":0},{"$f":"SUMIFS('SO Analysis'!F:F,'SO Analysis'!B:B,'Print Form'!C617,'SO Analysis'!D:D,'Print Form'!E617)","v":0},{"$f":"SUMIFS('SO Analysis'!G:G,'SO Analysis'!B:B,'Print Form'!C617,'SO Analysis'!D:D,'Print Form'!E617)","v":0}]
[null,"",null,null,null,{"$f":"SUMIFS('SO Analysis'!E:E,'SO Analysis'!B:B,'Print Form'!C618,'SO Analysis'!D:D,'Print Form'!E618)","v":0},{"$f":"SUMIFS('SO Analysis'!F:F,'SO Analysis'!B:B,'Print Form'!C618,'SO Analysis'!D:D,'Print Form'!E618)","v":0},{"$f":"SUMIFS('SO Analysis'!G:G,'SO Analysis'!B:B,'Print Form'!C618,'SO Analysis'!D:D,'Print Form'!E618)","v":0}]
[null,"",null,null,null,{"$f":"SUMIFS('SO Analysis'!E:E,'SO Analysis'!B:B,'Print Form'!C619,'SO Analysis'!D:D,'Print Form'!E619)","v":0},{"$f":"SUMIFS('SO Analysis'!F:F,'SO Analysis'!B:B,'Print Form'!C619,'SO Analysis'!D:D,'Print Form'!E619)","v":0},{"$f":"SUMIFS('SO Analysis'!G:G,'SO Analysis'!B:B,'Print Form'!C619,'SO Analysis'!D:D,'Print Form'!E619)","v":0}]
[null,"",null,null,null,{"$f":"SUMIFS('SO Analysis'!E:E,'SO Analysis'!B:B,'Print Form'!C620,'SO Analysis'!D:D,'Print Form'!E620)","v":0},{"$f":"SUMIFS('SO Analysis'!F:F,'SO Analysis'!B:B,'Print Form'!C620,'SO Analysis'!D:D,'Print Form'!E620)","v":0},{"$f":"SUMIFS('SO Analysis'!G:G,'SO Analysis'!B:B,'Print Form'!C620,'SO Analysis'!D:D,'Print Form'!E620)","v":0}]
[null,"",null,null,null,{"$f":"SUMIFS('SO Analysis'!E:E,'SO Analysis'!B:B,'Print Form'!C621,'SO Analysis'!D:D,'Print Form'!E621)","v":0},{"$f":"SUMIFS('SO Analysis'!F:F,'SO Analysis'!B:B,'Print Form'!C621,'SO Analysis'!D:D,'Print Form'!E621)","v":0},{"$f":"SUMIFS('SO Analysis'!G:G,'SO Analysis'!B:B,'Print Form'!C621,'SO Analysis'!D:D,'Print Form'!E621)","v":0}]
[null,"",null,null,null,{"$f":"SUMIFS('SO Analysis'!E:E,'SO Analysis'!B:B,'Print Form'!C622,'SO Analysis'!D:D,'Print Form'!E622)","v":0},{"$f":"SUMIFS('SO Analysis'!F:F,'SO Analysis'!B:B,'Print Form'!C622,'SO Analysis'!D:D,'Print Form'!E622)","v":0},{"$f":"SUMIFS('SO Analysis'!G:G,'SO Analysis'!B:B,'Print Form'!C622,'SO Analysis'!D:D,'Print Form'!E622)","v":0}]
[null,"",null,null,null,{"$f":"SUMIFS('SO Analysis'!E:E,'SO Analysis'!B:B,'Print Form'!C623,'SO Analysis'!D:D,'Print Form'!E623)","v":0},{"$f":"SUMIFS('SO Analysis'!F:F,'SO Analysis'!B:B,'Print Form'!C623,'SO Analysis'!D:D,'Print Form'!E623)","v":0},{"$f":"SUMIFS('SO Analysis'!G:G,'SO Analysis'!B:B,'Print Form'!C623,'SO Analysis'!D:D,'Print Form'!E623)","v":0}]
[null,"",null,null,null,{"$f":"SUMIFS('SO Analysis'!E:E,'SO Analysis'!B:B,'Print Form'!C624,'SO Analysis'!D:D,'Print Form'!E624)","v":0},{"$f":"SUMIFS('SO Analysis'!F:F,'SO Analysis'!B:B,'Print Form'!C624,'SO Analysis'!D:D,'Print Form'!E624)","v":0},{"$f":"SUMIFS('SO Analysis'!G:G,'SO Analysis'!B:B,'Print Form'!C624,'SO Analysis'!D:D,'Print Form'!E624)","v":0}]
[null,"",null,null,null,{"$f":"SUMIFS('SO Analysis'!E:E,'SO Analysis'!B:B,'Print Form'!C625,'SO Analysis'!D:D,'Print Form'!E625)","v":0},{"$f":"SUMIFS('SO Analysis'!F:F,'SO Analysis'!B:B,'Print Form'!C625,'SO Analysis'!D:D,'Print Form'!E625)","v":0},{"$f":"SUMIFS('SO Analysis'!G:G,'SO Analysis'!B:B,'Print Form'!C625,'SO Analysis'!D:D,'Print Form'!E625)","v":0}]
[null,"",null,null,null,{"$f":"SUMIFS('SO Analysis'!E:E,'SO Analysis'!B:B,'Print Form'!C626,'SO Analysis'!D:D,'Print Form'!E626)","v":0},{"$f":"SUMIFS('SO Analysis'!F:F,'SO Analysis'!B:B,'Print Form'!C626,'SO Analysis'!D:D,'Print Form'!E626)","v":0},{"$f":"SUMIFS('SO Analysis'!G:G,'SO Analysis'!B:B,'Print Form'!C626,'SO Analysis'!D:D,'Print Form'!E626)","v":0}]
[null,"",null,null,null,{"$f":"SUMIFS('SO Analysis'!E:E,'SO Analysis'!B:B,'Print Form'!C627,'SO Analysis'!D:D,'Print Form'!E627)","v":0},{"$f":"SUMIFS('SO Analysis'!F:F,'SO Analysis'!B:B,'Print Form'!C627,'SO Analysis'!D:D,'Print Form'!E627)","v":0},{"$f":"SUMIFS('SO Analysis'!G:G,'SO Analysis'!B:B,'Print Form'!C627,'SO Analysis'!D:D,'Print Form'!E627)","v":0}]
[null,"",null,null,null,{"$f":"SUMIFS('SO Analysis'!E:E,'SO Analysis'!B:B,'Print Form'!C628,'SO Analysis'!D:D,'Print Form'!E628)","v":0},{"$f":"SUMIFS('SO Analysis'!F:F,'SO Analysis'!B:B,'Print Form'!C628,'SO Analysis'!D:D,'Print Form'!E628)","v":0},{"$f":"SUMIFS('SO Analysis'!G:G,'SO Analysis'!B:B,'Print Form'!C628,'SO Analysis'!D:D,'Print Form'!E628)","v":0}]
[null,"",null,null,null,{"$f":"SUMIFS('SO Analysis'!E:E,'SO Analysis'!B:B,'Print Form'!C629,'SO Analysis'!D:D,'Print Form'!E629)","v":0},{"$f":"SUMIFS('SO Analysis'!F:F,'SO Analysis'!B:B,'Print Form'!C629,'SO Analysis'!D:D,'Print Form'!E629)","v":0},{"$f":"SUMIFS('SO Analysis'!G:G,'SO Analysis'!B:B,'Print Form'!C629,'SO Analysis'!D:D,'Print Form'!E629)","v":0}]
[null,"",null,null,null,{"$f":"SUMIFS('SO Analysis'!E:E,'SO Analysis'!B:B,'Print Form'!C630,'SO Analysis'!D:D,'Print Form'!E630)","v":0},{"$f":"SUMIFS('SO Analysis'!F:F,'SO Analysis'!B:B,'Print Form'!C630,'SO Analysis'!D:D,'Print Form'!E630)","v":0},{"$f":"SUMIFS('SO Analysis'!G:G,'SO Analysis'!B:B,'Print Form'!C630,'SO Analysis'!D:D,'Print Form'!E630)","v":0}]
[null,"",null,null,null,{"$f":"SUMIFS('SO Analysis'!E:E,'SO Analysis'!B:B,'Print Form'!C631,'SO Analysis'!D:D,'Print Form'!E631)","v":0},{"$f":"SUMIFS('SO Analysis'!F:F,'SO Analysis'!B:B,'Print Form'!C631,'SO Analysis'!D:D,'Print Form'!E631)","v":0},{"$f":"SUMIFS('SO Analysis'!G:G,'SO Analysis'!B:B,'Print Form'!C631,'SO Analysis'!D:D,'Print Form'!E631)","v":0}]
[null,"",null,null,null,{"$f":"SUMIFS('SO Analysis'!E:E,'SO Analysis'!B:B,'Print Form'!C632,'SO Analysis'!D:D,'Print Form'!E632)","v":0},{"$f":"SUMIFS('SO Analysis'!F:F,'SO Analysis'!B:B,'Print Form'!C632,'SO Analysis'!D:D,'Print Form'!E632)","v":0},{"$f":"SUMIFS('SO Analysis'!G:G,'SO Analysis'!B:B,'Print Form'!C632,'SO Analysis'!D:D,'Print Form'!E632)","v":0}]
[null,"",null,null,null,{"$f":"SUMIFS('SO Analysis'!E:E,'SO Analysis'!B:B,'Print Form'!C633,'SO Analysis'!D:D,'Print Form'!E633)","v":0},{"$f":"SUMIFS('SO Analysis'!F:F,'SO Analysis'!B:B,'Print Form'!C633,'SO Analysis'!D:D,'Print Form'!E633)","v":0},{"$f":"SUMIFS('SO Analysis'!G:G,'SO Analysis'!B:B,'Print Form'!C633,'SO Analysis'!D:D,'Print Form'!E633)","v":0}]
[null,"",null,null,null,{"$f":"SUMIFS('SO Analysis'!E:E,'SO Analysis'!B:B,'Print Form'!C634,'SO Analysis'!D:D,'Print Form'!E634)","v":0},{"$f":"SUMIFS('SO Analysis'!F:F,'SO Analysis'!B:B,'Print Form'!C634,'SO Analysis'!D:D,'Print Form'!E634)","v":0},{"$f":"SUMIFS('SO Analysis'!G:G,'SO Analysis'!B:B,'Print Form'!C634,'SO Analysis'!D:D,'Print Form'!E634)","v":0}]
[null,"",null,null,null,{"$f":"SUMIFS('SO Analysis'!E:E,'SO Analysis'!B:B,'Print Form'!C635,'SO Analysis'!D:D,'Print Form'!E635)","v":0},{"$f":"SUMIFS('SO Analysis'!F:F,'SO Analysis'!B:B,'Print Form'!C635,'SO Analysis'!D:D,'Print Form'!E635)","v":0},{"$f":"SUMIFS('SO Analysis'!G:G,'SO Analysis'!B:B,'Print Form'!C635,'SO Analysis'!D:D,'Print Form'!E635)","v":0}]
[null,"",null,null,null,{"$f":"SUMIFS('SO Analysis'!E:E,'SO Analysis'!B:B,'Print Form'!C636,'SO Analysis'!D:D,'Print Form'!E636)","v":0},{"$f":"SUMIFS('SO Analysis'!F:F,'SO Analysis'!B:B,'Print Form'!C636,'SO Analysis'!D:D,'Print Form'!E636)","v":0},{"$f":"SUMIFS('SO Analysis'!G:G,'SO Analysis'!B:B,'Print Form'!C636,'SO Analysis'!D:D,'Print Form'!E636)","v":0}]
[null,"",null,null,null,{"$f":"SUMIFS('SO Analysis'!E:E,'SO Analysis'!B:B,'Print Form'!C637,'SO Analysis'!D:D,'Print Form'!E637)","v":0},{"$f":"SUMIFS('SO Analysis'!F:F,'SO Analysis'!B:B,'Print Form'!C637,'SO Analysis'!D:D,'Print Form'!E637)","v":0},{"$f":"SUMIFS('SO Analysis'!G:G,'SO Analysis'!B:B,'Print Form'!C637,'SO Analysis'!D:D,'Print Form'!E637)","v":0}]
[null,"",null,null,null,{"$f":"SUMIFS('SO Analysis'!E:E,'SO Analysis'!B:B,'Print Form'!C638,'SO Analysis'!D:D,'Print Form'!E638)","v":0},{"$f":"SUMIFS('SO Analysis'!F:F,'SO Analysis'!B:B,'Print Form'!C638,'SO Analysis'!D:D,'Print Form'!E638)","v":0},{"$f":"SUMIFS('SO Analysis'!G:G,'SO Analysis'!B:B,'Print Form'!C638,'SO Analysis'!D:D,'Print Form'!E638)","v":0}]
[null,"",null,null,null,{"$f":"SUMIFS('SO Analysis'!E:E,'SO Analysis'!B:B,'Print Form'!C639,'SO Analysis'!D:D,'Print Form'!E639)","v":0},{"$f":"SUMIFS('SO Analysis'!F:F,'SO Analysis'!B:B,'Print Form'!C639,'SO Analysis'!D:D,'Print Form'!E639)","v":0},{"$f":"SUMIFS('SO Analysis'!G:G,'SO Analysis'!B:B,'Print Form'!C639,'SO Analysis'!D:D,'Print Form'!E639)","v":0}]
[null,"",null,null,null,{"$f":"SUMIFS('SO Analysis'!E:E,'SO Analysis'!B:B,'Print Form'!C640,'SO Analysis'!D:D,'Print Form'!E640)","v":0},{"$f":"SUMIFS('SO Analysis'!F:F,'SO Analysis'!B:B,'Print Form'!C640,'SO Analysis'!D:D,'Print Form'!E640)","v":0},{"$f":"SUMIFS('SO Analysis'!G:G,'SO Analysis'!B:B,'Print Form'!C640,'SO Analysis'!D:D,'Print Form'!E640)","v":0}]
[null,"",null,null,null,{"$f":"SUMIFS('SO Analysis'!E:E,'SO Analysis'!B:B,'Print Form'!C641,'SO Analysis'!D:D,'Print Form'!E641)","v":0},{"$f":"SUMIFS('SO Analysis'!F:F,'SO Analysis'!B:B,'Print Form'!C641,'SO Analysis'!D:D,'Print Form'!E641)","v":0},{"$f":"SUMIFS('SO Analysis'!G:G,'SO Analysis'!B:B,'Print Form'!C641,'SO Analysis'!D:D,'Print Form'!E641)","v":0}]
[null,"",null,null,null,{"$f":"SUMIFS('SO Analysis'!E:E,'SO Analysis'!B:B,'Print Form'!C642,'SO Analysis'!D:D,'Print Form'!E642)","v":0},{"$f":"SUMIFS('SO Analysis'!F:F,'SO Analysis'!B:B,'Print Form'!C642,'SO Analysis'!D:D,'Print Form'!E642)","v":0},{"$f":"SUMIFS('SO Analysis'!G:G,'SO Analysis'!B:B,'Print Form'!C642,'SO Analysis'!D:D,'Print Form'!E642)","v":0}]
[null,"",null,null,null,{"$f":"SUMIFS('SO Analysis'!E:E,'SO Analysis'!B:B,'Print Form'!C643,'SO Analysis'!D:D,'Print Form'!E643)","v":0},{"$f":"SUMIFS('SO Analysis'!F:F,'SO Analysis'!B:B,'Print Form'!C643,'SO Analysis'!D:D,'Print Form'!E643)","v":0},{"$f":"SUMIFS('SO Analysis'!G:G,'SO Analysis'!B:B,'Print Form'!C643,'SO Analysis'!D:D,'Print Form'!E643)","v":0}]
[null,"",null,null,null,{"$f":"SUMIFS('SO Analysis'!E:E,'SO Analysis'!B:B,'Print Form'!C644,'SO Analysis'!D:D,'Print Form'!E644)","v":0},{"$f":"SUMIFS('SO Analysis'!F:F,'SO Analysis'!B:B,'Print Form'!C644,'SO Analysis'!D:D,'Print Form'!E644)","v":0},{"$f":"SUMIFS('SO Analysis'!G:G,'SO Analysis'!B:B,'Print Form'!C644,'SO Analysis'!D:D,'Print Form'!E644)","v":0}]
[null,"",null,null,null,{"$f":"SUMIFS('SO Analysis'!E:E,'SO Analysis'!B:B,'Print Form'!C645,'SO Analysis'!D:D,'Print Form'!E645)","v":0},{"$f":"SUMIFS('SO Analysis'!F:F,'SO Analysis'!B:B,'Print Form'!C645,'SO Analysis'!D:D,'Print Form'!E645)","v":0},{"$f":"SUMIFS('SO Analysis'!G:G,'SO Analysis'!B:B,'Print Form'!C645,'SO Analysis'!D:D,'Print Form'!E645)","v":0}]
[null,"",null,null,null,{"$f":"SUMIFS('SO Analysis'!E:E,'SO Analysis'!B:B,'Print Form'!C646,'SO Analysis'!D:D,'Print Form'!E646)","v":0},{"$f":"SUMIFS('SO Analysis'!F:F,'SO Analysis'!B:B,'Print Form'!C646,'SO Analysis'!D:D,'Print Form'!E646)","v":0},{"$f":"SUMIFS('SO Analysis'!G:G,'SO Analysis'!B:B,'Print Form'!C646,'SO Analysis'!D:D,'Print Form'!E646)","v":0}]
[null,"",null,null,null,{"$f":"SUMIFS('SO Analysis'!E:E,'SO Analysis'!B:B,'Print Form'!C647,'SO Analysis'!D:D,'Print Form'!E647)","v":0},{"$f":"SUMIFS('SO Analysis'!F:F,'SO Analysis'!B:B,'Print Form'!C647,'SO Analysis'!D:D,'Print Form'!E647)","v":0},{"$f":"SUMIFS('SO Analysis'!G:G,'SO Analysis'!B:B,'Print Form'!C647,'SO Analysis'!D:D,'Print Form'!E647)","v":0}]
[null,"",null,null,null,{"$f":"SUMIFS('SO Analysis'!E:E,'SO Analysis'!B:B,'Print Form'!C648,'SO Analysis'!D:D,'Print Form'!E648)","v":0},{"$f":"SUMIFS('SO Analysis'!F:F,'SO Analysis'!B:B,'Print Form'!C648,'SO Analysis'!D:D,'Print Form'!E648)","v":0},{"$f":"SUMIFS('SO Analysis'!G:G,'SO Analysis'!B:B,'Print Form'!C648,'SO Analysis'!D:D,'Print Form'!E648)","v":0}]
[null,"",null,null,null,{"$f":"SUMIFS('SO Analysis'!E:E,'SO Analysis'!B:B,'Print Form'!C649,'SO Analysis'!D:D,'Print Form'!E649)","v":0},{"$f":"SUMIFS('SO Analysis'!F:F,'SO Analysis'!B:B,'Print Form'!C649,'SO Analysis'!D:D,'Print Form'!E649)","v":0},{"$f":"SUMIFS('SO Analysis'!G:G,'SO Analysis'!B:B,'Print Form'!C649,'SO Analysis'!D:D,'Print Form'!E649)","v":0}]
[null,"",null,null,null,{"$f":"SUMIFS('SO Analysis'!E:E,'SO Analysis'!B:B,'Print Form'!C650,'SO Analysis'!D:D,'Print Form'!E650)","v":0},{"$f":"SUMIFS('SO Analysis'!F:F,'SO Analysis'!B:B,'Print Form'!C650,'SO Analysis'!D:D,'Print Form'!E650)","v":0},{"$f":"SUMIFS('SO Analysis'!G:G,'SO Analysis'!B:B,'Print Form'!C650,'SO Analysis'!D:D,'Print Form'!E650)","v":0}]
[null,"",null,null,null,{"$f":"SUMIFS('SO Analysis'!E:E,'SO Analysis'!B:B,'Print Form'!C651,'SO Analysis'!D:D,'Print Form'!E651)","v":0},{"$f":"SUMIFS('SO Analysis'!F:F,'SO Analysis'!B:B,'Print Form'!C651,'SO Analysis'!D:D,'Print Form'!E651)","v":0},{"$f":"SUMIFS('SO Analysis'!G:G,'SO Analysis'!B:B,'Print Form'!C651,'SO Analysis'!D:D,'Print Form'!E651)","v":0}]
[null,"",null,null,null,{"$f":"SUMIFS('SO Analysis'!E:E,'SO Analysis'!B:B,'Print Form'!C652,'SO Analysis'!D:D,'Print Form'!E652)","v":0},{"$f":"SUMIFS('SO Analysis'!F:F,'SO Analysis'!B:B,'Print Form'!C652,'SO Analysis'!D:D,'Print Form'!E652)","v":0},{"$f":"SUMIFS('SO Analysis'!G:G,'SO Analysis'!B:B,'Print Form'!C652,'SO Analysis'!D:D,'Print Form'!E652)","v":0}]
[null,"",null,null,null,{"$f":"SUMIFS('SO Analysis'!E:E,'SO Analysis'!B:B,'Print Form'!C653,'SO Analysis'!D:D,'Print Form'!E653)","v":0},{"$f":"SUMIFS('SO Analysis'!F:F,'SO Analysis'!B:B,'Print Form'!C653,'SO Analysis'!D:D,'Print Form'!E653)","v":0},{"$f":"SUMIFS('SO Analysis'!G:G,'SO Analysis'!B:B,'Print Form'!C653,'SO Analysis'!D:D,'Print Form'!E653)","v":0}]
[null,{"$f":"IF(C654=\"\",\"\",ROW()-12)","v":""},null,null,null,{"$f":"SUMIFS('SO Analysis'!E:E,'SO Analysis'!B:B,'Print Form'!C654,'SO Analysis'!D:D,'Print Form'!E654)","v":0},{"$f":"SUMIFS('SO Analysis'!F:F,'SO Analysis'!B:B,'Print Form'!C654,'SO Analysis'!D:D,'Print Form'!E654)","v":0},{"$f":"SUMIFS('SO Analysis'!G:G,'SO Analysis'!B:B,'Print Form'!C654,'SO Analysis'!D:D,'Print Form'!E654)","v":0}]
[null,"",null,null,null,{"$f":"SUMIFS('SO Analysis'!E:E,'SO Analysis'!B:B,'Print Form'!C655,'SO Analysis'!D:D,'Print Form'!E655)","v":0},{"$f":"SUMIFS('SO Analysis'!F:F,'SO Analysis'!B:B,'Print Form'!C655,'SO Analysis'!D:D,'Print Form'!E655)","v":0},{"$f":"SUMIFS('SO Analysis'!G:G,'SO Analysis'!B:B,'Print Form'!C655,'SO Analysis'!D:D,'Print Form'!E655)","v":0}]
[null,"",null,null,null,{"$f":"SUMIFS('SO Analysis'!E:E,'SO Analysis'!B:B,'Print Form'!C656,'SO Analysis'!D:D,'Print Form'!E656)","v":0},{"$f":"SUMIFS('SO Analysis'!F:F,'SO Analysis'!B:B,'Print Form'!C656,'SO Analysis'!D:D,'Print Form'!E656)","v":0},{"$f":"SUMIFS('SO Analysis'!G:G,'SO Analysis'!B:B,'Print Form'!C656,'SO Analysis'!D:D,'Print Form'!E656)","v":0}]
[null,"",null,null,null,{"$f":"SUMIFS('SO Analysis'!E:E,'SO Analysis'!B:B,'Print Form'!C657,'SO Analysis'!D:D,'Print Form'!E657)","v":0},{"$f":"SUMIFS('SO Analysis'!F:F,'SO Analysis'!B:B,'Print Form'!C657,'SO Analysis'!D:D,'Print Form'!E657)","v":0},{"$f":"SUMIFS('SO Analysis'!G:G,'SO Analysis'!B:B,'Print Form'!C657,'SO Analysis'!D:D,'Print Form'!E657)","v":0}]
[null,"",null,null,null,{"$f":"SUMIFS('SO Analysis'!E:E,'SO Analysis'!B:B,'Print Form'!C658,'SO Analysis'!D:D,'Print Form'!E658)","v":0},{"$f":"SUMIFS('SO Analysis'!F:F,'SO Analysis'!B:B,'Print Form'!C658,'SO Analysis'!D:D,'Print Form'!E658)","v":0},{"$f":"SUMIFS('SO Analysis'!G:G,'SO Analysis'!B:B,'Print Form'!C658,'SO Analysis'!D:D,'Print Form'!E658)","v":0}]
[null,"",null,null,null,{"$f":"SUMIFS('SO Analysis'!E:E,'SO Analysis'!B:B,'Print Form'!C659,'SO Analysis'!D:D,'Print Form'!E659)","v":0},{"$f":"SUMIFS('SO Analysis'!F:F,'SO Analysis'!B:B,'Print Form'!C659,'SO Analysis'!D:D,'Print Form'!E659)","v":0},{"$f":"SUMIFS('SO Analysis'!G:G,'SO Analysis'!B:B,'Print Form'!C659,'SO Analysis'!D:D,'Print Form'!E659)","v":0}]
[null,"",null,null,null,{"$f":"SUMIFS('SO Analysis'!E:E,'SO Analysis'!B:B,'Print Form'!C660,'SO Analysis'!D:D,'Print Form'!E660)","v":0},{"$f":"SUMIFS('SO Analysis'!F:F,'SO Analysis'!B:B,'Print Form'!C660,'SO Analysis'!D:D,'Print Form'!E660)","v":0},{"$f":"SUMIFS('SO Analysis'!G:G,'SO Analysis'!B:B,'Print Form'!C660,'SO Analysis'!D:D,'Print Form'!E660)","v":0}]
[null,"",null,null,null,{"$f":"SUMIFS('SO Analysis'!E:E,'SO Analysis'!B:B,'Print Form'!C661,'SO Analysis'!D:D,'Print Form'!E661)","v":0},{"$f":"SUMIFS('SO Analysis'!F:F,'SO Analysis'!B:B,'Print Form'!C661,'SO Analysis'!D:D,'Print Form'!E661)","v":0},{"$f":"SUMIFS('SO Analysis'!G:G,'SO Analysis'!B:B,'Print Form'!C661,'SO Analysis'!D:D,'Print Form'!E661)","v":0}]
[null,"",null,null,null,{"$f":"SUMIFS('SO Analysis'!E:E,'SO Analysis'!B:B,'Print Form'!C662,'SO Analysis'!D:D,'Print Form'!E662)","v":0},{"$f":"SUMIFS('SO Analysis'!F:F,'SO Analysis'!B:B,'Print Form'!C662,'SO Analysis'!D:D,'Print Form'!E662)","v":0},{"$f":"SUMIFS('SO Analysis'!G:G,'SO Analysis'!B:B,'Print Form'!C662,'SO Analysis'!D:D,'Print Form'!E662)","v":0}]
[null,"",null,null,null,{"$f":"SUMIFS('SO Analysis'!E:E,'SO Analysis'!B:B,'Print Form'!C663,'SO Analysis'!D:D,'Print Form'!E663)","v":0},{"$f":"SUMIFS('SO Analysis'!F:F,'SO Analysis'!B:B,'Print Form'!C663,'SO Analysis'!D:D,'Print Form'!E663)","v":0},{"$f":"SUMIFS('SO Analysis'!G:G,'SO Analysis'!B:B,'Print Form'!C663,'SO Analysis'!D:D,'Print Form'!E663)","v":0}]
[null,"",null,null,null,{"$f":"SUMIFS('SO Analysis'!E:E,'SO Analysis'!B:B,'Print Form'!C664,'SO Analysis'!D:D,'Print Form'!E664)","v":0},{"$f":"SUMIFS('SO Analysis'!F:F,'SO Analysis'!B:B,'Print Form'!C664,'SO Analysis'!D:D,'Print Form'!E664)","v":0},{"$f":"SUMIFS('SO Analysis'!G:G,'SO Analysis'!B:B,'Print Form'!C664,'SO Analysis'!D:D,'Print Form'!E664)","v":0}]
[null,"",null,null,null,{"$f":"SUMIFS('SO Analysis'!E:E,'SO Analysis'!B:B,'Print Form'!C665,'SO Analysis'!D:D,'Print Form'!E665)","v":0},{"$f":"SUMIFS('SO Analysis'!F:F,'SO Analysis'!B:B,'Print Form'!C665,'SO Analysis'!D:D,'Print Form'!E665)","v":0},{"$f":"SUMIFS('SO Analysis'!G:G,'SO Analysis'!B:B,'Print Form'!C665,'SO Analysis'!D:D,'Print Form'!E665)","v":0}]
[null,"",null,null,null,{"$f":"SUMIFS('SO Analysis'!E:E,'SO Analysis'!B:B,'Print Form'!C666,'SO Analysis'!D:D,'Print Form'!E666)","v":0},{"$f":"SUMIFS('SO Analysis'!F:F,'SO Analysis'!B:B,'Print Form'!C666,'SO Analysis'!D:D,'Print Form'!E666)","v":0},{"$f":"SUMIFS('SO Analysis'!G:G,'SO Analysis'!B:B,'Print Form'!C666,'SO Analysis'!D:D,'Print Form'!E666)","v":0}]
[null,"",null,null,null,{"$f":"SUMIFS('SO Analysis'!E:E,'SO Analysis'!B:B,'Print Form'!C667,'SO Analysis'!D:D,'Print Form'!E667)","v":0},{"$f":"SUMIFS('SO Analysis'!F:F,'SO Analysis'!B:B,'Print Form'!C667,'SO Analysis'!D:D,'Print Form'!E667)","v":0},{"$f":"SUMIFS('SO Analysis'!G:G,'SO Analysis'!B:B,'Print Form'!C667,'SO Analysis'!D:D,'Print Form'!E667)","v":0}]
[null,"",null,null,null,{"$f":"SUMIFS('SO Analysis'!E:E,'SO Analysis'!B:B,'Print Form'!C668,'SO Analysis'!D:D,'Print Form'!E668)","v":0},{"$f":"SUMIFS('SO Analysis'!F:F,'SO Analysis'!B:B,'Print Form'!C668,'SO Analysis'!D:D,'Print Form'!E668)","v":0},{"$f":"SUMIFS('SO Analysis'!G:G,'SO Analysis'!B:B,'Print Form'!C668,'SO Analysis'!D:D,'Print Form'!E668)","v":0}]
[null,"",null,null,null,{"$f":"SUMIFS('SO Analysis'!E:E,'SO Analysis'!B:B,'Print Form'!C669,'SO Analysis'!D:D,'Print Form'!E669)","v":0},{"$f":"SUMIFS('SO Analysis'!F:F,'SO Analysis'!B:B,'Print Form'!C669,'SO Analysis'!D:D,'Print Form'!E669)","v":0},{"$f":"SUMIFS('SO Analysis'!G:G,'SO Analysis'!B:B,'Print Form'!C669,'SO Analysis'!D:D,'Print Form'!E669)","v":0}]
[null,"",null,null,null,{"$f":"SUMIFS('SO Analysis'!E:E,'SO Analysis'!B:B,'Print Form'!C670,'SO Analysis'!D:D,'Print Form'!E670)","v":0},{"$f":"SUMIFS('SO Analysis'!F:F,'SO Analysis'!B:B,'Print Form'!C670,'SO Analysis'!D:D,'Print Form'!E670)","v":0},{"$f":"SUMIFS('SO Analysis'!G:G,'SO Analysis'!B:B,'Print Form'!C670,'SO Analysis'!D:D,'Print Form'!E670)","v":0}]
[null,"",null,null,null,{"$f":"SUMIFS('SO Analysis'!E:E,'SO Analysis'!B:B,'Print Form'!C671,'SO Analysis'!D:D,'Print Form'!E671)","v":0},{"$f":"SUMIFS('SO Analysis'!F:F,'SO Analysis'!B:B,'Print Form'!C671,'SO Analysis'!D:D,'Print Form'!E671)","v":0},{"$f":"SUMIFS('SO Analysis'!G:G,'SO Analysis'!B:B,'Print Form'!C671,'SO Analysis'!D:D,'Print Form'!E671)","v":0}]
[null,"",null,null,null,{"$f":"SUMIFS('SO Analysis'!E:E,'SO Analysis'!B:B,'Print Form'!C672,'SO Analysis'!D:D,'Print Form'!E672)","v":0},{"$f":"SUMIFS('SO Analysis'!F:F,'SO Analysis'!B:B,'Print Form'!C672,'SO Analysis'!D:D,'Print Form'!E672)","v":0},{"$f":"SUMIFS('SO Analysis'!G:G,'SO Analysis'!B:B,'Print Form'!C672,'SO Analysis'!D:D,'Print Form'!E672)","v":0}]
[null,"",null,null,null,{"$f":"SUMIFS('SO Analysis'!E:E,'SO Analysis'!B:B,'Print Form'!C673,'SO Analysis'!D:D,'Print Form'!E673)","v":0},{"$f":"SUMIFS('SO Analysis'!F:F,'SO Analysis'!B:B,'Print Form'!C673,'SO Analysis'!D:D,'Print Form'!E673)","v":0},{"$f":"SUMIFS('SO Analysis'!G:G,'SO Analysis'!B:B,'Print Form'!C673,'SO Analysis'!D:D,'Print Form'!E673)","v":0}]
[null,"",null,null,null,{"$f":"SUMIFS('SO Analysis'!E:E,'SO Analysis'!B:B,'Print Form'!C674,'SO Analysis'!D:D,'Print Form'!E674)","v":0},{"$f":"SUMIFS('SO Analysis'!F:F,'SO Analysis'!B:B,'Print Form'!C674,'SO Analysis'!D:D,'Print Form'!E674)","v":0},{"$f":"SUMIFS('SO Analysis'!G:G,'SO Analysis'!B:B,'Print Form'!C674,'SO Analysis'!D:D,'Print Form'!E674)","v":0}]
[null,"",null,null,null,{"$f":"SUMIFS('SO Analysis'!E:E,'SO Analysis'!B:B,'Print Form'!C675,'SO Analysis'!D:D,'Print Form'!E675)","v":0},{"$f":"SUMIFS('SO Analysis'!F:F,'SO Analysis'!B:B,'Print Form'!C675,'SO Analysis'!D:D,'Print Form'!E675)","v":0},{"$f":"SUMIFS('SO Analysis'!G:G,'SO Analysis'!B:B,'Print Form'!C675,'SO Analysis'!D:D,'Print Form'!E675)","v":0}]
[null,"",null,null,null,{"$f":"SUMIFS('SO Analysis'!E:E,'SO Analysis'!B:B,'Print Form'!C676,'SO Analysis'!D:D,'Print Form'!E676)","v":0},{"$f":"SUMIFS('SO Analysis'!F:F,'SO Analysis'!B:B,'Print Form'!C676,'SO Analysis'!D:D,'Print Form'!E676)","v":0},{"$f":"SUMIFS('SO Analysis'!G:G,'SO Analysis'!B:B,'Print Form'!C676,'SO Analysis'!D:D,'Print Form'!E676)","v":0}]
[null,"",null,null,null,{"$f":"SUMIFS('SO Analysis'!E:E,'SO Analysis'!B:B,'Print Form'!C677,'SO Analysis'!D:D,'Print Form'!E677)","v":0},{"$f":"SUMIFS('SO Analysis'!F:F,'SO Analysis'!B:B,'Print Form'!C677,'SO Analysis'!D:D,'Print Form'!E677)","v":0},{"$f":"SUMIFS('SO Analysis'!G:G,'SO Analysis'!B:B,'Print Form'!C677,'SO Analysis'!D:D,'Print Form'!E677)","v":0}]
[null,"",null,null,null,{"$f":"SUMIFS('SO Analysis'!E:E,'SO Analysis'!B:B,'Print Form'!C678,'SO Analysis'!D:D,'Print Form'!E678)","v":0},{"$f":"SUMIFS('SO Analysis'!F:F,'SO Analysis'!B:B,'Print Form'!C678,'SO Analysis'!D:D,'Print Form'!E678)","v":0},{"$f":"SUMIFS('SO Analysis'!G:G,'SO Analysis'!B:B,'Print Form'!C678,'SO Analysis'!D:D,'Print Form'!E678)","v":0}]
[null,"",null,null,null,{"$f":"SUMIFS('SO Analysis'!E:E,'SO Analysis'!B:B,'Print Form'!C679,'SO Analysis'!D:D,'Print Form'!E679)","v":0},{"$f":"SUMIFS('SO Analysis'!F:F,'SO Analysis'!B:B,'Print Form'!C679,'SO Analysis'!D:D,'Print Form'!E679)","v":0},{"$f":"SUMIFS('SO Analysis'!G:G,'SO Analysis'!B:B,'Print Form'!C679,'SO Analysis'!D:D,'Print Form'!E679)","v":0}]
[null,"",null,null,null,{"$f":"SUMIFS('SO Analysis'!E:E,'SO Analysis'!B:B,'Print Form'!C680,'SO Analysis'!D:D,'Print Form'!E680)","v":0},{"$f":"SUMIFS('SO Analysis'!F:F,'SO Analysis'!B:B,'Print Form'!C680,'SO Analysis'!D:D,'Print Form'!E680)","v":0},{"$f":"SUMIFS('SO Analysis'!G:G,'SO Analysis'!B:B,'Print Form'!C680,'SO Analysis'!D:D,'Print Form'!E680)","v":0}]
[null,"",null,null,null,{"$f":"SUMIFS('SO Analysis'!E:E,'SO Analysis'!B:B,'Print Form'!C681,'SO Analysis'!D:D,'Print Form'!E681)","v":0},{"$f":"SUMIFS('SO Analysis'!F:F,'SO Analysis'!B:B,'Print Form'!C681,'SO Analysis'!D:D,'Print Form'!E681)","v":0},{"$f":"SUMIFS('SO Analysis'!G:G,'SO Analysis'!B:B,'Print Form'!C681,'SO Analysis'!D:D,'Print Form'!E681)","v":0}]
[null,"",null,null,null,{"$f":"SUMIFS('SO Analysis'!E:E,'SO Analysis'!B:B,'Print Form'!C682,'SO Analysis'!D:D,'Print Form'!E682)","v":0},{"$f":"SUMIFS('SO Analysis'!F:F,'SO Analysis'!B:B,'Print Form'!C682,'SO Analysis'!D:D,'Print Form'!E682)","v":0},{"$f":"SUMIFS('SO Analysis'!G:G,'SO Analysis'!B:B,'Print Form'!C682,'SO Analysis'!D:D,'Print Form'!E682)","v":0}]
[null,"",null,null,null,{"$f":"SUMIFS('SO Analysis'!E:E,'SO Analysis'!B:B,'Print Form'!C683,'SO Analysis'!D:D,'Print Form'!E683)","v":0},{"$f":"SUMIFS('SO Analysis'!F:F,'SO Analysis'!B:B,'Print Form'!C683,'SO Analysis'!D:D,'Print Form'!E683)","v":0},{"$f":"SUMIFS('SO Analysis'!G:G,'SO Analysis'!B:B,'Print Form'!C683,'SO Analysis'!D:D,'Print Form'!E683)","v":0}]
[null,"",null,null,null,{"$f":"SUMIFS('SO Analysis'!E:E,'SO Analysis'!B:B,'Print Form'!C684,'SO Analysis'!D:D,'Print Form'!E684)","v":0},{"$f":"SUMIFS('SO Analysis'!F:F,'SO Analysis'!B:B,'Print Form'!C684,'SO Analysis'!D:D,'Print Form'!E684)","v":0},{"$f":"SUMIFS('SO Analysis'!G:G,'SO Analysis'!B:B,'Print Form'!C684,'SO Analysis'!D:D,'Print Form'!E684)","v":0}]
[null,"",null,null,null,{"$f":"SUMIFS('SO Analysis'!E:E,'SO Analysis'!B:B,'Print Form'!C685,'SO Analysis'!D:D,'Print Form'!E685)","v":0},{"$f":"SUMIFS('SO Analysis'!F:F,'SO Analysis'!B:B,'Print Form'!C685,'SO Analysis'!D:D,'Print Form'!E685)","v":0},{"$f":"SUMIFS('SO Analysis'!G:G,'SO Analysis'!B:B,'Print Form'!C685,'SO Analysis'!D:D,'Print Form'!E685)","v":0}]
[null,"",null,null,null,{"$f":"SUMIFS('SO Analysis'!E:E,'SO Analysis'!B:B,'Print Form'!C686,'SO Analysis'!D:D,'Print Form'!E686)","v":0},{"$f":"SUMIFS('SO Analysis'!F:F,'SO Analysis'!B:B,'Print Form'!C686,'SO Analysis'!D:D,'Print Form'!E686)","v":0},{"$f":"SUMIFS('SO Analysis'!G:G,'SO Analysis'!B:B,'Print Form'!C686,'SO Analysis'!D:D,'Print Form'!E686)","v":0}]
[null,"",null,null,null,{"$f":"SUMIFS('SO Analysis'!E:E,'SO Analysis'!B:B,'Print Form'!C687,'SO Analysis'!D:D,'Print Form'!E687)","v":0},{"$f":"SUMIFS('SO Analysis'!F:F,'SO Analysis'!B:B,'Print Form'!C687,'SO Analysis'!D:D,'Print Form'!E687)","v":0},{"$f":"SUMIFS('SO Analysis'!G:G,'SO Analysis'!B:B,'Print Form'!C687,'SO Analysis'!D:D,'Print Form'!E687)","v":0}]
[null,"",null,null,null,{"$f":"SUMIFS('SO Analysis'!E:E,'SO Analysis'!B:B,'Print Form'!C688,'SO Analysis'!D:D,'Print Form'!E688)","v":0},{"$f":"SUMIFS('SO Analysis'!F:F,'SO Analysis'!B:B,'Print Form'!C688,'SO Analysis'!D:D,'Print Form'!E688)","v":0},{"$f":"SUMIFS('SO Analysis'!G:G,'SO Analysis'!B:B,'Print Form'!C688,'SO Analysis'!D:D,'Print Form'!E688)","v":0}]
[null,"",null,null,null,{"$f":"SUMIFS('SO Analysis'!E:E,'SO Analysis'!B:B,'Print Form'!C689,'SO Analysis'!D:D,'Print Form'!E689)","v":0},{"$f":"SUMIFS('SO Analysis'!F:F,'SO Analysis'!B:B,'Print Form'!C689,'SO Analysis'!D:D,'Print Form'!E689)","v":0},{"$f":"SUMIFS('SO Analysis'!G:G,'SO Analysis'!B:B,'Print Form'!C689,'SO Analysis'!D:D,'Print Form'!E689)","v":0}]
[null,"",null,null,null,{"$f":"SUMIFS('SO Analysis'!E:E,'SO Analysis'!B:B,'Print Form'!C690,'SO Analysis'!D:D,'Print Form'!E690)","v":0},{"$f":"SUMIFS('SO Analysis'!F:F,'SO Analysis'!B:B,'Print Form'!C690,'SO Analysis'!D:D,'Print Form'!E690)","v":0},{"$f":"SUMIFS('SO Analysis'!G:G,'SO Analysis'!B:B,'Print Form'!C690,'SO Analysis'!D:D,'Print Form'!E690)","v":0}]
[null,"",null,null,null,{"$f":"SUMIFS('SO Analysis'!E:E,'SO Analysis'!B:B,'Print Form'!C691,'SO Analysis'!D:D,'Print Form'!E691)","v":0},{"$f":"SUMIFS('SO Analysis'!F:F,'SO Analysis'!B:B,'Print Form'!C691,'SO Analysis'!D:D,'Print Form'!E691)","v":0},{"$f":"SUMIFS('SO Analysis'!G:G,'SO Analysis'!B:B,'Print Form'!C691,'SO Analysis'!D:D,'Print Form'!E691)","v":0}]
[null,"",null,null,null,{"$f":"SUMIFS('SO Analysis'!E:E,'SO Analysis'!B:B,'Print Form'!C692,'SO Analysis'!D:D,'Print Form'!E692)","v":0},{"$f":"SUMIFS('SO Analysis'!F:F,'SO Analysis'!B:B,'Print Form'!C692,'SO Analysis'!D:D,'Print Form'!E692)","v":0},{"$f":"SUMIFS('SO Analysis'!G:G,'SO Analysis'!B:B,'Print Form'!C692,'SO Analysis'!D:D,'Print Form'!E692)","v":0}]
[null,"",null,null,null,{"$f":"SUMIFS('SO Analysis'!E:E,'SO Analysis'!B:B,'Print Form'!C693,'SO Analysis'!D:D,'Print Form'!E693)","v":0},{"$f":"SUMIFS('SO Analysis'!F:F,'SO Analysis'!B:B,'Print Form'!C693,'SO Analysis'!D:D,'Print Form'!E693)","v":0},{"$f":"SUMIFS('SO Analysis'!G:G,'SO Analysis'!B:B,'Print Form'!C693,'SO Analysis'!D:D,'Print Form'!E693)","v":0}]
[null,"",null,null,null,{"$f":"SUMIFS('SO Analysis'!E:E,'SO Analysis'!B:B,'Print Form'!C694,'SO Analysis'!D:D,'Print Form'!E694)","v":0},{"$f":"SUMIFS('SO Analysis'!F:F,'SO Analysis'!B:B,'Print Form'!C694,'SO Analysis'!D:D,'Print Form'!E694)","v":0},{"$f":"SUMIFS('SO Analysis'!G:G,'SO Analysis'!B:B,'Print Form'!C694,'SO Analysis'!D:D,'Print Form'!E694)","v":0}]
[null,"",null,null,null,{"$f":"SUMIFS('SO Analysis'!E:E,'SO Analysis'!B:B,'Print Form'!C695,'SO Analysis'!D:D,'Print Form'!E695)","v":0},{"$f":"SUMIFS('SO Analysis'!F:F,'SO Analysis'!B:B,'Print Form'!C695,'SO Analysis'!D:D,'Print Form'!E695)","v":0},{"$f":"SUMIFS('SO Analysis'!G:G,'SO Analysis'!B:B,'Print Form'!C695,'SO Analysis'!D:D,'Print Form'!E695)","v":0}]
[null,"",null,null,null,{"$f":"SUMIFS('SO Analysis'!E:E,'SO Analysis'!B:B,'Print Form'!C696,'SO Analysis'!D:D,'Print Form'!E696)","v":0},{"$f":"SUMIFS('SO Analysis'!F:F,'SO Analysis'!B:B,'Print Form'!C696,'SO Analysis'!D:D,'Print Form'!E696)","v":0},{"$f":"SUMIFS('SO Analysis'!G:G,'SO Analysis'!B:B,'Print Form'!C696,'SO Analysis'!D:D,'Print Form'!E696)","v":0}]
[null,"",null,null,null,{"$f":"SUMIFS('SO Analysis'!E:E,'SO Analysis'!B:B,'Print Form'!C697,'SO Analysis'!D:D,'Print Form'!E697)","v":0},{"$f":"SUMIFS('SO Analysis'!F:F,'SO Analysis'!B:B,'Print Form'!C697,'SO Analysis'!D:D,'Print Form'!E697)","v":0},{"$f":"SUMIFS('SO Analysis'!G:G,'SO Analysis'!B:B,'Print Form'!C697,'SO Analysis'!D:D,'Print Form'!E697)","v":0}]
[null,"",null,null,null,{"$f":"SUMIFS('SO Analysis'!E:E,'SO Analysis'!B:B,'Print Form'!C698,'SO Analysis'!D:D,'Print Form'!E698)","v":0},{"$f":"SUMIFS('SO Analysis'!F:F,'SO Analysis'!B:B,'Print Form'!C698,'SO Analysis'!D:D,'Print Form'!E698)","v":0},{"$f":"SUMIFS('SO Analysis'!G:G,'SO Analysis'!B:B,'Print Form'!C698,'SO Analysis'!D:D,'Print Form'!E698)","v":0}]
[null,"",null,null,null,{"$f":"SUMIFS('SO Analysis'!E:E,'SO Analysis'!B:B,'Print Form'!C699,'SO Analysis'!D:D,'Print Form'!E699)","v":0},{"$f":"SUMIFS('SO Analysis'!F:F,'SO Analysis'!B:B,'Print Form'!C699,'SO Analysis'!D:D,'Print Form'!E699)","v":0},{"$f":"SUMIFS('SO Analysis'!G:G,'SO Analysis'!B:B,'Print Form'!C699,'SO Analysis'!D:D,'Print Form'!E699)","v":0}]
[null,"",null,null,null,{"$f":"SUMIFS('SO Analysis'!E:E,'SO Analysis'!B:B,'Print Form'!C700,'SO Analysis'!D:D,'Print Form'!E700)","v":0},{"$f":"SUMIFS('SO Analysis'!F:F,'SO Analysis'!B:B,'Print Form'!C700,'SO Analysis'!D:D,'Print Form'!E700)","v":0},{"$f":"SUMIFS('SO Analysis'!G:G,'SO Analysis'!B:B,'Print Form'!C700,'SO Analysis'!D:D,'Print Form'!E700)","v":0}]
[null,"",null,null,null,{"$f":"SUMIFS('SO Analysis'!E:E,'SO Analysis'!B:B,'Print Form'!C701,'SO Analysis'!D:D,'Print Form'!E701)","v":0},{"$f":"SUMIFS('SO Analysis'!F:F,'SO Analysis'!B:B,'Print Form'!C701,'SO Analysis'!D:D,'Print Form'!E701)","v":0},{"$f":"SUMIFS('SO Analysis'!G:G,'SO Analysis'!B:B,'Print Form'!C701,'SO Analysis'!D:D,'Print Form'!E701)","v":0}]
[null,"",null,null,null,{"$f":"SUMIFS('SO Analysis'!E:E,'SO Analysis'!B:B,'Print Form'!C702,'SO Analysis'!D:D,'Print Form'!E702)","v":0},{"$f":"SUMIFS('SO Analysis'!F:F,'SO Analysis'!B:B,'Print Form'!C702,'SO Analysis'!D:D,'Print Form'!E702)","v":0},{"$f":"SUMIFS('SO Analysis'!G:G,'SO Analysis'!B:B,'Print Form'!C702,'SO Analysis'!D:D,'Print Form'!E702)","v":0}]
[null,"",null,null,null,{"$f":"SUMIFS('SO Analysis'!E:E,'SO Analysis'!B:B,'Print Form'!C703,'SO Analysis'!D:D,'Print Form'!E703)","v":0},{"$f":"SUMIFS('SO Analysis'!F:F,'SO Analysis'!B:B,'Print Form'!C703,'SO Analysis'!D:D,'Print Form'!E703)","v":0},{"$f":"SUMIFS('SO Analysis'!G:G,'SO Analysis'!B:B,'Print Form'!C703,'SO Analysis'!D:D,'Print Form'!E703)","v":0}]
[null,"",null,null,null,{"$f":"SUMIFS('SO Analysis'!E:E,'SO Analysis'!B:B,'Print Form'!C704,'SO Analysis'!D:D,'Print Form'!E704)","v":0},{"$f":"SUMIFS('SO Analysis'!F:F,'SO Analysis'!B:B,'Print Form'!C704,'SO Analysis'!D:D,'Print Form'!E704)","v":0},{"$f":"SUMIFS('SO Analysis'!G:G,'SO Analysis'!B:B,'Print Form'!C704,'SO Analysis'!D:D,'Print Form'!E704)","v":0}]
[null,"",null,null,null,{"$f":"SUMIFS('SO Analysis'!E:E,'SO Analysis'!B:B,'Print Form'!C705,'SO Analysis'!D:D,'Print Form'!E705)","v":0},{"$f":"SUMIFS('SO Analysis'!F:F,'SO Analysis'!B:B,'Print Form'!C705,'SO Analysis'!D:D,'Print Form'!E705)","v":0},{"$f":"SUMIFS('SO Analysis'!G:G,'SO Analysis'!B:B,'Print Form'!C705,'SO Analysis'!D:D,'Print Form'!E705)","v":0}]
[null,"",null,null,null,{"$f":"SUMIFS('SO Analysis'!E:E,'SO Analysis'!B:B,'Print Form'!C706,'SO Analysis'!D:D,'Print Form'!E706)","v":0},{"$f":"SUMIFS('SO Analysis'!F:F,'SO Analysis'!B:B,'Print Form'!C706,'SO Analysis'!D:D,'Print Form'!E706)","v":0},{"$f":"SUMIFS('SO Analysis'!G:G,'SO Analysis'!B:B,'Print Form'!C706,'SO Analysis'!D:D,'Print Form'!E706)","v":0}]
[null,"",null,null,null,{"$f":"SUMIFS('SO Analysis'!E:E,'SO Analysis'!B:B,'Print Form'!C707,'SO Analysis'!D:D,'Print Form'!E707)","v":0},{"$f":"SUMIFS('SO Analysis'!F:F,'SO Analysis'!B:B,'Print Form'!C707,'SO Analysis'!D:D,'Print Form'!E707)","v":0},{"$f":"SUMIFS('SO Analysis'!G:G,'SO Analysis'!B:B,'Print Form'!C707,'SO Analysis'!D:D,'Print Form'!E707)","v":0}]
[null,"",null,null,null,{"$f":"SUMIFS('SO Analysis'!E:E,'SO Analysis'!B:B,'Print Form'!C708,'SO Analysis'!D:D,'Print Form'!E708)","v":0},{"$f":"SUMIFS('SO Analysis'!F:F,'SO Analysis'!B:B,'Print Form'!C708,'SO Analysis'!D:D,'Print Form'!E708)","v":0},{"$f":"SUMIFS('SO Analysis'!G:G,'SO Analysis'!B:B,'Print Form'!C708,'SO Analysis'!D:D,'Print Form'!E708)","v":0}]
[null,"",null,null,null,{"$f":"SUMIFS('SO Analysis'!E:E,'SO Analysis'!B:B,'Print Form'!C709,'SO Analysis'!D:D,'Print Form'!E709)","v":0},{"$f":"SUMIFS('SO Analysis'!F:F,'SO Analysis'!B:B,'Print Form'!C709,'SO Analysis'!D:D,'Print Form'!E709)","v":0},{"$f":"SUMIFS('SO Analysis'!G:G,'SO Analysis'!B:B,'Print Form'!C709,'SO Analysis'!D:D,'Print Form'!E709)","v":0}]
[null,"",null,null,null,{"$f":"SUMIFS('SO Analysis'!E:E,'SO Analysis'!B:B,'Print Form'!C710,'SO Analysis'!D:D,'Print Form'!E710)","v":0},{"$f":"SUMIFS('SO Analysis'!F:F,'SO Analysis'!B:B,'Print Form'!C710,'SO Analysis'!D:D,'Print Form'!E710)","v":0},{"$f":"SUMIFS('SO Analysis'!G:G,'SO Analysis'!B:B,'Print Form'!C710,'SO Analysis'!D:D,'Print Form'!E710)","v":0}]
[null,"",null,null,null,{"$f":"SUMIFS('SO Analysis'!E:E,'SO Analysis'!B:B,'Print Form'!C711,'SO Analysis'!D:D,'Print Form'!E711)","v":0},{"$f":"SUMIFS('SO Analysis'!F:F,'SO Analysis'!B:B,'Print Form'!C711,'SO Analysis'!D:D,'Print Form'!E711)","v":0},{"$f":"SUMIFS('SO Analysis'!G:G,'SO Analysis'!B:B,'Print Form'!C711,'SO Analysis'!D:D,'Print Form'!E711)","v":0}]
[null,"",null,null,null,{"$f":"SUMIFS('SO Analysis'!E:E,'SO Analysis'!B:B,'Print Form'!C712,'SO Analysis'!D:D,'Print Form'!E712)","v":0},{"$f":"SUMIFS('SO Analysis'!F:F,'SO Analysis'!B:B,'Print Form'!C712,'SO Analysis'!D:D,'Print Form'!E712)","v":0},{"$f":"SUMIFS('SO Analysis'!G:G,'SO Analysis'!B:B,'Print Form'!C712,'SO Analysis'!D:D,'Print Form'!E712)","v":0}]
[null,"",null,null,null,{"$f":"SUMIFS('SO Analysis'!E:E,'SO Analysis'!B:B,'Print Form'!C713,'SO Analysis'!D:D,'Print Form'!E713)","v":0},{"$f":"SUMIFS('SO Analysis'!F:F,'SO Analysis'!B:B,'Print Form'!C713,'SO Analysis'!D:D,'Print Form'!E713)","v":0},{"$f":"SUMIFS('SO Analysis'!G:G,'SO Analysis'!B:B,'Print Form'!C713,'SO Analysis'!D:D,'Print Form'!E713)","v":0}]
[null,"",null,null,null,{"$f":"SUMIFS('SO Analysis'!E:E,'SO Analysis'!B:B,'Print Form'!C714,'SO Analysis'!D:D,'Print Form'!E714)","v":0},{"$f":"SUMIFS('SO Analysis'!F:F,'SO Analysis'!B:B,'Print Form'!C714,'SO Analysis'!D:D,'Print Form'!E714)","v":0},{"$f":"SUMIFS('SO Analysis'!G:G,'SO Analysis'!B:B,'Print Form'!C714,'SO Analysis'!D:D,'Print Form'!E714)","v":0}]
[null,"",null,null,null,{"$f":"SUMIFS('SO Analysis'!E:E,'SO Analysis'!B:B,'Print Form'!C715,'SO Analysis'!D:D,'Print Form'!E715)","v":0},{"$f":"SUMIFS('SO Analysis'!F:F,'SO Analysis'!B:B,'Print Form'!C715,'SO Analysis'!D:D,'Print Form'!E715)","v":0},{"$f":"SUMIFS('SO Analysis'!G:G,'SO Analysis'!B:B,'Print Form'!C715,'SO Analysis'!D:D,'Print Form'!E715)","v":0}]
[null,"",null,null,null,{"$f":"SUMIFS('SO Analysis'!E:E,'SO Analysis'!B:B,'Print Form'!C716,'SO Analysis'!D:D,'Print Form'!E716)","v":0},{"$f":"SUMIFS('SO Analysis'!F:F,'SO Analysis'!B:B,'Print Form'!C716,'SO Analysis'!D:D,'Print Form'!E716)","v":0},{"$f":"SUMIFS('SO Analysis'!G:G,'SO Analysis'!B:B,'Print Form'!C716,'SO Analysis'!D:D,'Print Form'!E716)","v":0}]
[null,"",null,null,null,{"$f":"SUMIFS('SO Analysis'!E:E,'SO Analysis'!B:B,'Print Form'!C717,'SO Analysis'!D:D,'Print Form'!E717)","v":0},{"$f":"SUMIFS('SO Analysis'!F:F,'SO Analysis'!B:B,'Print Form'!C717,'SO Analysis'!D:D,'Print Form'!E717)","v":0},{"$f":"SUMIFS('SO Analysis'!G:G,'SO Analysis'!B:B,'Print Form'!C717,'SO Analysis'!D:D,'Print Form'!E717)","v":0}]
[null,{"$f":"IF(C718=\"\",\"\",ROW()-12)","v":""},null,null,null,{"$f":"SUMIFS('SO Analysis'!E:E,'SO Analysis'!B:B,'Print Form'!C718,'SO Analysis'!D:D,'Print Form'!E718)","v":0},{"$f":"SUMIFS('SO Analysis'!F:F,'SO Analysis'!B:B,'Print Form'!C718,'SO Analysis'!D:D,'Print Form'!E718)","v":0},{"$f":"SUMIFS('SO Analysis'!G:G,'SO Analysis'!B:B,'Print Form'!C718,'SO Analysis'!D:D,'Print Form'!E718)","v":0}]
[null,"",null,null,null,{"$f":"SUMIFS('SO Analysis'!E:E,'SO Analysis'!B:B,'Print Form'!C719,'SO Analysis'!D:D,'Print Form'!E719)","v":0},{"$f":"SUMIFS('SO Analysis'!F:F,'SO Analysis'!B:B,'Print Form'!C719,'SO Analysis'!D:D,'Print Form'!E719)","v":0},{"$f":"SUMIFS('SO Analysis'!G:G,'SO Analysis'!B:B,'Print Form'!C719,'SO Analysis'!D:D,'Print Form'!E719)","v":0}]
[null,"",null,null,null,{"$f":"SUMIFS('SO Analysis'!E:E,'SO Analysis'!B:B,'Print Form'!C720,'SO Analysis'!D:D,'Print Form'!E720)","v":0},{"$f":"SUMIFS('SO Analysis'!F:F,'SO Analysis'!B:B,'Print Form'!C720,'SO Analysis'!D:D,'Print Form'!E720)","v":0},{"$f":"SUMIFS('SO Analysis'!G:G,'SO Analysis'!B:B,'Print Form'!C720,'SO Analysis'!D:D,'Print Form'!E720)","v":0}]
[null,"",null,null,null,{"$f":"SUMIFS('SO Analysis'!E:E,'SO Analysis'!B:B,'Print Form'!C721,'SO Analysis'!D:D,'Print Form'!E721)","v":0},{"$f":"SUMIFS('SO Analysis'!F:F,'SO Analysis'!B:B,'Print Form'!C721,'SO Analysis'!D:D,'Print Form'!E721)","v":0},{"$f":"SUMIFS('SO Analysis'!G:G,'SO Analysis'!B:B,'Print Form'!C721,'SO Analysis'!D:D,'Print Form'!E721)","v":0}]
[null,"",null,null,null,{"$f":"SUMIFS('SO Analysis'!E:E,'SO Analysis'!B:B,'Print Form'!C722,'SO Analysis'!D:D,'Print Form'!E722)","v":0},{"$f":"SUMIFS('SO Analysis'!F:F,'SO Analysis'!B:B,'Print Form'!C722,'SO Analysis'!D:D,'Print Form'!E722)","v":0},{"$f":"SUMIFS('SO Analysis'!G:G,'SO Analysis'!B:B,'Print Form'!C722,'SO Analysis'!D:D,'Print Form'!E722)","v":0}]
[null,"",null,null,null,{"$f":"SUMIFS('SO Analysis'!E:E,'SO Analysis'!B:B,'Print Form'!C723,'SO Analysis'!D:D,'Print Form'!E723)","v":0},{"$f":"SUMIFS('SO Analysis'!F:F,'SO Analysis'!B:B,'Print Form'!C723,'SO Analysis'!D:D,'Print Form'!E723)","v":0},{"$f":"SUMIFS('SO Analysis'!G:G,'SO Analysis'!B:B,'Print Form'!C723,'SO Analysis'!D:D,'Print Form'!E723)","v":0}]
[null,"",null,null,null,{"$f":"SUMIFS('SO Analysis'!E:E,'SO Analysis'!B:B,'Print Form'!C724,'SO Analysis'!D:D,'Print Form'!E724)","v":0},{"$f":"SUMIFS('SO Analysis'!F:F,'SO Analysis'!B:B,'Print Form'!C724,'SO Analysis'!D:D,'Print Form'!E724)","v":0},{"$f":"SUMIFS('SO Analysis'!G:G,'SO Analysis'!B:B,'Print Form'!C724,'SO Analysis'!D:D,'Print Form'!E724)","v":0}]
[null,"",null,null,null,{"$f":"SUMIFS('SO Analysis'!E:E,'SO Analysis'!B:B,'Print Form'!C725,'SO Analysis'!D:D,'Print Form'!E725)","v":0},{"$f":"SUMIFS('SO Analysis'!F:F,'SO Analysis'!B:B,'Print Form'!C725,'SO Analysis'!D:D,'Print Form'!E725)","v":0},{"$f":"SUMIFS('SO Analysis'!G:G,'SO Analysis'!B:B,'Print Form'!C725,'SO Analysis'!D:D,'Print Form'!E725)","v":0}]
[null,"",null,null,null,{"$f":"SUMIFS('SO Analysis'!E:E,'SO Analysis'!B:B,'Print Form'!C726,'SO Analysis'!D:D,'Print Form'!E726)","v":0},{"$f":"SUMIFS('SO Analysis'!F:F,'SO Analysis'!B:B,'Print Form'!C726,'SO Analysis'!D:D,'Print Form'!E726)","v":0},{"$f":"SUMIFS('SO Analysis'!G:G,'SO Analysis'!B:B,'Print Form'!C726,'SO Analysis'!D:D,'Print Form'!E726)","v":0}]
[null,"",null,null,null,{"$f":"SUMIFS('SO Analysis'!E:E,'SO Analysis'!B:B,'Print Form'!C727,'SO Analysis'!D:D,'Print Form'!E727)","v":0},{"$f":"SUMIFS('SO Analysis'!F:F,'SO Analysis'!B:B,'Print Form'!C727,'SO Analysis'!D:D,'Print Form'!E727)","v":0},{"$f":"SUMIFS('SO Analysis'!G:G,'SO Analysis'!B:B,'Print Form'!C727,'SO Analysis'!D:D,'Print Form'!E727)","v":0}]
[null,"",null,null,null,{"$f":"SUMIFS('SO Analysis'!E:E,'SO Analysis'!B:B,'Print Form'!C728,'SO Analysis'!D:D,'Print Form'!E728)","v":0},{"$f":"SUMIFS('SO Analysis'!F:F,'SO Analysis'!B:B,'Print Form'!C728,'SO Analysis'!D:D,'Print Form'!E728)","v":0},{"$f":"SUMIFS('SO Analysis'!G:G,'SO Analysis'!B:B,'Print Form'!C728,'SO Analysis'!D:D,'Print Form'!E728)","v":0}]
[null,"",null,null,null,{"$f":"SUMIFS('SO Analysis'!E:E,'SO Analysis'!B:B,'Print Form'!C729,'SO Analysis'!D:D,'Print Form'!E729)","v":0},{"$f":"SUMIFS('SO Analysis'!F:F,'SO Analysis'!B:B,'Print Form'!C729,'SO Analysis'!D:D,'Print Form'!E729)","v":0},{"$f":"SUMIFS('SO Analysis'!G:G,'SO Analysis'!B:B,'Print Form'!C729,'SO Analysis'!D:D,'Print Form'!E729)","v":0}]
[null,"",null,null,null,{"$f":"SUMIFS('SO Analysis'!E:E,'SO Analysis'!B:B,'Print Form'!C730,'SO Analysis'!D:D,'Print Form'!E730)","v":0},{"$f":"SUMIFS('SO Analysis'!F:F,'SO Analysis'!B:B,'Print Form'!C730,'SO Analysis'!D:D,'Print Form'!E730)","v":0},{"$f":"SUMIFS('SO Analysis'!G:G,'SO Analysis'!B:B,'Print Form'!C730,'SO Analysis'!D:D,'Print Form'!E730)","v":0}]
[null,"",null,null,null,{"$f":"SUMIFS('SO Analysis'!E:E,'SO Analysis'!B:B,'Print Form'!C731,'SO Analysis'!D:D,'Print Form'!E731)","v":0},{"$f":"SUMIFS('SO Analysis'!F:F,'SO Analysis'!B:B,'Print Form'!C731,'SO Analysis'!D:D,'Print Form'!E731)","v":0},{"$f":"SUMIFS('SO Analysis'!G:G,'SO Analysis'!B:B,'Print Form'!C731,'SO Analysis'!D:D,'Print Form'!E731)","v":0}]
[null,"",null,null,null,{"$f":"SUMIFS('SO Analysis'!E:E,'SO Analysis'!B:B,'Print Form'!C732,'SO Analysis'!D:D,'Print Form'!E732)","v":0},{"$f":"SUMIFS('SO Analysis'!F:F,'SO Analysis'!B:B,'Print Form'!C732,'SO Analysis'!D:D,'Print Form'!E732)","v":0},{"$f":"SUMIFS('SO Analysis'!G:G,'SO Analysis'!B:B,'Print Form'!C732,'SO Analysis'!D:D,'Print Form'!E732)","v":0}]
[null,"",null,null,null,{"$f":"SUMIFS('SO Analysis'!E:E,'SO Analysis'!B:B,'Print Form'!C733,'SO Analysis'!D:D,'Print Form'!E733)","v":0},{"$f":"SUMIFS('SO Analysis'!F:F,'SO Analysis'!B:B,'Print Form'!C733,'SO Analysis'!D:D,'Print Form'!E733)","v":0},{"$f":"SUMIFS('SO Analysis'!G:G,'SO Analysis'!B:B,'Print Form'!C733,'SO Analysis'!D:D,'Print Form'!E733)","v":0}]
[null,"",null,null,null,{"$f":"SUMIFS('SO Analysis'!E:E,'SO Analysis'!B:B,'Print Form'!C734,'SO Analysis'!D:D,'Print Form'!E734)","v":0},{"$f":"SUMIFS('SO Analysis'!F:F,'SO Analysis'!B:B,'Print Form'!C734,'SO Analysis'!D:D,'Print Form'!E734)","v":0},{"$f":"SUMIFS('SO Analysis'!G:G,'SO Analysis'!B:B,'Print Form'!C734,'SO Analysis'!D:D,'Print Form'!E734)","v":0}]
[null,"",null,null,null,{"$f":"SUMIFS('SO Analysis'!E:E,'SO Analysis'!B:B,'Print Form'!C735,'SO Analysis'!D:D,'Print Form'!E735)","v":0},{"$f":"SUMIFS('SO Analysis'!F:F,'SO Analysis'!B:B,'Print Form'!C735,'SO Analysis'!D:D,'Print Form'!E735)","v":0},{"$f":"SUMIFS('SO Analysis'!G:G,'SO Analysis'!B:B,'Print Form'!C735,'SO Analysis'!D:D,'Print Form'!E735)","v":0}]
[null,"",null,null,null,{"$f":"SUMIFS('SO Analysis'!E:E,'SO Analysis'!B:B,'Print Form'!C736,'SO Analysis'!D:D,'Print Form'!E736)","v":0},{"$f":"SUMIFS('SO Analysis'!F:F,'SO Analysis'!B:B,'Print Form'!C736,'SO Analysis'!D:D,'Print Form'!E736)","v":0},{"$f":"SUMIFS('SO Analysis'!G:G,'SO Analysis'!B:B,'Print Form'!C736,'SO Analysis'!D:D,'Print Form'!E736)","v":0}]
[null,"",null,null,null,{"$f":"SUMIFS('SO Analysis'!E:E,'SO Analysis'!B:B,'Print Form'!C737,'SO Analysis'!D:D,'Print Form'!E737)","v":0},{"$f":"SUMIFS('SO Analysis'!F:F,'SO Analysis'!B:B,'Print Form'!C737,'SO Analysis'!D:D,'Print Form'!E737)","v":0},{"$f":"SUMIFS('SO Analysis'!G:G,'SO Analysis'!B:B,'Print Form'!C737,'SO Analysis'!D:D,'Print Form'!E737)","v":0}]
[null,"",null,null,null,{"$f":"SUMIFS('SO Analysis'!E:E,'SO Analysis'!B:B,'Print Form'!C738,'SO Analysis'!D:D,'Print Form'!E738)","v":0},{"$f":"SUMIFS('SO Analysis'!F:F,'SO Analysis'!B:B,'Print Form'!C738,'SO Analysis'!D:D,'Print Form'!E738)","v":0},{"$f":"SUMIFS('SO Analysis'!G:G,'SO Analysis'!B:B,'Print Form'!C738,'SO Analysis'!D:D,'Print Form'!E738)","v":0}]
[null,"",null,null,null,{"$f":"SUMIFS('SO Analysis'!E:E,'SO Analysis'!B:B,'Print Form'!C739,'SO Analysis'!D:D,'Print Form'!E739)","v":0},{"$f":"SUMIFS('SO Analysis'!F:F,'SO Analysis'!B:B,'Print Form'!C739,'SO Analysis'!D:D,'Print Form'!E739)","v":0},{"$f":"SUMIFS('SO Analysis'!G:G,'SO Analysis'!B:B,'Print Form'!C739,'SO Analysis'!D:D,'Print Form'!E739)","v":0}]
[null,"",null,null,null,{"$f":"SUMIFS('SO Analysis'!E:E,'SO Analysis'!B:B,'Print Form'!C740,'SO Analysis'!D:D,'Print Form'!E740)","v":0},{"$f":"SUMIFS('SO Analysis'!F:F,'SO Analysis'!B:B,'Print Form'!C740,'SO Analysis'!D:D,'Print Form'!E740)","v":0},{"$f":"SUMIFS('SO Analysis'!G:G,'SO Analysis'!B:B,'Print Form'!C740,'SO Analysis'!D:D,'Print Form'!E740)","v":0}]
[null,"",null,null,null,{"$f":"SUMIFS('SO Analysis'!E:E,'SO Analysis'!B:B,'Print Form'!C741,'SO Analysis'!D:D,'Print Form'!E741)","v":0},{"$f":"SUMIFS('SO Analysis'!F:F,'SO Analysis'!B:B,'Print Form'!C741,'SO Analysis'!D:D,'Print Form'!E741)","v":0},{"$f":"SUMIFS('SO Analysis'!G:G,'SO Analysis'!B:B,'Print Form'!C741,'SO Analysis'!D:D,'Print Form'!E741)","v":0}]
[null,"",null,null,null,{"$f":"SUMIFS('SO Analysis'!E:E,'SO Analysis'!B:B,'Print Form'!C742,'SO Analysis'!D:D,'Print Form'!E742)","v":0},{"$f":"SUMIFS('SO Analysis'!F:F,'SO Analysis'!B:B,'Print Form'!C742,'SO Analysis'!D:D,'Print Form'!E742)","v":0},{"$f":"SUMIFS('SO Analysis'!G:G,'SO Analysis'!B:B,'Print Form'!C742,'SO Analysis'!D:D,'Print Form'!E742)","v":0}]
[null,"",null,null,null,{"$f":"SUMIFS('SO Analysis'!E:E,'SO Analysis'!B:B,'Print Form'!C743,'SO Analysis'!D:D,'Print Form'!E743)","v":0},{"$f":"SUMIFS('SO Analysis'!F:F,'SO Analysis'!B:B,'Print Form'!C743,'SO Analysis'!D:D,'Print Form'!E743)","v":0},{"$f":"SUMIFS('SO Analysis'!G:G,'SO Analysis'!B:B,'Print Form'!C743,'SO Analysis'!D:D,'Print Form'!E743)","v":0}]
[null,"",null,null,null,{"$f":"SUMIFS('SO Analysis'!E:E,'SO Analysis'!B:B,'Print Form'!C744,'SO Analysis'!D:D,'Print Form'!E744)","v":0},{"$f":"SUMIFS('SO Analysis'!F:F,'SO Analysis'!B:B,'Print Form'!C744,'SO Analysis'!D:D,'Print Form'!E744)","v":0},{"$f":"SUMIFS('SO Analysis'!G:G,'SO Analysis'!B:B,'Print Form'!C744,'SO Analysis'!D:D,'Print Form'!E744)","v":0}]
[null,"",null,null,null,{"$f":"SUMIFS('SO Analysis'!E:E,'SO Analysis'!B:B,'Print Form'!C745,'SO Analysis'!D:D,'Print Form'!E745)","v":0},{"$f":"SUMIFS('SO Analysis'!F:F,'SO Analysis'!B:B,'Print Form'!C745,'SO Analysis'!D:D,'Print Form'!E745)","v":0},{"$f":"SUMIFS('SO Analysis'!G:G,'SO Analysis'!B:B,'Print Form'!C745,'SO Analysis'!D:D,'Print Form'!E745)","v":0}]
[null,"",null,null,null,{"$f":"SUMIFS('SO Analysis'!E:E,'SO Analysis'!B:B,'Print Form'!C746,'SO Analysis'!D:D,'Print Form'!E746)","v":0},{"$f":"SUMIFS('SO Analysis'!F:F,'SO Analysis'!B:B,'Print Form'!C746,'SO Analysis'!D:D,'Print Form'!E746)","v":0},{"$f":"SUMIFS('SO Analysis'!G:G,'SO Analysis'!B:B,'Print Form'!C746,'SO Analysis'!D:D,'Print Form'!E746)","v":0}]
[null,"",null,null,null,{"$f":"SUMIFS('SO Analysis'!E:E,'SO Analysis'!B:B,'Print Form'!C747,'SO Analysis'!D:D,'Print Form'!E747)","v":0},{"$f":"SUMIFS('SO Analysis'!F:F,'SO Analysis'!B:B,'Print Form'!C747,'SO Analysis'!D:D,'Print Form'!E747)","v":0},{"$f":"SUMIFS('SO Analysis'!G:G,'SO Analysis'!B:B,'Print Form'!C747,'SO Analysis'!D:D,'Print Form'!E747)","v":0}]
[null,"",null,null,null,{"$f":"SUMIFS('SO Analysis'!E:E,'SO Analysis'!B:B,'Print Form'!C748,'SO Analysis'!D:D,'Print Form'!E748)","v":0},{"$f":"SUMIFS('SO Analysis'!F:F,'SO Analysis'!B:B,'Print Form'!C748,'SO Analysis'!D:D,'Print Form'!E748)","v":0},{"$f":"SUMIFS('SO Analysis'!G:G,'SO Analysis'!B:B,'Print Form'!C748,'SO Analysis'!D:D,'Print Form'!E748)","v":0}]
[null,"",null,null,null,{"$f":"SUMIFS('SO Analysis'!E:E,'SO Analysis'!B:B,'Print Form'!C749,'SO Analysis'!D:D,'Print Form'!E749)","v":0},{"$f":"SUMIFS('SO Analysis'!F:F,'SO Analysis'!B:B,'Print Form'!C749,'SO Analysis'!D:D,'Print Form'!E749)","v":0},{"$f":"SUMIFS('SO Analysis'!G:G,'SO Analysis'!B:B,'Print Form'!C749,'SO Analysis'!D:D,'Print Form'!E749)","v":0}]
[null,"",null,null,null,{"$f":"SUMIFS('SO Analysis'!E:E,'SO Analysis'!B:B,'Print Form'!C750,'SO Analysis'!D:D,'Print Form'!E750)","v":0},{"$f":"SUMIFS('SO Analysis'!F:F,'SO Analysis'!B:B,'Print Form'!C750,'SO Analysis'!D:D,'Print Form'!E750)","v":0},{"$f":"SUMIFS('SO Analysis'!G:G,'SO Analysis'!B:B,'Print Form'!C750,'SO Analysis'!D:D,'Print Form'!E750)","v":0}]
[null,"",null,null,null,{"$f":"SUMIFS('SO Analysis'!E:E,'SO Analysis'!B:B,'Print Form'!C751,'SO Analysis'!D:D,'Print Form'!E751)","v":0},{"$f":"SUMIFS('SO Analysis'!F:F,'SO Analysis'!B:B,'Print Form'!C751,'SO Analysis'!D:D,'Print Form'!E751)","v":0},{"$f":"SUMIFS('SO Analysis'!G:G,'SO Analysis'!B:B,'Print Form'!C751,'SO Analysis'!D:D,'Print Form'!E751)","v":0}]
[null,"",null,null,null,{"$f":"SUMIFS('SO Analysis'!E:E,'SO Analysis'!B:B,'Print Form'!C752,'SO Analysis'!D:D,'Print Form'!E752)","v":0},{"$f":"SUMIFS('SO Analysis'!F:F,'SO Analysis'!B:B,'Print Form'!C752,'SO Analysis'!D:D,'Print Form'!E752)","v":0},{"$f":"SUMIFS('SO Analysis'!G:G,'SO Analysis'!B:B,'Print Form'!C752,'SO Analysis'!D:D,'Print Form'!E752)","v":0}]
[null,"",null,null,null,{"$f":"SUMIFS('SO Analysis'!E:E,'SO Analysis'!B:B,'Print Form'!C753,'SO Analysis'!D:D,'Print Form'!E753)","v":0},{"$f":"SUMIFS('SO Analysis'!F:F,'SO Analysis'!B:B,'Print Form'!C753,'SO Analysis'!D:D,'Print Form'!E753)","v":0},{"$f":"SUMIFS('SO Analysis'!G:G,'SO Analysis'!B:B,'Print Form'!C753,'SO Analysis'!D:D,'Print Form'!E753)","v":0}]
[null,"",null,null,null,{"$f":"SUMIFS('SO Analysis'!E:E,'SO Analysis'!B:B,'Print Form'!C754,'SO Analysis'!D:D,'Print Form'!E754)","v":0},{"$f":"SUMIFS('SO Analysis'!F:F,'SO Analysis'!B:B,'Print Form'!C754,'SO Analysis'!D:D,'Print Form'!E754)","v":0},{"$f":"SUMIFS('SO Analysis'!G:G,'SO Analysis'!B:B,'Print Form'!C754,'SO Analysis'!D:D,'Print Form'!E754)","v":0}]
[null,"",null,null,null,{"$f":"SUMIFS('SO Analysis'!E:E,'SO Analysis'!B:B,'Print Form'!C755,'SO Analysis'!D:D,'Print Form'!E755)","v":0},{"$f":"SUMIFS('SO Analysis'!F:F,'SO Analysis'!B:B,'Print Form'!C755,'SO Analysis'!D:D,'Print Form'!E755)","v":0},{"$f":"SUMIFS('SO Analysis'!G:G,'SO Analysis'!B:B,'Print Form'!C755,'SO Analysis'!D:D,'Print Form'!E755)","v":0}]
[null,"",null,null,null,{"$f":"SUMIFS('SO Analysis'!E:E,'SO Analysis'!B:B,'Print Form'!C756,'SO Analysis'!D:D,'Print Form'!E756)","v":0},{"$f":"SUMIFS('SO Analysis'!F:F,'SO Analysis'!B:B,'Print Form'!C756,'SO Analysis'!D:D,'Print Form'!E756)","v":0},{"$f":"SUMIFS('SO Analysis'!G:G,'SO Analysis'!B:B,'Print Form'!C756,'SO Analysis'!D:D,'Print Form'!E756)","v":0}]
[null,"",null,null,null,{"$f":"SUMIFS('SO Analysis'!E:E,'SO Analysis'!B:B,'Print Form'!C757,'SO Analysis'!D:D,'Print Form'!E757)","v":0},{"$f":"SUMIFS('SO Analysis'!F:F,'SO Analysis'!B:B,'Print Form'!C757,'SO Analysis'!D:D,'Print Form'!E757)","v":0},{"$f":"SUMIFS('SO Analysis'!G:G,'SO Analysis'!B:B,'Print Form'!C757,'SO Analysis'!D:D,'Print Form'!E757)","v":0}]
[null,"",null,null,null,{"$f":"SUMIFS('SO Analysis'!E:E,'SO Analysis'!B:B,'Print Form'!C758,'SO Analysis'!D:D,'Print Form'!E758)","v":0},{"$f":"SUMIFS('SO Analysis'!F:F,'SO Analysis'!B:B,'Print Form'!C758,'SO Analysis'!D:D,'Print Form'!E758)","v":0},{"$f":"SUMIFS('SO Analysis'!G:G,'SO Analysis'!B:B,'Print Form'!C758,'SO Analysis'!D:D,'Print Form'!E758)","v":0}]
[null,"",null,null,null,{"$f":"SUMIFS('SO Analysis'!E:E,'SO Analysis'!B:B,'Print Form'!C759,'SO Analysis'!D:D,'Print Form'!E759)","v":0},{"$f":"SUMIFS('SO Analysis'!F:F,'SO Analysis'!B:B,'Print Form'!C759,'SO Analysis'!D:D,'Print Form'!E759)","v":0},{"$f":"SUMIFS('SO Analysis'!G:G,'SO Analysis'!B:B,'Print Form'!C759,'SO Analysis'!D:D,'Print Form'!E759)","v":0}]
[null,"",null,null,null,{"$f":"SUMIFS('SO Analysis'!E:E,'SO Analysis'!B:B,'Print Form'!C760,'SO Analysis'!D:D,'Print Form'!E760)","v":0},{"$f":"SUMIFS('SO Analysis'!F:F,'SO Analysis'!B:B,'Print Form'!C760,'SO Analysis'!D:D,'Print Form'!E760)","v":0},{"$f":"SUMIFS('SO Analysis'!G:G,'SO Analysis'!B:B,'Print Form'!C760,'SO Analysis'!D:D,'Print Form'!E760)","v":0}]
[null,"",null,null,null,{"$f":"SUMIFS('SO Analysis'!E:E,'SO Analysis'!B:B,'Print Form'!C761,'SO Analysis'!D:D,'Print Form'!E761)","v":0},{"$f":"SUMIFS('SO Analysis'!F:F,'SO Analysis'!B:B,'Print Form'!C761,'SO Analysis'!D:D,'Print Form'!E761)","v":0},{"$f":"SUMIFS('SO Analysis'!G:G,'SO Analysis'!B:B,'Print Form'!C761,'SO Analysis'!D:D,'Print Form'!E761)","v":0}]
[null,"",null,null,null,{"$f":"SUMIFS('SO Analysis'!E:E,'SO Analysis'!B:B,'Print Form'!C762,'SO Analysis'!D:D,'Print Form'!E762)","v":0},{"$f":"SUMIFS('SO Analysis'!F:F,'SO Analysis'!B:B,'Print Form'!C762,'SO Analysis'!D:D,'Print Form'!E762)","v":0},{"$f":"SUMIFS('SO Analysis'!G:G,'SO Analysis'!B:B,'Print Form'!C762,'SO Analysis'!D:D,'Print Form'!E762)","v":0}]
[null,"",null,null,null,{"$f":"SUMIFS('SO Analysis'!E:E,'SO Analysis'!B:B,'Print Form'!C763,'SO Analysis'!D:D,'Print Form'!E763)","v":0},{"$f":"SUMIFS('SO Analysis'!F:F,'SO Analysis'!B:B,'Print Form'!C763,'SO Analysis'!D:D,'Print Form'!E763)","v":0},{"$f":"SUMIFS('SO Analysis'!G:G,'SO Analysis'!B:B,'Print Form'!C763,'SO Analysis'!D:D,'Print Form'!E763)","v":0}]
[null,"",null,null,null,{"$f":"SUMIFS('SO Analysis'!E:E,'SO Analysis'!B:B,'Print Form'!C764,'SO Analysis'!D:D,'Print Form'!E764)","v":0},{"$f":"SUMIFS('SO Analysis'!F:F,'SO Analysis'!B:B,'Print Form'!C764,'SO Analysis'!D:D,'Print Form'!E764)","v":0},{"$f":"SUMIFS('SO Analysis'!G:G,'SO Analysis'!B:B,'Print Form'!C764,'SO Analysis'!D:D,'Print Form'!E764)","v":0}]
[null,"",null,null,null,{"$f":"SUMIFS('SO Analysis'!E:E,'SO Analysis'!B:B,'Print Form'!C765,'SO Analysis'!D:D,'Print Form'!E765)","v":0},{"$f":"SUMIFS('SO Analysis'!F:F,'SO Analysis'!B:B,'Print Form'!C765,'SO Analysis'!D:D,'Print Form'!E765)","v":0},{"$f":"SUMIFS('SO Analysis'!G:G,'SO Analysis'!B:B,'Print Form'!C765,'SO Analysis'!D:D,'Print Form'!E765)","v":0}]
[null,"",null,null,null,{"$f":"SUMIFS('SO Analysis'!E:E,'SO Analysis'!B:B,'Print Form'!C766,'SO Analysis'!D:D,'Print Form'!E766)","v":0},{"$f":"SUMIFS('SO Analysis'!F:F,'SO Analysis'!B:B,'Print Form'!C766,'SO Analysis'!D:D,'Print Form'!E766)","v":0},{"$f":"SUMIFS('SO Analysis'!G:G,'SO Analysis'!B:B,'Print Form'!C766,'SO Analysis'!D:D,'Print Form'!E766)","v":0}]
[null,"",null,null,null,{"$f":"SUMIFS('SO Analysis'!E:E,'SO Analysis'!B:B,'Print Form'!C767,'SO Analysis'!D:D,'Print Form'!E767)","v":0},{"$f":"SUMIFS('SO Analysis'!F:F,'SO Analysis'!B:B,'Print Form'!C767,'SO Analysis'!D:D,'Print Form'!E767)","v":0},{"$f":"SUMIFS('SO Analysis'!G:G,'SO Analysis'!B:B,'Print Form'!C767,'SO Analysis'!D:D,'Print Form'!E767)","v":0}]
[null,"",null,null,null,{"$f":"SUMIFS('SO Analysis'!E:E,'SO Analysis'!B:B,'Print Form'!C768,'SO Analysis'!D:D,'Print Form'!E768)","v":0},{"$f":"SUMIFS('SO Analysis'!F:F,'SO Analysis'!B:B,'Print Form'!C768,'SO Analysis'!D:D,'Print Form'!E768)","v":0},{"$f":"SUMIFS('SO Analysis'!G:G,'SO Analysis'!B:B,'Print Form'!C768,'SO Analysis'!D:D,'Print Form'!E768)","v":0}]
[null,"",null,null,null,{"$f":"SUMIFS('SO Analysis'!E:E,'SO Analysis'!B:B,'Print Form'!C769,'SO Analysis'!D:D,'Print Form'!E769)","v":0},{"$f":"SUMIFS('SO Analysis'!F:F,'SO Analysis'!B:B,'Print Form'!C769,'SO Analysis'!D:D,'Print Form'!E769)","v":0},{"$f":"SUMIFS('SO Analysis'!G:G,'SO Analysis'!B:B,'Print Form'!C769,'SO Analysis'!D:D,'Print Form'!E769)","v":0}]
[null,"",null,null,null,{"$f":"SUMIFS('SO Analysis'!E:E,'SO Analysis'!B:B,'Print Form'!C770,'SO Analysis'!D:D,'Print Form'!E770)","v":0},{"$f":"SUMIFS('SO Analysis'!F:F,'SO Analysis'!B:B,'Print Form'!C770,'SO Analysis'!D:D,'Print Form'!E770)","v":0},{"$f":"SUMIFS('SO Analysis'!G:G,'SO Analysis'!B:B,'Print Form'!C770,'SO Analysis'!D:D,'Print Form'!E770)","v":0}]
[null,"",null,null,null,{"$f":"SUMIFS('SO Analysis'!E:E,'SO Analysis'!B:B,'Print Form'!C771,'SO Analysis'!D:D,'Print Form'!E771)","v":0},{"$f":"SUMIFS('SO Analysis'!F:F,'SO Analysis'!B:B,'Print Form'!C771,'SO Analysis'!D:D,'Print Form'!E771)","v":0},{"$f":"SUMIFS('SO Analysis'!G:G,'SO Analysis'!B:B,'Print Form'!C771,'SO Analysis'!D:D,'Print Form'!E771)","v":0}]
[null,"",null,null,null,{"$f":"SUMIFS('SO Analysis'!E:E,'SO Analysis'!B:B,'Print Form'!C772,'SO Analysis'!D:D,'Print Form'!E772)","v":0},{"$f":"SUMIFS('SO Analysis'!F:F,'SO Analysis'!B:B,'Print Form'!C772,'SO Analysis'!D:D,'Print Form'!E772)","v":0},{"$f":"SUMIFS('SO Analysis'!G:G,'SO Analysis'!B:B,'Print Form'!C772,'SO Analysis'!D:D,'Print Form'!E772)","v":0}]
[null,"",null,null,null,{"$f":"SUMIFS('SO Analysis'!E:E,'SO Analysis'!B:B,'Print Form'!C773,'SO Analysis'!D:D,'Print Form'!E773)","v":0},{"$f":"SUMIFS('SO Analysis'!F:F,'SO Analysis'!B:B,'Print Form'!C773,'SO Analysis'!D:D,'Print Form'!E773)","v":0},{"$f":"SUMIFS('SO Analysis'!G:G,'SO Analysis'!B:B,'Print Form'!C773,'SO Analysis'!D:D,'Print Form'!E773)","v":0}]
[null,"",null,null,null,{"$f":"SUMIFS('SO Analysis'!E:E,'SO Analysis'!B:B,'Print Form'!C774,'SO Analysis'!D:D,'Print Form'!E774)","v":0},{"$f":"SUMIFS('SO Analysis'!F:F,'SO Analysis'!B:B,'Print Form'!C774,'SO Analysis'!D:D,'Print Form'!E774)","v":0},{"$f":"SUMIFS('SO Analysis'!G:G,'SO Analysis'!B:B,'Print Form'!C774,'SO Analysis'!D:D,'Print Form'!E774)","v":0}]
[null,"",null,null,null,{"$f":"SUMIFS('SO Analysis'!E:E,'SO Analysis'!B:B,'Print Form'!C775,'SO Analysis'!D:D,'Print Form'!E775)","v":0},{"$f":"SUMIFS('SO Analysis'!F:F,'SO Analysis'!B:B,'Print Form'!C775,'SO Analysis'!D:D,'Print Form'!E775)","v":0},{"$f":"SUMIFS('SO Analysis'!G:G,'SO Analysis'!B:B,'Print Form'!C775,'SO Analysis'!D:D,'Print Form'!E775)","v":0}]
[null,"",null,null,null,{"$f":"SUMIFS('SO Analysis'!E:E,'SO Analysis'!B:B,'Print Form'!C776,'SO Analysis'!D:D,'Print Form'!E776)","v":0},{"$f":"SUMIFS('SO Analysis'!F:F,'SO Analysis'!B:B,'Print Form'!C776,'SO Analysis'!D:D,'Print Form'!E776)","v":0},{"$f":"SUMIFS('SO Analysis'!G:G,'SO Analysis'!B:B,'Print Form'!C776,'SO Analysis'!D:D,'Print Form'!E776)","v":0}]
[null,"",null,null,null,{"$f":"SUMIFS('SO Analysis'!E:E,'SO Analysis'!B:B,'Print Form'!C777,'SO Analysis'!D:D,'Print Form'!E777)","v":0},{"$f":"SUMIFS('SO Analysis'!F:F,'SO Analysis'!B:B,'Print Form'!C777,'SO Analysis'!D:D,'Print Form'!E777)","v":0},{"$f":"SUMIFS('SO Analysis'!G:G,'SO Analysis'!B:B,'Print Form'!C777,'SO Analysis'!D:D,'Print Form'!E777)","v":0}]
[null,"",null,null,null,{"$f":"SUMIFS('SO Analysis'!E:E,'SO Analysis'!B:B,'Print Form'!C778,'SO Analysis'!D:D,'Print Form'!E778)","v":0},{"$f":"SUMIFS('SO Analysis'!F:F,'SO Analysis'!B:B,'Print Form'!C778,'SO Analysis'!D:D,'Print Form'!E778)","v":0},{"$f":"SUMIFS('SO Analysis'!G:G,'SO Analysis'!B:B,'Print Form'!C778,'SO Analysis'!D:D,'Print Form'!E778)","v":0}]
[null,"",null,null,null,{"$f":"SUMIFS('SO Analysis'!E:E,'SO Analysis'!B:B,'Print Form'!C779,'SO Analysis'!D:D,'Print Form'!E779)","v":0},{"$f":"SUMIFS('SO Analysis'!F:F,'SO Analysis'!B:B,'Print Form'!C779,'SO Analysis'!D:D,'Print Form'!E779)","v":0},{"$f":"SUMIFS('SO Analysis'!G:G,'SO Analysis'!B:B,'Print Form'!C779,'SO Analysis'!D:D,'Print Form'!E779)","v":0}]
[null,"",null,null,null,{"$f":"SUMIFS('SO Analysis'!E:E,'SO Analysis'!B:B,'Print Form'!C780,'SO Analysis'!D:D,'Print Form'!E780)","v":0},{"$f":"SUMIFS('SO Analysis'!F:F,'SO Analysis'!B:B,'Print Form'!C780,'SO Analysis'!D:D,'Print Form'!E780)","v":0},{"$f":"SUMIFS('SO Analysis'!G:G,'SO Analysis'!B:B,'Print Form'!C780,'SO Analysis'!D:D,'Print Form'!E780)","v":0}]
[null,"",null,null,null,{"$f":"SUMIFS('SO Analysis'!E:E,'SO Analysis'!B:B,'Print Form'!C781,'SO Analysis'!D:D,'Print Form'!E781)","v":0},{"$f":"SUMIFS('SO Analysis'!F:F,'SO Analysis'!B:B,'Print Form'!C781,'SO Analysis'!D:D,'Print Form'!E781)","v":0},{"$f":"SUMIFS('SO Analysis'!G:G,'SO Analysis'!B:B,'Print Form'!C781,'SO Analysis'!D:D,'Print Form'!E781)","v":0}]
[null,{"$f":"IF(C782=\"\",\"\",ROW()-12)","v":""},null,null,null,{"$f":"SUMIFS('SO Analysis'!E:E,'SO Analysis'!B:B,'Print Form'!C782,'SO Analysis'!D:D,'Print Form'!E782)","v":0},{"$f":"SUMIFS('SO Analysis'!F:F,'SO Analysis'!B:B,'Print Form'!C782,'SO Analysis'!D:D,'Print Form'!E782)","v":0},{"$f":"SUMIFS('SO Analysis'!G:G,'SO Analysis'!B:B,'Print Form'!C782,'SO Analysis'!D:D,'Print Form'!E782)","v":0}]
[null,"",null,null,null,{"$f":"SUMIFS('SO Analysis'!E:E,'SO Analysis'!B:B,'Print Form'!C783,'SO Analysis'!D:D,'Print Form'!E783)","v":0},{"$f":"SUMIFS('SO Analysis'!F:F,'SO Analysis'!B:B,'Print Form'!C783,'SO Analysis'!D:D,'Print Form'!E783)","v":0},{"$f":"SUMIFS('SO Analysis'!G:G,'SO Analysis'!B:B,'Print Form'!C783,'SO Analysis'!D:D,'Print Form'!E783)","v":0}]
[null,"",null,null,null,{"$f":"SUMIFS('SO Analysis'!E:E,'SO Analysis'!B:B,'Print Form'!C784,'SO Analysis'!D:D,'Print Form'!E784)","v":0},{"$f":"SUMIFS('SO Analysis'!F:F,'SO Analysis'!B:B,'Print Form'!C784,'SO Analysis'!D:D,'Print Form'!E784)","v":0},{"$f":"SUMIFS('SO Analysis'!G:G,'SO Analysis'!B:B,'Print Form'!C784,'SO Analysis'!D:D,'Print Form'!E784)","v":0}]
[null,"",null,null,null,{"$f":"SUMIFS('SO Analysis'!E:E,'SO Analysis'!B:B,'Print Form'!C785,'SO Analysis'!D:D,'Print Form'!E785)","v":0},{"$f":"SUMIFS('SO Analysis'!F:F,'SO Analysis'!B:B,'Print Form'!C785,'SO Analysis'!D:D,'Print Form'!E785)","v":0},{"$f":"SUMIFS('SO Analysis'!G:G,'SO Analysis'!B:B,'Print Form'!C785,'SO Analysis'!D:D,'Print Form'!E785)","v":0}]
[null,"",null,null,null,{"$f":"SUMIFS('SO Analysis'!E:E,'SO Analysis'!B:B,'Print Form'!C786,'SO Analysis'!D:D,'Print Form'!E786)","v":0},{"$f":"SUMIFS('SO Analysis'!F:F,'SO Analysis'!B:B,'Print Form'!C786,'SO Analysis'!D:D,'Print Form'!E786)","v":0},{"$f":"SUMIFS('SO Analysis'!G:G,'SO Analysis'!B:B,'Print Form'!C786,'SO Analysis'!D:D,'Print Form'!E786)","v":0}]
[null,"",null,null,null,{"$f":"SUMIFS('SO Analysis'!E:E,'SO Analysis'!B:B,'Print Form'!C787,'SO Analysis'!D:D,'Print Form'!E787)","v":0},{"$f":"SUMIFS('SO Analysis'!F:F,'SO Analysis'!B:B,'Print Form'!C787,'SO Analysis'!D:D,'Print Form'!E787)","v":0},{"$f":"SUMIFS('SO Analysis'!G:G,'SO Analysis'!B:B,'Print Form'!C787,'SO Analysis'!D:D,'Print Form'!E787)","v":0}]
[null,"",null,null,null,{"$f":"SUMIFS('SO Analysis'!E:E,'SO Analysis'!B:B,'Print Form'!C788,'SO Analysis'!D:D,'Print Form'!E788)","v":0},{"$f":"SUMIFS('SO Analysis'!F:F,'SO Analysis'!B:B,'Print Form'!C788,'SO Analysis'!D:D,'Print Form'!E788)","v":0},{"$f":"SUMIFS('SO Analysis'!G:G,'SO Analysis'!B:B,'Print Form'!C788,'SO Analysis'!D:D,'Print Form'!E788)","v":0}]
[null,"",null,null,null,{"$f":"SUMIFS('SO Analysis'!E:E,'SO Analysis'!B:B,'Print Form'!C789,'SO Analysis'!D:D,'Print Form'!E789)","v":0},{"$f":"SUMIFS('SO Analysis'!F:F,'SO Analysis'!B:B,'Print Form'!C789,'SO Analysis'!D:D,'Print Form'!E789)","v":0},{"$f":"SUMIFS('SO Analysis'!G:G,'SO Analysis'!B:B,'Print Form'!C789,'SO Analysis'!D:D,'Print Form'!E789)","v":0}]
[null,"",null,null,null,{"$f":"SUMIFS('SO Analysis'!E:E,'SO Analysis'!B:B,'Print Form'!C790,'SO Analysis'!D:D,'Print Form'!E790)","v":0},{"$f":"SUMIFS('SO Analysis'!F:F,'SO Analysis'!B:B,'Print Form'!C790,'SO Analysis'!D:D,'Print Form'!E790)","v":0},{"$f":"SUMIFS('SO Analysis'!G:G,'SO Analysis'!B:B,'Print Form'!C790,'SO Analysis'!D:D,'Print Form'!E790)","v":0}]
[null,"",null,null,null,{"$f":"SUMIFS('SO Analysis'!E:E,'SO Analysis'!B:B,'Print Form'!C791,'SO Analysis'!D:D,'Print Form'!E791)","v":0},{"$f":"SUMIFS('SO Analysis'!F:F,'SO Analysis'!B:B,'Print Form'!C791,'SO Analysis'!D:D,'Print Form'!E791)","v":0},{"$f":"SUMIFS('SO Analysis'!G:G,'SO Analysis'!B:B,'Print Form'!C791,'SO Analysis'!D:D,'Print Form'!E791)","v":0}]
[null,"",null,null,null,{"$f":"SUMIFS('SO Analysis'!E:E,'SO Analysis'!B:B,'Print Form'!C792,'SO Analysis'!D:D,'Print Form'!E792)","v":0},{"$f":"SUMIFS('SO Analysis'!F:F,'SO Analysis'!B:B,'Print Form'!C792,'SO Analysis'!D:D,'Print Form'!E792)","v":0},{"$f":"SUMIFS('SO Analysis'!G:G,'SO Analysis'!B:B,'Print Form'!C792,'SO Analysis'!D:D,'Print Form'!E792)","v":0}]
[null,"",null,null,null,{"$f":"SUMIFS('SO Analysis'!E:E,'SO Analysis'!B:B,'Print Form'!C793,'SO Analysis'!D:D,'Print Form'!E793)","v":0},{"$f":"SUMIFS('SO Analysis'!F:F,'SO Analysis'!B:B,'Print Form'!C793,'SO Analysis'!D:D,'Print Form'!E793)","v":0},{"$f":"SUMIFS('SO Analysis'!G:G,'SO Analysis'!B:B,'Print Form'!C793,'SO Analysis'!D:D,'Print Form'!E793)","v":0}]
[null,"",null,null,null,{"$f":"SUMIFS('SO Analysis'!E:E,'SO Analysis'!B:B,'Print Form'!C794,'SO Analysis'!D:D,'Print Form'!E794)","v":0},{"$f":"SUMIFS('SO Analysis'!F:F,'SO Analysis'!B:B,'Print Form'!C794,'SO Analysis'!D:D,'Print Form'!E794)","v":0},{"$f":"SUMIFS('SO Analysis'!G:G,'SO Analysis'!B:B,'Print Form'!C794,'SO Analysis'!D:D,'Print Form'!E794)","v":0}]
[null,"",null,null,null,{"$f":"SUMIFS('SO Analysis'!E:E,'SO Analysis'!B:B,'Print Form'!C795,'SO Analysis'!D:D,'Print Form'!E795)","v":0},{"$f":"SUMIFS('SO Analysis'!F:F,'SO Analysis'!B:B,'Print Form'!C795,'SO Analysis'!D:D,'Print Form'!E795)","v":0},{"$f":"SUMIFS('SO Analysis'!G:G,'SO Analysis'!B:B,'Print Form'!C795,'SO Analysis'!D:D,'Print Form'!E795)","v":0}]
[null,"",null,null,null,{"$f":"SUMIFS('SO Analysis'!E:E,'SO Analysis'!B:B,'Print Form'!C796,'SO Analysis'!D:D,'Print Form'!E796)","v":0},{"$f":"SUMIFS('SO Analysis'!F:F,'SO Analysis'!B:B,'Print Form'!C796,'SO Analysis'!D:D,'Print Form'!E796)","v":0},{"$f":"SUMIFS('SO Analysis'!G:G,'SO Analysis'!B:B,'Print Form'!C796,'SO Analysis'!D:D,'Print Form'!E796)","v":0}]
[null,"",null,null,null,{"$f":"SUMIFS('SO Analysis'!E:E,'SO Analysis'!B:B,'Print Form'!C797,'SO Analysis'!D:D,'Print Form'!E797)","v":0},{"$f":"SUMIFS('SO Analysis'!F:F,'SO Analysis'!B:B,'Print Form'!C797,'SO Analysis'!D:D,'Print Form'!E797)","v":0},{"$f":"SUMIFS('SO Analysis'!G:G,'SO Analysis'!B:B,'Print Form'!C797,'SO Analysis'!D:D,'Print Form'!E797)","v":0}]
[null,"",null,null,null,{"$f":"SUMIFS('SO Analysis'!E:E,'SO Analysis'!B:B,'Print Form'!C798,'SO Analysis'!D:D,'Print Form'!E798)","v":0},{"$f":"SUMIFS('SO Analysis'!F:F,'SO Analysis'!B:B,'Print Form'!C798,'SO Analysis'!D:D,'Print Form'!E798)","v":0},{"$f":"SUMIFS('SO Analysis'!G:G,'SO Analysis'!B:B,'Print Form'!C798,'SO Analysis'!D:D,'Print Form'!E798)","v":0}]
[null,"",null,null,null,{"$f":"SUMIFS('SO Analysis'!E:E,'SO Analysis'!B:B,'Print Form'!C799,'SO Analysis'!D:D,'Print Form'!E799)","v":0},{"$f":"SUMIFS('SO Analysis'!F:F,'SO Analysis'!B:B,'Print Form'!C799,'SO Analysis'!D:D,'Print Form'!E799)","v":0},{"$f":"SUMIFS('SO Analysis'!G:G,'SO Analysis'!B:B,'Print Form'!C799,'SO Analysis'!D:D,'Print Form'!E799)","v":0}]
[null,"",null,null,null,{"$f":"SUMIFS('SO Analysis'!E:E,'SO Analysis'!B:B,'Print Form'!C800,'SO Analysis'!D:D,'Print Form'!E800)","v":0},{"$f":"SUMIFS('SO Analysis'!F:F,'SO Analysis'!B:B,'Print Form'!C800,'SO Analysis'!D:D,'Print Form'!E800)","v":0},{"$f":"SUMIFS('SO Analysis'!G:G,'SO Analysis'!B:B,'Print Form'!C800,'SO Analysis'!D:D,'Print Form'!E800)","v":0}]
[null,"",null,null,null,{"$f":"SUMIFS('SO Analysis'!E:E,'SO Analysis'!B:B,'Print Form'!C801,'SO Analysis'!D:D,'Print Form'!E801)","v":0},{"$f":"SUMIFS('SO Analysis'!F:F,'SO Analysis'!B:B,'Print Form'!C801,'SO Analysis'!D:D,'Print Form'!E801)","v":0},{"$f":"SUMIFS('SO Analysis'!G:G,'SO Analysis'!B:B,'Print Form'!C801,'SO Analysis'!D:D,'Print Form'!E801)","v":0}]
[null,"",null,null,null,{"$f":"SUMIFS('SO Analysis'!E:E,'SO Analysis'!B:B,'Print Form'!C802,'SO Analysis'!D:D,'Print Form'!E802)","v":0},{"$f":"SUMIFS('SO Analysis'!F:F,'SO Analysis'!B:B,'Print Form'!C802,'SO Analysis'!D:D,'Print Form'!E802)","v":0},{"$f":"SUMIFS('SO Analysis'!G:G,'SO Analysis'!B:B,'Print Form'!C802,'SO Analysis'!D:D,'Print Form'!E802)","v":0}]
[null,"",null,null,null,{"$f":"SUMIFS('SO Analysis'!E:E,'SO Analysis'!B:B,'Print Form'!C803,'SO Analysis'!D:D,'Print Form'!E803)","v":0},{"$f":"SUMIFS('SO Analysis'!F:F,'SO Analysis'!B:B,'Print Form'!C803,'SO Analysis'!D:D,'Print Form'!E803)","v":0},{"$f":"SUMIFS('SO Analysis'!G:G,'SO Analysis'!B:B,'Print Form'!C803,'SO Analysis'!D:D,'Print Form'!E803)","v":0}]
[null,"",null,null,null,{"$f":"SUMIFS('SO Analysis'!E:E,'SO Analysis'!B:B,'Print Form'!C804,'SO Analysis'!D:D,'Print Form'!E804)","v":0},{"$f":"SUMIFS('SO Analysis'!F:F,'SO Analysis'!B:B,'Print Form'!C804,'SO Analysis'!D:D,'Print Form'!E804)","v":0},{"$f":"SUMIFS('SO Analysis'!G:G,'SO Analysis'!B:B,'Print Form'!C804,'SO Analysis'!D:D,'Print Form'!E804)","v":0}]
[null,"",null,null,null,{"$f":"SUMIFS('SO Analysis'!E:E,'SO Analysis'!B:B,'Print Form'!C805,'SO Analysis'!D:D,'Print Form'!E805)","v":0},{"$f":"SUMIFS('SO Analysis'!F:F,'SO Analysis'!B:B,'Print Form'!C805,'SO Analysis'!D:D,'Print Form'!E805)","v":0},{"$f":"SUMIFS('SO Analysis'!G:G,'SO Analysis'!B:B,'Print Form'!C805,'SO Analysis'!D:D,'Print Form'!E805)","v":0}]
[null,"",null,null,null,{"$f":"SUMIFS('SO Analysis'!E:E,'SO Analysis'!B:B,'Print Form'!C806,'SO Analysis'!D:D,'Print Form'!E806)","v":0},{"$f":"SUMIFS('SO Analysis'!F:F,'SO Analysis'!B:B,'Print Form'!C806,'SO Analysis'!D:D,'Print Form'!E806)","v":0},{"$f":"SUMIFS('SO Analysis'!G:G,'SO Analysis'!B:B,'Print Form'!C806,'SO Analysis'!D:D,'Print Form'!E806)","v":0}]
[null,"",null,null,null,{"$f":"SUMIFS('SO Analysis'!E:E,'SO Analysis'!B:B,'Print Form'!C807,'SO Analysis'!D:D,'Print Form'!E807)","v":0},{"$f":"SUMIFS('SO Analysis'!F:F,'SO Analysis'!B:B,'Print Form'!C807,'SO Analysis'!D:D,'Print Form'!E807)","v":0},{"$f":"SUMIFS('SO Analysis'!G:G,'SO Analysis'!B:B,'Print Form'!C807,'SO Analysis'!D:D,'Print Form'!E807)","v":0}]
[null,"",null,null,null,{"$f":"SUMIFS('SO Analysis'!E:E,'SO Analysis'!B:B,'Print Form'!C808,'SO Analysis'!D:D,'Print Form'!E808)","v":0},{"$f":"SUMIFS('SO Analysis'!F:F,'SO Analysis'!B:B,'Print Form'!C808,'SO Analysis'!D:D,'Print Form'!E808)","v":0},{"$f":"SUMIFS('SO Analysis'!G:G,'SO Analysis'!B:B,'Print Form'!C808,'SO Analysis'!D:D,'Print Form'!E808)","v":0}]
[null,"",null,null,null,{"$f":"SUMIFS('SO Analysis'!E:E,'SO Analysis'!B:B,'Print Form'!C809,'SO Analysis'!D:D,'Print Form'!E809)","v":0},{"$f":"SUMIFS('SO Analysis'!F:F,'SO Analysis'!B:B,'Print Form'!C809,'SO Analysis'!D:D,'Print Form'!E809)","v":0},{"$f":"SUMIFS('SO Analysis'!G:G,'SO Analysis'!B:B,'Print Form'!C809,'SO Analysis'!D:D,'Print Form'!E809)","v":0}]
[null,"",null,null,null,{"$f":"SUMIFS('SO Analysis'!E:E,'SO Analysis'!B:B,'Print Form'!C810,'SO Analysis'!D:D,'Print Form'!E810)","v":0},{"$f":"SUMIFS('SO Analysis'!F:F,'SO Analysis'!B:B,'Print Form'!C810,'SO Analysis'!D:D,'Print Form'!E810)","v":0},{"$f":"SUMIFS('SO Analysis'!G:G,'SO Analysis'!B:B,'Print Form'!C810,'SO Analysis'!D:D,'Print Form'!E810)","v":0}]
[null,"",null,null,null,{"$f":"SUMIFS('SO Analysis'!E:E,'SO Analysis'!B:B,'Print Form'!C811,'SO Analysis'!D:D,'Print Form'!E811)","v":0},{"$f":"SUMIFS('SO Analysis'!F:F,'SO Analysis'!B:B,'Print Form'!C811,'SO Analysis'!D:D,'Print Form'!E811)","v":0},{"$f":"SUMIFS('SO Analysis'!G:G,'SO Analysis'!B:B,'Print Form'!C811,'SO Analysis'!D:D,'Print Form'!E811)","v":0}]
[null,"",null,null,null,{"$f":"SUMIFS('SO Analysis'!E:E,'SO Analysis'!B:B,'Print Form'!C812,'SO Analysis'!D:D,'Print Form'!E812)","v":0},{"$f":"SUMIFS('SO Analysis'!F:F,'SO Analysis'!B:B,'Print Form'!C812,'SO Analysis'!D:D,'Print Form'!E812)","v":0},{"$f":"SUMIFS('SO Analysis'!G:G,'SO Analysis'!B:B,'Print Form'!C812,'SO Analysis'!D:D,'Print Form'!E812)","v":0}]
[null,"",null,null,null,{"$f":"SUMIFS('SO Analysis'!E:E,'SO Analysis'!B:B,'Print Form'!C813,'SO Analysis'!D:D,'Print Form'!E813)","v":0},{"$f":"SUMIFS('SO Analysis'!F:F,'SO Analysis'!B:B,'Print Form'!C813,'SO Analysis'!D:D,'Print Form'!E813)","v":0},{"$f":"SUMIFS('SO Analysis'!G:G,'SO Analysis'!B:B,'Print Form'!C813,'SO Analysis'!D:D,'Print Form'!E813)","v":0}]
[null,"",null,null,null,{"$f":"SUMIFS('SO Analysis'!E:E,'SO Analysis'!B:B,'Print Form'!C814,'SO Analysis'!D:D,'Print Form'!E814)","v":0},{"$f":"SUMIFS('SO Analysis'!F:F,'SO Analysis'!B:B,'Print Form'!C814,'SO Analysis'!D:D,'Print Form'!E814)","v":0},{"$f":"SUMIFS('SO Analysis'!G:G,'SO Analysis'!B:B,'Print Form'!C814,'SO Analysis'!D:D,'Print Form'!E814)","v":0}]
[null,"",null,null,null,{"$f":"SUMIFS('SO Analysis'!E:E,'SO Analysis'!B:B,'Print Form'!C815,'SO Analysis'!D:D,'Print Form'!E815)","v":0},{"$f":"SUMIFS('SO Analysis'!F:F,'SO Analysis'!B:B,'Print Form'!C815,'SO Analysis'!D:D,'Print Form'!E815)","v":0},{"$f":"SUMIFS('SO Analysis'!G:G,'SO Analysis'!B:B,'Print Form'!C815,'SO Analysis'!D:D,'Print Form'!E815)","v":0}]
[null,"",null,null,null,{"$f":"SUMIFS('SO Analysis'!E:E,'SO Analysis'!B:B,'Print Form'!C816,'SO Analysis'!D:D,'Print Form'!E816)","v":0},{"$f":"SUMIFS('SO Analysis'!F:F,'SO Analysis'!B:B,'Print Form'!C816,'SO Analysis'!D:D,'Print Form'!E816)","v":0},{"$f":"SUMIFS('SO Analysis'!G:G,'SO Analysis'!B:B,'Print Form'!C816,'SO Analysis'!D:D,'Print Form'!E816)","v":0}]
[null,"",null,null,null,{"$f":"SUMIFS('SO Analysis'!E:E,'SO Analysis'!B:B,'Print Form'!C817,'SO Analysis'!D:D,'Print Form'!E817)","v":0},{"$f":"SUMIFS('SO Analysis'!F:F,'SO Analysis'!B:B,'Print Form'!C817,'SO Analysis'!D:D,'Print Form'!E817)","v":0},{"$f":"SUMIFS('SO Analysis'!G:G,'SO Analysis'!B:B,'Print Form'!C817,'SO Analysis'!D:D,'Print Form'!E817)","v":0}]
[null,"",null,null,null,{"$f":"SUMIFS('SO Analysis'!E:E,'SO Analysis'!B:B,'Print Form'!C818,'SO Analysis'!D:D,'Print Form'!E818)","v":0},{"$f":"SUMIFS('SO Analysis'!F:F,'SO Analysis'!B:B,'Print Form'!C818,'SO Analysis'!D:D,'Print Form'!E818)","v":0},{"$f":"SUMIFS('SO Analysis'!G:G,'SO Analysis'!B:B,'Print Form'!C818,'SO Analysis'!D:D,'Print Form'!E818)","v":0}]
[null,"",null,null,null,{"$f":"SUMIFS('SO Analysis'!E:E,'SO Analysis'!B:B,'Print Form'!C819,'SO Analysis'!D:D,'Print Form'!E819)","v":0},{"$f":"SUMIFS('SO Analysis'!F:F,'SO Analysis'!B:B,'Print Form'!C819,'SO Analysis'!D:D,'Print Form'!E819)","v":0},{"$f":"SUMIFS('SO Analysis'!G:G,'SO Analysis'!B:B,'Print Form'!C819,'SO Analysis'!D:D,'Print Form'!E819)","v":0}]
[null,"",null,null,null,{"$f":"SUMIFS('SO Analysis'!E:E,'SO Analysis'!B:B,'Print Form'!C820,'SO Analysis'!D:D,'Print Form'!E820)","v":0},{"$f":"SUMIFS('SO Analysis'!F:F,'SO Analysis'!B:B,'Print Form'!C820,'SO Analysis'!D:D,'Print Form'!E820)","v":0},{"$f":"SUMIFS('SO Analysis'!G:G,'SO Analysis'!B:B,'Print Form'!C820,'SO Analysis'!D:D,'Print Form'!E820)","v":0}]
[null,"",null,null,null,{"$f":"SUMIFS('SO Analysis'!E:E,'SO Analysis'!B:B,'Print Form'!C821,'SO Analysis'!D:D,'Print Form'!E821)","v":0},{"$f":"SUMIFS('SO Analysis'!F:F,'SO Analysis'!B:B,'Print Form'!C821,'SO Analysis'!D:D,'Print Form'!E821)","v":0},{"$f":"SUMIFS('SO Analysis'!G:G,'SO Analysis'!B:B,'Print Form'!C821,'SO Analysis'!D:D,'Print Form'!E821)","v":0}]
[null,"",null,null,null,{"$f":"SUMIFS('SO Analysis'!E:E,'SO Analysis'!B:B,'Print Form'!C822,'SO Analysis'!D:D,'Print Form'!E822)","v":0},{"$f":"SUMIFS('SO Analysis'!F:F,'SO Analysis'!B:B,'Print Form'!C822,'SO Analysis'!D:D,'Print Form'!E822)","v":0},{"$f":"SUMIFS('SO Analysis'!G:G,'SO Analysis'!B:B,'Print Form'!C822,'SO Analysis'!D:D,'Print Form'!E822)","v":0}]
[null,"",null,null,null,{"$f":"SUMIFS('SO Analysis'!E:E,'SO Analysis'!B:B,'Print Form'!C823,'SO Analysis'!D:D,'Print Form'!E823)","v":0},{"$f":"SUMIFS('SO Analysis'!F:F,'SO Analysis'!B:B,'Print Form'!C823,'SO Analysis'!D:D,'Print Form'!E823)","v":0},{"$f":"SUMIFS('SO Analysis'!G:G,'SO Analysis'!B:B,'Print Form'!C823,'SO Analysis'!D:D,'Print Form'!E823)","v":0}]
[null,"",null,null,null,{"$f":"SUMIFS('SO Analysis'!E:E,'SO Analysis'!B:B,'Print Form'!C824,'SO Analysis'!D:D,'Print Form'!E824)","v":0},{"$f":"SUMIFS('SO Analysis'!F:F,'SO Analysis'!B:B,'Print Form'!C824,'SO Analysis'!D:D,'Print Form'!E824)","v":0},{"$f":"SUMIFS('SO Analysis'!G:G,'SO Analysis'!B:B,'Print Form'!C824,'SO Analysis'!D:D,'Print Form'!E824)","v":0}]
[null,"",null,null,null,{"$f":"SUMIFS('SO Analysis'!E:E,'SO Analysis'!B:B,'Print Form'!C825,'SO Analysis'!D:D,'Print Form'!E825)","v":0},{"$f":"SUMIFS('SO Analysis'!F:F,'SO Analysis'!B:B,'Print Form'!C825,'SO Analysis'!D:D,'Print Form'!E825)","v":0},{"$f":"SUMIFS('SO Analysis'!G:G,'SO Analysis'!B:B,'Print Form'!C825,'SO Analysis'!D:D,'Print Form'!E825)","v":0}]
[null,"",null,null,null,{"$f":"SUMIFS('SO Analysis'!E:E,'SO Analysis'!B:B,'Print Form'!C826,'SO Analysis'!D:D,'Print Form'!E826)","v":0},{"$f":"SUMIFS('SO Analysis'!F:F,'SO Analysis'!B:B,'Print Form'!C826,'SO Analysis'!D:D,'Print Form'!E826)","v":0},{"$f":"SUMIFS('SO Analysis'!G:G,'SO Analysis'!B:B,'Print Form'!C826,'SO Analysis'!D:D,'Print Form'!E826)","v":0}]
[null,"",null,null,null,{"$f":"SUMIFS('SO Analysis'!E:E,'SO Analysis'!B:B,'Print Form'!C827,'SO Analysis'!D:D,'Print Form'!E827)","v":0},{"$f":"SUMIFS('SO Analysis'!F:F,'SO Analysis'!B:B,'Print Form'!C827,'SO Analysis'!D:D,'Print Form'!E827)","v":0},{"$f":"SUMIFS('SO Analysis'!G:G,'SO Analysis'!B:B,'Print Form'!C827,'SO Analysis'!D:D,'Print Form'!E827)","v":0}]
[null,"",null,null,null,{"$f":"SUMIFS('SO Analysis'!E:E,'SO Analysis'!B:B,'Print Form'!C828,'SO Analysis'!D:D,'Print Form'!E828)","v":0},{"$f":"SUMIFS('SO Analysis'!F:F,'SO Analysis'!B:B,'Print Form'!C828,'SO Analysis'!D:D,'Print Form'!E828)","v":0},{"$f":"SUMIFS('SO Analysis'!G:G,'SO Analysis'!B:B,'Print Form'!C828,'SO Analysis'!D:D,'Print Form'!E828)","v":0}]
[null,"",null,null,null,{"$f":"SUMIFS('SO Analysis'!E:E,'SO Analysis'!B:B,'Print Form'!C829,'SO Analysis'!D:D,'Print Form'!E829)","v":0},{"$f":"SUMIFS('SO Analysis'!F:F,'SO Analysis'!B:B,'Print Form'!C829,'SO Analysis'!D:D,'Print Form'!E829)","v":0},{"$f":"SUMIFS('SO Analysis'!G:G,'SO Analysis'!B:B,'Print Form'!C829,'SO Analysis'!D:D,'Print Form'!E829)","v":0}]
[null,"",null,null,null,{"$f":"SUMIFS('SO Analysis'!E:E,'SO Analysis'!B:B,'Print Form'!C830,'SO Analysis'!D:D,'Print Form'!E830)","v":0},{"$f":"SUMIFS('SO Analysis'!F:F,'SO Analysis'!B:B,'Print Form'!C830,'SO Analysis'!D:D,'Print Form'!E830)","v":0},{"$f":"SUMIFS('SO Analysis'!G:G,'SO Analysis'!B:B,'Print Form'!C830,'SO Analysis'!D:D,'Print Form'!E830)","v":0}]
[null,"",null,null,null,{"$f":"SUMIFS('SO Analysis'!E:E,'SO Analysis'!B:B,'Print Form'!C831,'SO Analysis'!D:D,'Print Form'!E831)","v":0},{"$f":"SUMIFS('SO Analysis'!F:F,'SO Analysis'!B:B,'Print Form'!C831,'SO Analysis'!D:D,'Print Form'!E831)","v":0},{"$f":"SUMIFS('SO Analysis'!G:G,'SO Analysis'!B:B,'Print Form'!C831,'SO Analysis'!D:D,'Print Form'!E831)","v":0}]
[null,"",null,null,null,{"$f":"SUMIFS('SO Analysis'!E:E,'SO Analysis'!B:B,'Print Form'!C832,'SO Analysis'!D:D,'Print Form'!E832)","v":0},{"$f":"SUMIFS('SO Analysis'!F:F,'SO Analysis'!B:B,'Print Form'!C832,'SO Analysis'!D:D,'Print Form'!E832)","v":0},{"$f":"SUMIFS('SO Analysis'!G:G,'SO Analysis'!B:B,'Print Form'!C832,'SO Analysis'!D:D,'Print Form'!E832)","v":0}]
[null,"",null,null,null,{"$f":"SUMIFS('SO Analysis'!E:E,'SO Analysis'!B:B,'Print Form'!C833,'SO Analysis'!D:D,'Print Form'!E833)","v":0},{"$f":"SUMIFS('SO Analysis'!F:F,'SO Analysis'!B:B,'Print Form'!C833,'SO Analysis'!D:D,'Print Form'!E833)","v":0},{"$f":"SUMIFS('SO Analysis'!G:G,'SO Analysis'!B:B,'Print Form'!C833,'SO Analysis'!D:D,'Print Form'!E833)","v":0}]
[null,"",null,null,null,{"$f":"SUMIFS('SO Analysis'!E:E,'SO Analysis'!B:B,'Print Form'!C834,'SO Analysis'!D:D,'Print Form'!E834)","v":0},{"$f":"SUMIFS('SO Analysis'!F:F,'SO Analysis'!B:B,'Print Form'!C834,'SO Analysis'!D:D,'Print Form'!E834)","v":0},{"$f":"SUMIFS('SO Analysis'!G:G,'SO Analysis'!B:B,'Print Form'!C834,'SO Analysis'!D:D,'Print Form'!E834)","v":0}]
[null,"",null,null,null,{"$f":"SUMIFS('SO Analysis'!E:E,'SO Analysis'!B:B,'Print Form'!C835,'SO Analysis'!D:D,'Print Form'!E835)","v":0},{"$f":"SUMIFS('SO Analysis'!F:F,'SO Analysis'!B:B,'Print Form'!C835,'SO Analysis'!D:D,'Print Form'!E835)","v":0},{"$f":"SUMIFS('SO Analysis'!G:G,'SO Analysis'!B:B,'Print Form'!C835,'SO Analysis'!D:D,'Print Form'!E835)","v":0}]
[null,"",null,null,null,{"$f":"SUMIFS('SO Analysis'!E:E,'SO Analysis'!B:B,'Print Form'!C836,'SO Analysis'!D:D,'Print Form'!E836)","v":0},{"$f":"SUMIFS('SO Analysis'!F:F,'SO Analysis'!B:B,'Print Form'!C836,'SO Analysis'!D:D,'Print Form'!E836)","v":0},{"$f":"SUMIFS('SO Analysis'!G:G,'SO Analysis'!B:B,'Print Form'!C836,'SO Analysis'!D:D,'Print Form'!E836)","v":0}]
[null,"",null,null,null,{"$f":"SUMIFS('SO Analysis'!E:E,'SO Analysis'!B:B,'Print Form'!C837,'SO Analysis'!D:D,'Print Form'!E837)","v":0},{"$f":"SUMIFS('SO Analysis'!F:F,'SO Analysis'!B:B,'Print Form'!C837,'SO Analysis'!D:D,'Print Form'!E837)","v":0},{"$f":"SUMIFS('SO Analysis'!G:G,'SO Analysis'!B:B,'Print Form'!C837,'SO Analysis'!D:D,'Print Form'!E837)","v":0}]
[null,"",null,null,null,{"$f":"SUMIFS('SO Analysis'!E:E,'SO Analysis'!B:B,'Print Form'!C838,'SO Analysis'!D:D,'Print Form'!E838)","v":0},{"$f":"SUMIFS('SO Analysis'!F:F,'SO Analysis'!B:B,'Print Form'!C838,'SO Analysis'!D:D,'Print Form'!E838)","v":0},{"$f":"SUMIFS('SO Analysis'!G:G,'SO Analysis'!B:B,'Print Form'!C838,'SO Analysis'!D:D,'Print Form'!E838)","v":0}]
[null,"",null,null,null,{"$f":"SUMIFS('SO Analysis'!E:E,'SO Analysis'!B:B,'Print Form'!C839,'SO Analysis'!D:D,'Print Form'!E839)","v":0},{"$f":"SUMIFS('SO Analysis'!F:F,'SO Analysis'!B:B,'Print Form'!C839,'SO Analysis'!D:D,'Print Form'!E839)","v":0},{"$f":"SUMIFS('SO Analysis'!G:G,'SO Analysis'!B:B,'Print Form'!C839,'SO Analysis'!D:D,'Print Form'!E839)","v":0}]
[null,"",null,null,null,{"$f":"SUMIFS('SO Analysis'!E:E,'SO Analysis'!B:B,'Print Form'!C840,'SO Analysis'!D:D,'Print Form'!E840)","v":0},{"$f":"SUMIFS('SO Analysis'!F:F,'SO Analysis'!B:B,'Print Form'!C840,'SO Analysis'!D:D,'Print Form'!E840)","v":0},{"$f":"SUMIFS('SO Analysis'!G:G,'SO Analysis'!B:B,'Print Form'!C840,'SO Analysis'!D:D,'Print Form'!E840)","v":0}]
[null,"",null,null,null,{"$f":"SUMIFS('SO Analysis'!E:E,'SO Analysis'!B:B,'Print Form'!C841,'SO Analysis'!D:D,'Print Form'!E841)","v":0},{"$f":"SUMIFS('SO Analysis'!F:F,'SO Analysis'!B:B,'Print Form'!C841,'SO Analysis'!D:D,'Print Form'!E841)","v":0},{"$f":"SUMIFS('SO Analysis'!G:G,'SO Analysis'!B:B,'Print Form'!C841,'SO Analysis'!D:D,'Print Form'!E841)","v":0}]
[null,"",null,null,null,{"$f":"SUMIFS('SO Analysis'!E:E,'SO Analysis'!B:B,'Print Form'!C842,'SO Analysis'!D:D,'Print Form'!E842)","v":0},{"$f":"SUMIFS('SO Analysis'!F:F,'SO Analysis'!B:B,'Print Form'!C842,'SO Analysis'!D:D,'Print Form'!E842)","v":0},{"$f":"SUMIFS('SO Analysis'!G:G,'SO Analysis'!B:B,'Print Form'!C842,'SO Analysis'!D:D,'Print Form'!E842)","v":0}]
[null,"",null,null,null,{"$f":"SUMIFS('SO Analysis'!E:E,'SO Analysis'!B:B,'Print Form'!C843,'SO Analysis'!D:D,'Print Form'!E843)","v":0},{"$f":"SUMIFS('SO Analysis'!F:F,'SO Analysis'!B:B,'Print Form'!C843,'SO Analysis'!D:D,'Print Form'!E843)","v":0},{"$f":"SUMIFS('SO Analysis'!G:G,'SO Analysis'!B:B,'Print Form'!C843,'SO Analysis'!D:D,'Print Form'!E843)","v":0}]
[null,"",null,null,null,{"$f":"SUMIFS('SO Analysis'!E:E,'SO Analysis'!B:B,'Print Form'!C844,'SO Analysis'!D:D,'Print Form'!E844)","v":0},{"$f":"SUMIFS('SO Analysis'!F:F,'SO Analysis'!B:B,'Print Form'!C844,'SO Analysis'!D:D,'Print Form'!E844)","v":0},{"$f":"SUMIFS('SO Analysis'!G:G,'SO Analysis'!B:B,'Print Form'!C844,'SO Analysis'!D:D,'Print Form'!E844)","v":0}]
[null,"",null,null,null,{"$f":"SUMIFS('SO Analysis'!E:E,'SO Analysis'!B:B,'Print Form'!C845,'SO Analysis'!D:D,'Print Form'!E845)","v":0},{"$f":"SUMIFS('SO Analysis'!F:F,'SO Analysis'!B:B,'Print Form'!C845,'SO Analysis'!D:D,'Print Form'!E845)","v":0},{"$f":"SUMIFS('SO Analysis'!G:G,'SO Analysis'!B:B,'Print Form'!C845,'SO Analysis'!D:D,'Print Form'!E845)","v":0}]
[null,{"$f":"IF(C846=\"\",\"\",ROW()-12)","v":""},null,null,null,{"$f":"SUMIFS('SO Analysis'!E:E,'SO Analysis'!B:B,'Print Form'!C846,'SO Analysis'!D:D,'Print Form'!E846)","v":0},{"$f":"SUMIFS('SO Analysis'!F:F,'SO Analysis'!B:B,'Print Form'!C846,'SO Analysis'!D:D,'Print Form'!E846)","v":0},{"$f":"SUMIFS('SO Analysis'!G:G,'SO Analysis'!B:B,'Print Form'!C846,'SO Analysis'!D:D,'Print Form'!E846)","v":0}]
[null,"",null,null,null,{"$f":"SUMIFS('SO Analysis'!E:E,'SO Analysis'!B:B,'Print Form'!C847,'SO Analysis'!D:D,'Print Form'!E847)","v":0},{"$f":"SUMIFS('SO Analysis'!F:F,'SO Analysis'!B:B,'Print Form'!C847,'SO Analysis'!D:D,'Print Form'!E847)","v":0},{"$f":"SUMIFS('SO Analysis'!G:G,'SO Analysis'!B:B,'Print Form'!C847,'SO Analysis'!D:D,'Print Form'!E847)","v":0}]
[null,"",null,null,null,{"$f":"SUMIFS('SO Analysis'!E:E,'SO Analysis'!B:B,'Print Form'!C848,'SO Analysis'!D:D,'Print Form'!E848)","v":0},{"$f":"SUMIFS('SO Analysis'!F:F,'SO Analysis'!B:B,'Print Form'!C848,'SO Analysis'!D:D,'Print Form'!E848)","v":0},{"$f":"SUMIFS('SO Analysis'!G:G,'SO Analysis'!B:B,'Print Form'!C848,'SO Analysis'!D:D,'Print Form'!E848)","v":0}]
[null,"",null,null,null,{"$f":"SUMIFS('SO Analysis'!E:E,'SO Analysis'!B:B,'Print Form'!C849,'SO Analysis'!D:D,'Print Form'!E849)","v":0},{"$f":"SUMIFS('SO Analysis'!F:F,'SO Analysis'!B:B,'Print Form'!C849,'SO Analysis'!D:D,'Print Form'!E849)","v":0},{"$f":"SUMIFS('SO Analysis'!G:G,'SO Analysis'!B:B,'Print Form'!C849,'SO Analysis'!D:D,'Print Form'!E849)","v":0}]
[null,"",null,null,null,{"$f":"SUMIFS('SO Analysis'!E:E,'SO Analysis'!B:B,'Print Form'!C850,'SO Analysis'!D:D,'Print Form'!E850)","v":0},{"$f":"SUMIFS('SO Analysis'!F:F,'SO Analysis'!B:B,'Print Form'!C850,'SO Analysis'!D:D,'Print Form'!E850)","v":0},{"$f":"SUMIFS('SO Analysis'!G:G,'SO Analysis'!B:B,'Print Form'!C850,'SO Analysis'!D:D,'Print Form'!E850)","v":0}]
[null,"",null,null,null,{"$f":"SUMIFS('SO Analysis'!E:E,'SO Analysis'!B:B,'Print Form'!C851,'SO Analysis'!D:D,'Print Form'!E851)","v":0},{"$f":"SUMIFS('SO Analysis'!F:F,'SO Analysis'!B:B,'Print Form'!C851,'SO Analysis'!D:D,'Print Form'!E851)","v":0},{"$f":"SUMIFS('SO Analysis'!G:G,'SO Analysis'!B:B,'Print Form'!C851,'SO Analysis'!D:D,'Print Form'!E851)","v":0}]
[null,"",null,null,null,{"$f":"SUMIFS('SO Analysis'!E:E,'SO Analysis'!B:B,'Print Form'!C852,'SO Analysis'!D:D,'Print Form'!E852)","v":0},{"$f":"SUMIFS('SO Analysis'!F:F,'SO Analysis'!B:B,'Print Form'!C852,'SO Analysis'!D:D,'Print Form'!E852)","v":0},{"$f":"SUMIFS('SO Analysis'!G:G,'SO Analysis'!B:B,'Print Form'!C852,'SO Analysis'!D:D,'Print Form'!E852)","v":0}]
[null,"",null,null,null,{"$f":"SUMIFS('SO Analysis'!E:E,'SO Analysis'!B:B,'Print Form'!C853,'SO Analysis'!D:D,'Print Form'!E853)","v":0},{"$f":"SUMIFS('SO Analysis'!F:F,'SO Analysis'!B:B,'Print Form'!C853,'SO Analysis'!D:D,'Print Form'!E853)","v":0},{"$f":"SUMIFS('SO Analysis'!G:G,'SO Analysis'!B:B,'Print Form'!C853,'SO Analysis'!D:D,'Print Form'!E853)","v":0}]
[null,"",null,null,null,{"$f":"SUMIFS('SO Analysis'!E:E,'SO Analysis'!B:B,'Print Form'!C854,'SO Analysis'!D:D,'Print Form'!E854)","v":0},{"$f":"SUMIFS('SO Analysis'!F:F,'SO Analysis'!B:B,'Print Form'!C854,'SO Analysis'!D:D,'Print Form'!E854)","v":0},{"$f":"SUMIFS('SO Analysis'!G:G,'SO Analysis'!B:B,'Print Form'!C854,'SO Analysis'!D:D,'Print Form'!E854)","v":0}]
[null,"",null,null,null,{"$f":"SUMIFS('SO Analysis'!E:E,'SO Analysis'!B:B,'Print Form'!C855,'SO Analysis'!D:D,'Print Form'!E855)","v":0},{"$f":"SUMIFS('SO Analysis'!F:F,'SO Analysis'!B:B,'Print Form'!C855,'SO Analysis'!D:D,'Print Form'!E855)","v":0},{"$f":"SUMIFS('SO Analysis'!G:G,'SO Analysis'!B:B,'Print Form'!C855,'SO Analysis'!D:D,'Print Form'!E855)","v":0}]
[null,"",null,null,null,{"$f":"SUMIFS('SO Analysis'!E:E,'SO Analysis'!B:B,'Print Form'!C856,'SO Analysis'!D:D,'Print Form'!E856)","v":0},{"$f":"SUMIFS('SO Analysis'!F:F,'SO Analysis'!B:B,'Print Form'!C856,'SO Analysis'!D:D,'Print Form'!E856)","v":0},{"$f":"SUMIFS('SO Analysis'!G:G,'SO Analysis'!B:B,'Print Form'!C856,'SO Analysis'!D:D,'Print Form'!E856)","v":0}]
[null,"",null,null,null,{"$f":"SUMIFS('SO Analysis'!E:E,'SO Analysis'!B:B,'Print Form'!C857,'SO Analysis'!D:D,'Print Form'!E857)","v":0},{"$f":"SUMIFS('SO Analysis'!F:F,'SO Analysis'!B:B,'Print Form'!C857,'SO Analysis'!D:D,'Print Form'!E857)","v":0},{"$f":"SUMIFS('SO Analysis'!G:G,'SO Analysis'!B:B,'Print Form'!C857,'SO Analysis'!D:D,'Print Form'!E857)","v":0}]
[null,"",null,null,null,{"$f":"SUMIFS('SO Analysis'!E:E,'SO Analysis'!B:B,'Print Form'!C858,'SO Analysis'!D:D,'Print Form'!E858)","v":0},{"$f":"SUMIFS('SO Analysis'!F:F,'SO Analysis'!B:B,'Print Form'!C858,'SO Analysis'!D:D,'Print Form'!E858)","v":0},{"$f":"SUMIFS('SO Analysis'!G:G,'SO Analysis'!B:B,'Print Form'!C858,'SO Analysis'!D:D,'Print Form'!E858)","v":0}]
[null,"",null,null,null,{"$f":"SUMIFS('SO Analysis'!E:E,'SO Analysis'!B:B,'Print Form'!C859,'SO Analysis'!D:D,'Print Form'!E859)","v":0},{"$f":"SUMIFS('SO Analysis'!F:F,'SO Analysis'!B:B,'Print Form'!C859,'SO Analysis'!D:D,'Print Form'!E859)","v":0},{"$f":"SUMIFS('SO Analysis'!G:G,'SO Analysis'!B:B,'Print Form'!C859,'SO Analysis'!D:D,'Print Form'!E859)","v":0}]
[null,"",null,null,null,{"$f":"SUMIFS('SO Analysis'!E:E,'SO Analysis'!B:B,'Print Form'!C860,'SO Analysis'!D:D,'Print Form'!E860)","v":0},{"$f":"SUMIFS('SO Analysis'!F:F,'SO Analysis'!B:B,'Print Form'!C860,'SO Analysis'!D:D,'Print Form'!E860)","v":0},{"$f":"SUMIFS('SO Analysis'!G:G,'SO Analysis'!B:B,'Print Form'!C860,'SO Analysis'!D:D,'Print Form'!E860)","v":0}]
[null,"",null,null,null,{"$f":"SUMIFS('SO Analysis'!E:E,'SO Analysis'!B:B,'Print Form'!C861,'SO Analysis'!D:D,'Print Form'!E861)","v":0},{"$f":"SUMIFS('SO Analysis'!F:F,'SO Analysis'!B:B,'Print Form'!C861,'SO Analysis'!D:D,'Print Form'!E861)","v":0},{"$f":"SUMIFS('SO Analysis'!G:G,'SO Analysis'!B:B,'Print Form'!C861,'SO Analysis'!D:D,'Print Form'!E861)","v":0}]
[null,"",null,null,null,{"$f":"SUMIFS('SO Analysis'!E:E,'SO Analysis'!B:B,'Print Form'!C862,'SO Analysis'!D:D,'Print Form'!E862)","v":0},{"$f":"SUMIFS('SO Analysis'!F:F,'SO Analysis'!B:B,'Print Form'!C862,'SO Analysis'!D:D,'Print Form'!E862)","v":0},{"$f":"SUMIFS('SO Analysis'!G:G,'SO Analysis'!B:B,'Print Form'!C862,'SO Analysis'!D:D,'Print Form'!E862)","v":0}]
[null,"",null,null,null,{"$f":"SUMIFS('SO Analysis'!E:E,'SO Analysis'!B:B,'Print Form'!C863,'SO Analysis'!D:D,'Print Form'!E863)","v":0},{"$f":"SUMIFS('SO Analysis'!F:F,'SO Analysis'!B:B,'Print Form'!C863,'SO Analysis'!D:D,'Print Form'!E863)","v":0},{"$f":"SUMIFS('SO Analysis'!G:G,'SO Analysis'!B:B,'Print Form'!C863,'SO Analysis'!D:D,'Print Form'!E863)","v":0}]
[null,"",null,null,null,{"$f":"SUMIFS('SO Analysis'!E:E,'SO Analysis'!B:B,'Print Form'!C864,'SO Analysis'!D:D,'Print Form'!E864)","v":0},{"$f":"SUMIFS('SO Analysis'!F:F,'SO Analysis'!B:B,'Print Form'!C864,'SO Analysis'!D:D,'Print Form'!E864)","v":0},{"$f":"SUMIFS('SO Analysis'!G:G,'SO Analysis'!B:B,'Print Form'!C864,'SO Analysis'!D:D,'Print Form'!E864)","v":0}]
[null,"",null,null,null,{"$f":"SUMIFS('SO Analysis'!E:E,'SO Analysis'!B:B,'Print Form'!C865,'SO Analysis'!D:D,'Print Form'!E865)","v":0},{"$f":"SUMIFS('SO Analysis'!F:F,'SO Analysis'!B:B,'Print Form'!C865,'SO Analysis'!D:D,'Print Form'!E865)","v":0},{"$f":"SUMIFS('SO Analysis'!G:G,'SO Analysis'!B:B,'Print Form'!C865,'SO Analysis'!D:D,'Print Form'!E865)","v":0}]
[null,"",null,null,null,{"$f":"SUMIFS('SO Analysis'!E:E,'SO Analysis'!B:B,'Print Form'!C866,'SO Analysis'!D:D,'Print Form'!E866)","v":0},{"$f":"SUMIFS('SO Analysis'!F:F,'SO Analysis'!B:B,'Print Form'!C866,'SO Analysis'!D:D,'Print Form'!E866)","v":0},{"$f":"SUMIFS('SO Analysis'!G:G,'SO Analysis'!B:B,'Print Form'!C866,'SO Analysis'!D:D,'Print Form'!E866)","v":0}]
[null,"",null,null,null,{"$f":"SUMIFS('SO Analysis'!E:E,'SO Analysis'!B:B,'Print Form'!C867,'SO Analysis'!D:D,'Print Form'!E867)","v":0},{"$f":"SUMIFS('SO Analysis'!F:F,'SO Analysis'!B:B,'Print Form'!C867,'SO Analysis'!D:D,'Print Form'!E867)","v":0},{"$f":"SUMIFS('SO Analysis'!G:G,'SO Analysis'!B:B,'Print Form'!C867,'SO Analysis'!D:D,'Print Form'!E867)","v":0}]
[null,"",null,null,null,{"$f":"SUMIFS('SO Analysis'!E:E,'SO Analysis'!B:B,'Print Form'!C868,'SO Analysis'!D:D,'Print Form'!E868)","v":0},{"$f":"SUMIFS('SO Analysis'!F:F,'SO Analysis'!B:B,'Print Form'!C868,'SO Analysis'!D:D,'Print Form'!E868)","v":0},{"$f":"SUMIFS('SO Analysis'!G:G,'SO Analysis'!B:B,'Print Form'!C868,'SO Analysis'!D:D,'Print Form'!E868)","v":0}]
[null,"",null,null,null,{"$f":"SUMIFS('SO Analysis'!E:E,'SO Analysis'!B:B,'Print Form'!C869,'SO Analysis'!D:D,'Print Form'!E869)","v":0},{"$f":"SUMIFS('SO Analysis'!F:F,'SO Analysis'!B:B,'Print Form'!C869,'SO Analysis'!D:D,'Print Form'!E869)","v":0},{"$f":"SUMIFS('SO Analysis'!G:G,'SO Analysis'!B:B,'Print Form'!C869,'SO Analysis'!D:D,'Print Form'!E869)","v":0}]
[null,"",null,null,null,{"$f":"SUMIFS('SO Analysis'!E:E,'SO Analysis'!B:B,'Print Form'!C870,'SO Analysis'!D:D,'Print Form'!E870)","v":0},{"$f":"SUMIFS('SO Analysis'!F:F,'SO Analysis'!B:B,'Print Form'!C870,'SO Analysis'!D:D,'Print Form'!E870)","v":0},{"$f":"SUMIFS('SO Analysis'!G:G,'SO Analysis'!B:B,'Print Form'!C870,'SO Analysis'!D:D,'Print Form'!E870)","v":0}]
[null,"",null,null,null,{"$f":"SUMIFS('SO Analysis'!E:E,'SO Analysis'!B:B,'Print Form'!C871,'SO Analysis'!D:D,'Print Form'!E871)","v":0},{"$f":"SUMIFS('SO Analysis'!F:F,'SO Analysis'!B:B,'Print Form'!C871,'SO Analysis'!D:D,'Print Form'!E871)","v":0},{"$f":"SUMIFS('SO Analysis'!G:G,'SO Analysis'!B:B,'Print Form'!C871,'SO Analysis'!D:D,'Print Form'!E871)","v":0}]
[null,"",null,null,null,{"$f":"SUMIFS('SO Analysis'!E:E,'SO Analysis'!B:B,'Print Form'!C872,'SO Analysis'!D:D,'Print Form'!E872)","v":0},{"$f":"SUMIFS('SO Analysis'!F:F,'SO Analysis'!B:B,'Print Form'!C872,'SO Analysis'!D:D,'Print Form'!E872)","v":0},{"$f":"SUMIFS('SO Analysis'!G:G,'SO Analysis'!B:B,'Print Form'!C872,'SO Analysis'!D:D,'Print Form'!E872)","v":0}]
[null,"",null,null,null,{"$f":"SUMIFS('SO Analysis'!E:E,'SO Analysis'!B:B,'Print Form'!C873,'SO Analysis'!D:D,'Print Form'!E873)","v":0},{"$f":"SUMIFS('SO Analysis'!F:F,'SO Analysis'!B:B,'Print Form'!C873,'SO Analysis'!D:D,'Print Form'!E873)","v":0},{"$f":"SUMIFS('SO Analysis'!G:G,'SO Analysis'!B:B,'Print Form'!C873,'SO Analysis'!D:D,'Print Form'!E873)","v":0}]
[null,"",null,null,null,{"$f":"SUMIFS('SO Analysis'!E:E,'SO Analysis'!B:B,'Print Form'!C874,'SO Analysis'!D:D,'Print Form'!E874)","v":0},{"$f":"SUMIFS('SO Analysis'!F:F,'SO Analysis'!B:B,'Print Form'!C874,'SO Analysis'!D:D,'Print Form'!E874)","v":0},{"$f":"SUMIFS('SO Analysis'!G:G,'SO Analysis'!B:B,'Print Form'!C874,'SO Analysis'!D:D,'Print Form'!E874)","v":0}]
[null,"",null,null,null,{"$f":"SUMIFS('SO Analysis'!E:E,'SO Analysis'!B:B,'Print Form'!C875,'SO Analysis'!D:D,'Print Form'!E875)","v":0},{"$f":"SUMIFS('SO Analysis'!F:F,'SO Analysis'!B:B,'Print Form'!C875,'SO Analysis'!D:D,'Print Form'!E875)","v":0},{"$f":"SUMIFS('SO Analysis'!G:G,'SO Analysis'!B:B,'Print Form'!C875,'SO Analysis'!D:D,'Print Form'!E875)","v":0}]
[null,"",null,null,null,{"$f":"SUMIFS('SO Analysis'!E:E,'SO Analysis'!B:B,'Print Form'!C876,'SO Analysis'!D:D,'Print Form'!E876)","v":0},{"$f":"SUMIFS('SO Analysis'!F:F,'SO Analysis'!B:B,'Print Form'!C876,'SO Analysis'!D:D,'Print Form'!E876)","v":0},{"$f":"SUMIFS('SO Analysis'!G:G,'SO Analysis'!B:B,'Print Form'!C876,'SO Analysis'!D:D,'Print Form'!E876)","v":0}]
[null,"",null,null,null,{"$f":"SUMIFS('SO Analysis'!E:E,'SO Analysis'!B:B,'Print Form'!C877,'SO Analysis'!D:D,'Print Form'!E877)","v":0},{"$f":"SUMIFS('SO Analysis'!F:F,'SO Analysis'!B:B,'Print Form'!C877,'SO Analysis'!D:D,'Print Form'!E877)","v":0},{"$f":"SUMIFS('SO Analysis'!G:G,'SO Analysis'!B:B,'Print Form'!C877,'SO Analysis'!D:D,'Print Form'!E877)","v":0}]
[null,"",null,null,null,{"$f":"SUMIFS('SO Analysis'!E:E,'SO Analysis'!B:B,'Print Form'!C878,'SO Analysis'!D:D,'Print Form'!E878)","v":0},{"$f":"SUMIFS('SO Analysis'!F:F,'SO Analysis'!B:B,'Print Form'!C878,'SO Analysis'!D:D,'Print Form'!E878)","v":0},{"$f":"SUMIFS('SO Analysis'!G:G,'SO Analysis'!B:B,'Print Form'!C878,'SO Analysis'!D:D,'Print Form'!E878)","v":0}]
[null,"",null,null,null,{"$f":"SUMIFS('SO Analysis'!E:E,'SO Analysis'!B:B,'Print Form'!C879,'SO Analysis'!D:D,'Print Form'!E879)","v":0},{"$f":"SUMIFS('SO Analysis'!F:F,'SO Analysis'!B:B,'Print Form'!C879,'SO Analysis'!D:D,'Print Form'!E879)","v":0},{"$f":"SUMIFS('SO Analysis'!G:G,'SO Analysis'!B:B,'Print Form'!C879,'SO Analysis'!D:D,'Print Form'!E879)","v":0}]
[null,"",null,null,null,{"$f":"SUMIFS('SO Analysis'!E:E,'SO Analysis'!B:B,'Print Form'!C880,'SO Analysis'!D:D,'Print Form'!E880)","v":0},{"$f":"SUMIFS('SO Analysis'!F:F,'SO Analysis'!B:B,'Print Form'!C880,'SO Analysis'!D:D,'Print Form'!E880)","v":0},{"$f":"SUMIFS('SO Analysis'!G:G,'SO Analysis'!B:B,'Print Form'!C880,'SO Analysis'!D:D,'Print Form'!E880)","v":0}]
[null,"",null,null,null,{"$f":"SUMIFS('SO Analysis'!E:E,'SO Analysis'!B:B,'Print Form'!C881,'SO Analysis'!D:D,'Print Form'!E881)","v":0},{"$f":"SUMIFS('SO Analysis'!F:F,'SO Analysis'!B:B,'Print Form'!C881,'SO Analysis'!D:D,'Print Form'!E881)","v":0},{"$f":"SUMIFS('SO Analysis'!G:G,'SO Analysis'!B:B,'Print Form'!C881,'SO Analysis'!D:D,'Print Form'!E881)","v":0}]
[null,"",null,null,null,{"$f":"SUMIFS('SO Analysis'!E:E,'SO Analysis'!B:B,'Print Form'!C882,'SO Analysis'!D:D,'Print Form'!E882)","v":0},{"$f":"SUMIFS('SO Analysis'!F:F,'SO Analysis'!B:B,'Print Form'!C882,'SO Analysis'!D:D,'Print Form'!E882)","v":0},{"$f":"SUMIFS('SO Analysis'!G:G,'SO Analysis'!B:B,'Print Form'!C882,'SO Analysis'!D:D,'Print Form'!E882)","v":0}]
[null,"",null,null,null,{"$f":"SUMIFS('SO Analysis'!E:E,'SO Analysis'!B:B,'Print Form'!C883,'SO Analysis'!D:D,'Print Form'!E883)","v":0},{"$f":"SUMIFS('SO Analysis'!F:F,'SO Analysis'!B:B,'Print Form'!C883,'SO Analysis'!D:D,'Print Form'!E883)","v":0},{"$f":"SUMIFS('SO Analysis'!G:G,'SO Analysis'!B:B,'Print Form'!C883,'SO Analysis'!D:D,'Print Form'!E883)","v":0}]
[null,"",null,null,null,{"$f":"SUMIFS('SO Analysis'!E:E,'SO Analysis'!B:B,'Print Form'!C884,'SO Analysis'!D:D,'Print Form'!E884)","v":0},{"$f":"SUMIFS('SO Analysis'!F:F,'SO Analysis'!B:B,'Print Form'!C884,'SO Analysis'!D:D,'Print Form'!E884)","v":0},{"$f":"SUMIFS('SO Analysis'!G:G,'SO Analysis'!B:B,'Print Form'!C884,'SO Analysis'!D:D,'Print Form'!E884)","v":0}]
[null,"",null,null,null,{"$f":"SUMIFS('SO Analysis'!E:E,'SO Analysis'!B:B,'Print Form'!C885,'SO Analysis'!D:D,'Print Form'!E885)","v":0},{"$f":"SUMIFS('SO Analysis'!F:F,'SO Analysis'!B:B,'Print Form'!C885,'SO Analysis'!D:D,'Print Form'!E885)","v":0},{"$f":"SUMIFS('SO Analysis'!G:G,'SO Analysis'!B:B,'Print Form'!C885,'SO Analysis'!D:D,'Print Form'!E885)","v":0}]
[null,"",null,null,null,{"$f":"SUMIFS('SO Analysis'!E:E,'SO Analysis'!B:B,'Print Form'!C886,'SO Analysis'!D:D,'Print Form'!E886)","v":0},{"$f":"SUMIFS('SO Analysis'!F:F,'SO Analysis'!B:B,'Print Form'!C886,'SO Analysis'!D:D,'Print Form'!E886)","v":0},{"$f":"SUMIFS('SO Analysis'!G:G,'SO Analysis'!B:B,'Print Form'!C886,'SO Analysis'!D:D,'Print Form'!E886)","v":0}]
[null,"",null,null,null,{"$f":"SUMIFS('SO Analysis'!E:E,'SO Analysis'!B:B,'Print Form'!C887,'SO Analysis'!D:D,'Print Form'!E887)","v":0},{"$f":"SUMIFS('SO Analysis'!F:F,'SO Analysis'!B:B,'Print Form'!C887,'SO Analysis'!D:D,'Print Form'!E887)","v":0},{"$f":"SUMIFS('SO Analysis'!G:G,'SO Analysis'!B:B,'Print Form'!C887,'SO Analysis'!D:D,'Print Form'!E887)","v":0}]
[null,"",null,null,null,{"$f":"SUMIFS('SO Analysis'!E:E,'SO Analysis'!B:B,'Print Form'!C888,'SO Analysis'!D:D,'Print Form'!E888)","v":0},{"$f":"SUMIFS('SO Analysis'!F:F,'SO Analysis'!B:B,'Print Form'!C888,'SO Analysis'!D:D,'Print Form'!E888)","v":0},{"$f":"SUMIFS('SO Analysis'!G:G,'SO Analysis'!B:B,'Print Form'!C888,'SO Analysis'!D:D,'Print Form'!E888)","v":0}]
[null,"",null,null,null,{"$f":"SUMIFS('SO Analysis'!E:E,'SO Analysis'!B:B,'Print Form'!C889,'SO Analysis'!D:D,'Print Form'!E889)","v":0},{"$f":"SUMIFS('SO Analysis'!F:F,'SO Analysis'!B:B,'Print Form'!C889,'SO Analysis'!D:D,'Print Form'!E889)","v":0},{"$f":"SUMIFS('SO Analysis'!G:G,'SO Analysis'!B:B,'Print Form'!C889,'SO Analysis'!D:D,'Print Form'!E889)","v":0}]
[null,"",null,null,null,{"$f":"SUMIFS('SO Analysis'!E:E,'SO Analysis'!B:B,'Print Form'!C890,'SO Analysis'!D:D,'Print Form'!E890)","v":0},{"$f":"SUMIFS('SO Analysis'!F:F,'SO Analysis'!B:B,'Print Form'!C890,'SO Analysis'!D:D,'Print Form'!E890)","v":0},{"$f":"SUMIFS('SO Analysis'!G:G,'SO Analysis'!B:B,'Print Form'!C890,'SO Analysis'!D:D,'Print Form'!E890)","v":0}]
[null,"",null,null,null,{"$f":"SUMIFS('SO Analysis'!E:E,'SO Analysis'!B:B,'Print Form'!C891,'SO Analysis'!D:D,'Print Form'!E891)","v":0},{"$f":"SUMIFS('SO Analysis'!F:F,'SO Analysis'!B:B,'Print Form'!C891,'SO Analysis'!D:D,'Print Form'!E891)","v":0},{"$f":"SUMIFS('SO Analysis'!G:G,'SO Analysis'!B:B,'Print Form'!C891,'SO Analysis'!D:D,'Print Form'!E891)","v":0}]
[null,"",null,null,null,{"$f":"SUMIFS('SO Analysis'!E:E,'SO Analysis'!B:B,'Print Form'!C892,'SO Analysis'!D:D,'Print Form'!E892)","v":0},{"$f":"SUMIFS('SO Analysis'!F:F,'SO Analysis'!B:B,'Print Form'!C892,'SO Analysis'!D:D,'Print Form'!E892)","v":0},{"$f":"SUMIFS('SO Analysis'!G:G,'SO Analysis'!B:B,'Print Form'!C892,'SO Analysis'!D:D,'Print Form'!E892)","v":0}]
[null,"",null,null,null,{"$f":"SUMIFS('SO Analysis'!E:E,'SO Analysis'!B:B,'Print Form'!C893,'SO Analysis'!D:D,'Print Form'!E893)","v":0},{"$f":"SUMIFS('SO Analysis'!F:F,'SO Analysis'!B:B,'Print Form'!C893,'SO Analysis'!D:D,'Print Form'!E893)","v":0},{"$f":"SUMIFS('SO Analysis'!G:G,'SO Analysis'!B:B,'Print Form'!C893,'SO Analysis'!D:D,'Print Form'!E893)","v":0}]
[null,"",null,null,null,{"$f":"SUMIFS('SO Analysis'!E:E,'SO Analysis'!B:B,'Print Form'!C894,'SO Analysis'!D:D,'Print Form'!E894)","v":0},{"$f":"SUMIFS('SO Analysis'!F:F,'SO Analysis'!B:B,'Print Form'!C894,'SO Analysis'!D:D,'Print Form'!E894)","v":0},{"$f":"SUMIFS('SO Analysis'!G:G,'SO Analysis'!B:B,'Print Form'!C894,'SO Analysis'!D:D,'Print Form'!E894)","v":0}]
[null,"",null,null,null,{"$f":"SUMIFS('SO Analysis'!E:E,'SO Analysis'!B:B,'Print Form'!C895,'SO Analysis'!D:D,'Print Form'!E895)","v":0},{"$f":"SUMIFS('SO Analysis'!F:F,'SO Analysis'!B:B,'Print Form'!C895,'SO Analysis'!D:D,'Print Form'!E895)","v":0},{"$f":"SUMIFS('SO Analysis'!G:G,'SO Analysis'!B:B,'Print Form'!C895,'SO Analysis'!D:D,'Print Form'!E895)","v":0}]
[null,"",null,null,null,{"$f":"SUMIFS('SO Analysis'!E:E,'SO Analysis'!B:B,'Print Form'!C896,'SO Analysis'!D:D,'Print Form'!E896)","v":0},{"$f":"SUMIFS('SO Analysis'!F:F,'SO Analysis'!B:B,'Print Form'!C896,'SO Analysis'!D:D,'Print Form'!E896)","v":0},{"$f":"SUMIFS('SO Analysis'!G:G,'SO Analysis'!B:B,'Print Form'!C896,'SO Analysis'!D:D,'Print Form'!E896)","v":0}]
[null,"",null,null,null,{"$f":"SUMIFS('SO Analysis'!E:E,'SO Analysis'!B:B,'Print Form'!C897,'SO Analysis'!D:D,'Print Form'!E897)","v":0},{"$f":"SUMIFS('SO Analysis'!F:F,'SO Analysis'!B:B,'Print Form'!C897,'SO Analysis'!D:D,'Print Form'!E897)","v":0},{"$f":"SUMIFS('SO Analysis'!G:G,'SO Analysis'!B:B,'Print Form'!C897,'SO Analysis'!D:D,'Print Form'!E897)","v":0}]
[null,"",null,null,null,{"$f":"SUMIFS('SO Analysis'!E:E,'SO Analysis'!B:B,'Print Form'!C898,'SO Analysis'!D:D,'Print Form'!E898)","v":0},{"$f":"SUMIFS('SO Analysis'!F:F,'SO Analysis'!B:B,'Print Form'!C898,'SO Analysis'!D:D,'Print Form'!E898)","v":0},{"$f":"SUMIFS('SO Analysis'!G:G,'SO Analysis'!B:B,'Print Form'!C898,'SO Analysis'!D:D,'Print Form'!E898)","v":0}]
[null,"",null,null,null,{"$f":"SUMIFS('SO Analysis'!E:E,'SO Analysis'!B:B,'Print Form'!C899,'SO Analysis'!D:D,'Print Form'!E899)","v":0},{"$f":"SUMIFS('SO Analysis'!F:F,'SO Analysis'!B:B,'Print Form'!C899,'SO Analysis'!D:D,'Print Form'!E899)","v":0},{"$f":"SUMIFS('SO Analysis'!G:G,'SO Analysis'!B:B,'Print Form'!C899,'SO Analysis'!D:D,'Print Form'!E899)","v":0}]
[null,"",null,null,null,{"$f":"SUMIFS('SO Analysis'!E:E,'SO Analysis'!B:B,'Print Form'!C900,'SO Analysis'!D:D,'Print Form'!E900)","v":0},{"$f":"SUMIFS('SO Analysis'!F:F,'SO Analysis'!B:B,'Print Form'!C900,'SO Analysis'!D:D,'Print Form'!E900)","v":0},{"$f":"SUMIFS('SO Analysis'!G:G,'SO Analysis'!B:B,'Print Form'!C900,'SO Analysis'!D:D,'Print Form'!E900)","v":0}]
[null,"",null,null,null,{"$f":"SUMIFS('SO Analysis'!E:E,'SO Analysis'!B:B,'Print Form'!C901,'SO Analysis'!D:D,'Print Form'!E901)","v":0},{"$f":"SUMIFS('SO Analysis'!F:F,'SO Analysis'!B:B,'Print Form'!C901,'SO Analysis'!D:D,'Print Form'!E901)","v":0},{"$f":"SUMIFS('SO Analysis'!G:G,'SO Analysis'!B:B,'Print Form'!C901,'SO Analysis'!D:D,'Print Form'!E901)","v":0}]
[null,"",null,null,null,{"$f":"SUMIFS('SO Analysis'!E:E,'SO Analysis'!B:B,'Print Form'!C902,'SO Analysis'!D:D,'Print Form'!E902)","v":0},{"$f":"SUMIFS('SO Analysis'!F:F,'SO Analysis'!B:B,'Print Form'!C902,'SO Analysis'!D:D,'Print Form'!E902)","v":0},{"$f":"SUMIFS('SO Analysis'!G:G,'SO Analysis'!B:B,'Print Form'!C902,'SO Analysis'!D:D,'Print Form'!E902)","v":0}]
[null,"",null,null,null,{"$f":"SUMIFS('SO Analysis'!E:E,'SO Analysis'!B:B,'Print Form'!C903,'SO Analysis'!D:D,'Print Form'!E903)","v":0},{"$f":"SUMIFS('SO Analysis'!F:F,'SO Analysis'!B:B,'Print Form'!C903,'SO Analysis'!D:D,'Print Form'!E903)","v":0},{"$f":"SUMIFS('SO Analysis'!G:G,'SO Analysis'!B:B,'Print Form'!C903,'SO Analysis'!D:D,'Print Form'!E903)","v":0}]
[null,"",null,null,null,{"$f":"SUMIFS('SO Analysis'!E:E,'SO Analysis'!B:B,'Print Form'!C904,'SO Analysis'!D:D,'Print Form'!E904)","v":0},{"$f":"SUMIFS('SO Analysis'!F:F,'SO Analysis'!B:B,'Print Form'!C904,'SO Analysis'!D:D,'Print Form'!E904)","v":0},{"$f":"SUMIFS('SO Analysis'!G:G,'SO Analysis'!B:B,'Print Form'!C904,'SO Analysis'!D:D,'Print Form'!E904)","v":0}]
[null,"",null,null,null,{"$f":"SUMIFS('SO Analysis'!E:E,'SO Analysis'!B:B,'Print Form'!C905,'SO Analysis'!D:D,'Print Form'!E905)","v":0},{"$f":"SUMIFS('SO Analysis'!F:F,'SO Analysis'!B:B,'Print Form'!C905,'SO Analysis'!D:D,'Print Form'!E905)","v":0},{"$f":"SUMIFS('SO Analysis'!G:G,'SO Analysis'!B:B,'Print Form'!C905,'SO Analysis'!D:D,'Print Form'!E905)","v":0}]
[null,"",null,null,null,{"$f":"SUMIFS('SO Analysis'!E:E,'SO Analysis'!B:B,'Print Form'!C906,'SO Analysis'!D:D,'Print Form'!E906)","v":0},{"$f":"SUMIFS('SO Analysis'!F:F,'SO Analysis'!B:B,'Print Form'!C906,'SO Analysis'!D:D,'Print Form'!E906)","v":0},{"$f":"SUMIFS('SO Analysis'!G:G,'SO Analysis'!B:B,'Print Form'!C906,'SO Analysis'!D:D,'Print Form'!E906)","v":0}]
[null,"",null,null,null,{"$f":"SUMIFS('SO Analysis'!E:E,'SO Analysis'!B:B,'Print Form'!C907,'SO Analysis'!D:D,'Print Form'!E907)","v":0},{"$f":"SUMIFS('SO Analysis'!F:F,'SO Analysis'!B:B,'Print Form'!C907,'SO Analysis'!D:D,'Print Form'!E907)","v":0},{"$f":"SUMIFS('SO Analysis'!G:G,'SO Analysis'!B:B,'Print Form'!C907,'SO Analysis'!D:D,'Print Form'!E907)","v":0}]
[null,"",null,null,null,{"$f":"SUMIFS('SO Analysis'!E:E,'SO Analysis'!B:B,'Print Form'!C908,'SO Analysis'!D:D,'Print Form'!E908)","v":0},{"$f":"SUMIFS('SO Analysis'!F:F,'SO Analysis'!B:B,'Print Form'!C908,'SO Analysis'!D:D,'Print Form'!E908)","v":0},{"$f":"SUMIFS('SO Analysis'!G:G,'SO Analysis'!B:B,'Print Form'!C908,'SO Analysis'!D:D,'Print Form'!E908)","v":0}]
[null,"",null,null,null,{"$f":"SUMIFS('SO Analysis'!E:E,'SO Analysis'!B:B,'Print Form'!C909,'SO Analysis'!D:D,'Print Form'!E909)","v":0},{"$f":"SUMIFS('SO Analysis'!F:F,'SO Analysis'!B:B,'Print Form'!C909,'SO Analysis'!D:D,'Print Form'!E909)","v":0},{"$f":"SUMIFS('SO Analysis'!G:G,'SO Analysis'!B:B,'Print Form'!C909,'SO Analysis'!D:D,'Print Form'!E909)","v":0}]
[null,{"$f":"IF(C910=\"\",\"\",ROW()-12)","v":""},null,null,null,{"$f":"SUMIFS('SO Analysis'!E:E,'SO Analysis'!B:B,'Print Form'!C910,'SO Analysis'!D:D,'Print Form'!E910)","v":0},{"$f":"SUMIFS('SO Analysis'!F:F,'SO Analysis'!B:B,'Print Form'!C910,'SO Analysis'!D:D,'Print Form'!E910)","v":0},{"$f":"SUMIFS('SO Analysis'!G:G,'SO Analysis'!B:B,'Print Form'!C910,'SO Analysis'!D:D,'Print Form'!E910)","v":0}]
[null,"",null,null,null,{"$f":"SUMIFS('SO Analysis'!E:E,'SO Analysis'!B:B,'Print Form'!C911,'SO Analysis'!D:D,'Print Form'!E911)","v":0},{"$f":"SUMIFS('SO Analysis'!F:F,'SO Analysis'!B:B,'Print Form'!C911,'SO Analysis'!D:D,'Print Form'!E911)","v":0},{"$f":"SUMIFS('SO Analysis'!G:G,'SO Analysis'!B:B,'Print Form'!C911,'SO Analysis'!D:D,'Print Form'!E911)","v":0}]
[null,"",null,null,null,{"$f":"SUMIFS('SO Analysis'!E:E,'SO Analysis'!B:B,'Print Form'!C912,'SO Analysis'!D:D,'Print Form'!E912)","v":0},{"$f":"SUMIFS('SO Analysis'!F:F,'SO Analysis'!B:B,'Print Form'!C912,'SO Analysis'!D:D,'Print Form'!E912)","v":0},{"$f":"SUMIFS('SO Analysis'!G:G,'SO Analysis'!B:B,'Print Form'!C912,'SO Analysis'!D:D,'Print Form'!E912)","v":0}]
[null,"",null,null,null,{"$f":"SUMIFS('SO Analysis'!E:E,'SO Analysis'!B:B,'Print Form'!C913,'SO Analysis'!D:D,'Print Form'!E913)","v":0},{"$f":"SUMIFS('SO Analysis'!F:F,'SO Analysis'!B:B,'Print Form'!C913,'SO Analysis'!D:D,'Print Form'!E913)","v":0},{"$f":"SUMIFS('SO Analysis'!G:G,'SO Analysis'!B:B,'Print Form'!C913,'SO Analysis'!D:D,'Print Form'!E913)","v":0}]
[null,"",null,null,null,{"$f":"SUMIFS('SO Analysis'!E:E,'SO Analysis'!B:B,'Print Form'!C914,'SO Analysis'!D:D,'Print Form'!E914)","v":0},{"$f":"SUMIFS('SO Analysis'!F:F,'SO Analysis'!B:B,'Print Form'!C914,'SO Analysis'!D:D,'Print Form'!E914)","v":0},{"$f":"SUMIFS('SO Analysis'!G:G,'SO Analysis'!B:B,'Print Form'!C914,'SO Analysis'!D:D,'Print Form'!E914)","v":0}]
[null,"",null,null,null,{"$f":"SUMIFS('SO Analysis'!E:E,'SO Analysis'!B:B,'Print Form'!C915,'SO Analysis'!D:D,'Print Form'!E915)","v":0},{"$f":"SUMIFS('SO Analysis'!F:F,'SO Analysis'!B:B,'Print Form'!C915,'SO Analysis'!D:D,'Print Form'!E915)","v":0},{"$f":"SUMIFS('SO Analysis'!G:G,'SO Analysis'!B:B,'Print Form'!C915,'SO Analysis'!D:D,'Print Form'!E915)","v":0}]
[null,"",null,null,null,{"$f":"SUMIFS('SO Analysis'!E:E,'SO Analysis'!B:B,'Print Form'!C916,'SO Analysis'!D:D,'Print Form'!E916)","v":0},{"$f":"SUMIFS('SO Analysis'!F:F,'SO Analysis'!B:B,'Print Form'!C916,'SO Analysis'!D:D,'Print Form'!E916)","v":0},{"$f":"SUMIFS('SO Analysis'!G:G,'SO Analysis'!B:B,'Print Form'!C916,'SO Analysis'!D:D,'Print Form'!E916)","v":0}]
[null,"",null,null,null,{"$f":"SUMIFS('SO Analysis'!E:E,'SO Analysis'!B:B,'Print Form'!C917,'SO Analysis'!D:D,'Print Form'!E917)","v":0},{"$f":"SUMIFS('SO Analysis'!F:F,'SO Analysis'!B:B,'Print Form'!C917,'SO Analysis'!D:D,'Print Form'!E917)","v":0},{"$f":"SUMIFS('SO Analysis'!G:G,'SO Analysis'!B:B,'Print Form'!C917,'SO Analysis'!D:D,'Print Form'!E917)","v":0}]
[null,"",null,null,null,{"$f":"SUMIFS('SO Analysis'!E:E,'SO Analysis'!B:B,'Print Form'!C918,'SO Analysis'!D:D,'Print Form'!E918)","v":0},{"$f":"SUMIFS('SO Analysis'!F:F,'SO Analysis'!B:B,'Print Form'!C918,'SO Analysis'!D:D,'Print Form'!E918)","v":0},{"$f":"SUMIFS('SO Analysis'!G:G,'SO Analysis'!B:B,'Print Form'!C918,'SO Analysis'!D:D,'Print Form'!E918)","v":0}]
[null,"",null,null,null,{"$f":"SUMIFS('SO Analysis'!E:E,'SO Analysis'!B:B,'Print Form'!C919,'SO Analysis'!D:D,'Print Form'!E919)","v":0},{"$f":"SUMIFS('SO Analysis'!F:F,'SO Analysis'!B:B,'Print Form'!C919,'SO Analysis'!D:D,'Print Form'!E919)","v":0},{"$f":"SUMIFS('SO Analysis'!G:G,'SO Analysis'!B:B,'Print Form'!C919,'SO Analysis'!D:D,'Print Form'!E919)","v":0}]
[null,"",null,null,null,{"$f":"SUMIFS('SO Analysis'!E:E,'SO Analysis'!B:B,'Print Form'!C920,'SO Analysis'!D:D,'Print Form'!E920)","v":0},{"$f":"SUMIFS('SO Analysis'!F:F,'SO Analysis'!B:B,'Print Form'!C920,'SO Analysis'!D:D,'Print Form'!E920)","v":0},{"$f":"SUMIFS('SO Analysis'!G:G,'SO Analysis'!B:B,'Print Form'!C920,'SO Analysis'!D:D,'Print Form'!E920)","v":0}]
[null,"",null,null,null,{"$f":"SUMIFS('SO Analysis'!E:E,'SO Analysis'!B:B,'Print Form'!C921,'SO Analysis'!D:D,'Print Form'!E921)","v":0},{"$f":"SUMIFS('SO Analysis'!F:F,'SO Analysis'!B:B,'Print Form'!C921,'SO Analysis'!D:D,'Print Form'!E921)","v":0},{"$f":"SUMIFS('SO Analysis'!G:G,'SO Analysis'!B:B,'Print Form'!C921,'SO Analysis'!D:D,'Print Form'!E921)","v":0}]
[null,"",null,null,null,{"$f":"SUMIFS('SO Analysis'!E:E,'SO Analysis'!B:B,'Print Form'!C922,'SO Analysis'!D:D,'Print Form'!E922)","v":0},{"$f":"SUMIFS('SO Analysis'!F:F,'SO Analysis'!B:B,'Print Form'!C922,'SO Analysis'!D:D,'Print Form'!E922)","v":0},{"$f":"SUMIFS('SO Analysis'!G:G,'SO Analysis'!B:B,'Print Form'!C922,'SO Analysis'!D:D,'Print Form'!E922)","v":0}]
[null,"",null,null,null,{"$f":"SUMIFS('SO Analysis'!E:E,'SO Analysis'!B:B,'Print Form'!C923,'SO Analysis'!D:D,'Print Form'!E923)","v":0},{"$f":"SUMIFS('SO Analysis'!F:F,'SO Analysis'!B:B,'Print Form'!C923,'SO Analysis'!D:D,'Print Form'!E923)","v":0},{"$f":"SUMIFS('SO Analysis'!G:G,'SO Analysis'!B:B,'Print Form'!C923,'SO Analysis'!D:D,'Print Form'!E923)","v":0}]
[null,"",null,null,null,{"$f":"SUMIFS('SO Analysis'!E:E,'SO Analysis'!B:B,'Print Form'!C924,'SO Analysis'!D:D,'Print Form'!E924)","v":0},{"$f":"SUMIFS('SO Analysis'!F:F,'SO Analysis'!B:B,'Print Form'!C924,'SO Analysis'!D:D,'Print Form'!E924)","v":0},{"$f":"SUMIFS('SO Analysis'!G:G,'SO Analysis'!B:B,'Print Form'!C924,'SO Analysis'!D:D,'Print Form'!E924)","v":0}]
[null,"",null,null,null,{"$f":"SUMIFS('SO Analysis'!E:E,'SO Analysis'!B:B,'Print Form'!C925,'SO Analysis'!D:D,'Print Form'!E925)","v":0},{"$f":"SUMIFS('SO Analysis'!F:F,'SO Analysis'!B:B,'Print Form'!C925,'SO Analysis'!D:D,'Print Form'!E925)","v":0},{"$f":"SUMIFS('SO Analysis'!G:G,'SO Analysis'!B:B,'Print Form'!C925,'SO Analysis'!D:D,'Print Form'!E925)","v":0}]
[null,"",null,null,null,{"$f":"SUMIFS('SO Analysis'!E:E,'SO Analysis'!B:B,'Print Form'!C926,'SO Analysis'!D:D,'Print Form'!E926)","v":0},{"$f":"SUMIFS('SO Analysis'!F:F,'SO Analysis'!B:B,'Print Form'!C926,'SO Analysis'!D:D,'Print Form'!E926)","v":0},{"$f":"SUMIFS('SO Analysis'!G:G,'SO Analysis'!B:B,'Print Form'!C926,'SO Analysis'!D:D,'Print Form'!E926)","v":0}]
[null,"",null,null,null,{"$f":"SUMIFS('SO Analysis'!E:E,'SO Analysis'!B:B,'Print Form'!C927,'SO Analysis'!D:D,'Print Form'!E927)","v":0},{"$f":"SUMIFS('SO Analysis'!F:F,'SO Analysis'!B:B,'Print Form'!C927,'SO Analysis'!D:D,'Print Form'!E927)","v":0},{"$f":"SUMIFS('SO Analysis'!G:G,'SO Analysis'!B:B,'Print Form'!C927,'SO Analysis'!D:D,'Print Form'!E927)","v":0}]
[null,"",null,null,null,{"$f":"SUMIFS('SO Analysis'!E:E,'SO Analysis'!B:B,'Print Form'!C928,'SO Analysis'!D:D,'Print Form'!E928)","v":0},{"$f":"SUMIFS('SO Analysis'!F:F,'SO Analysis'!B:B,'Print Form'!C928,'SO Analysis'!D:D,'Print Form'!E928)","v":0},{"$f":"SUMIFS('SO Analysis'!G:G,'SO Analysis'!B:B,'Print Form'!C928,'SO Analysis'!D:D,'Print Form'!E928)","v":0}]
[null,"",null,null,null,{"$f":"SUMIFS('SO Analysis'!E:E,'SO Analysis'!B:B,'Print Form'!C929,'SO Analysis'!D:D,'Print Form'!E929)","v":0},{"$f":"SUMIFS('SO Analysis'!F:F,'SO Analysis'!B:B,'Print Form'!C929,'SO Analysis'!D:D,'Print Form'!E929)","v":0},{"$f":"SUMIFS('SO Analysis'!G:G,'SO Analysis'!B:B,'Print Form'!C929,'SO Analysis'!D:D,'Print Form'!E929)","v":0}]
[null,"",null,null,null,{"$f":"SUMIFS('SO Analysis'!E:E,'SO Analysis'!B:B,'Print Form'!C930,'SO Analysis'!D:D,'Print Form'!E930)","v":0},{"$f":"SUMIFS('SO Analysis'!F:F,'SO Analysis'!B:B,'Print Form'!C930,'SO Analysis'!D:D,'Print Form'!E930)","v":0},{"$f":"SUMIFS('SO Analysis'!G:G,'SO Analysis'!B:B,'Print Form'!C930,'SO Analysis'!D:D,'Print Form'!E930)","v":0}]
[null,"",null,null,null,{"$f":"SUMIFS('SO Analysis'!E:E,'SO Analysis'!B:B,'Print Form'!C931,'SO Analysis'!D:D,'Print Form'!E931)","v":0},{"$f":"SUMIFS('SO Analysis'!F:F,'SO Analysis'!B:B,'Print Form'!C931,'SO Analysis'!D:D,'Print Form'!E931)","v":0},{"$f":"SUMIFS('SO Analysis'!G:G,'SO Analysis'!B:B,'Print Form'!C931,'SO Analysis'!D:D,'Print Form'!E931)","v":0}]
[null,"",null,null,null,{"$f":"SUMIFS('SO Analysis'!E:E,'SO Analysis'!B:B,'Print Form'!C932,'SO Analysis'!D:D,'Print Form'!E932)","v":0},{"$f":"SUMIFS('SO Analysis'!F:F,'SO Analysis'!B:B,'Print Form'!C932,'SO Analysis'!D:D,'Print Form'!E932)","v":0},{"$f":"SUMIFS('SO Analysis'!G:G,'SO Analysis'!B:B,'Print Form'!C932,'SO Analysis'!D:D,'Print Form'!E932)","v":0}]
[null,"",null,null,null,{"$f":"SUMIFS('SO Analysis'!E:E,'SO Analysis'!B:B,'Print Form'!C933,'SO Analysis'!D:D,'Print Form'!E933)","v":0},{"$f":"SUMIFS('SO Analysis'!F:F,'SO Analysis'!B:B,'Print Form'!C933,'SO Analysis'!D:D,'Print Form'!E933)","v":0},{"$f":"SUMIFS('SO Analysis'!G:G,'SO Analysis'!B:B,'Print Form'!C933,'SO Analysis'!D:D,'Print Form'!E933)","v":0}]
[null,"",null,null,null,{"$f":"SUMIFS('SO Analysis'!E:E,'SO Analysis'!B:B,'Print Form'!C934,'SO Analysis'!D:D,'Print Form'!E934)","v":0},{"$f":"SUMIFS('SO Analysis'!F:F,'SO Analysis'!B:B,'Print Form'!C934,'SO Analysis'!D:D,'Print Form'!E934)","v":0},{"$f":"SUMIFS('SO Analysis'!G:G,'SO Analysis'!B:B,'Print Form'!C934,'SO Analysis'!D:D,'Print Form'!E934)","v":0}]
[null,"",null,null,null,{"$f":"SUMIFS('SO Analysis'!E:E,'SO Analysis'!B:B,'Print Form'!C935,'SO Analysis'!D:D,'Print Form'!E935)","v":0},{"$f":"SUMIFS('SO Analysis'!F:F,'SO Analysis'!B:B,'Print Form'!C935,'SO Analysis'!D:D,'Print Form'!E935)","v":0},{"$f":"SUMIFS('SO Analysis'!G:G,'SO Analysis'!B:B,'Print Form'!C935,'SO Analysis'!D:D,'Print Form'!E935)","v":0}]
[null,"",null,null,null,{"$f":"SUMIFS('SO Analysis'!E:E,'SO Analysis'!B:B,'Print Form'!C936,'SO Analysis'!D:D,'Print Form'!E936)","v":0},{"$f":"SUMIFS('SO Analysis'!F:F,'SO Analysis'!B:B,'Print Form'!C936,'SO Analysis'!D:D,'Print Form'!E936)","v":0},{"$f":"SUMIFS('SO Analysis'!G:G,'SO Analysis'!B:B,'Print Form'!C936,'SO Analysis'!D:D,'Print Form'!E936)","v":0}]
[null,"",null,null,null,{"$f":"SUMIFS('SO Analysis'!E:E,'SO Analysis'!B:B,'Print Form'!C937,'SO Analysis'!D:D,'Print Form'!E937)","v":0},{"$f":"SUMIFS('SO Analysis'!F:F,'SO Analysis'!B:B,'Print Form'!C937,'SO Analysis'!D:D,'Print Form'!E937)","v":0},{"$f":"SUMIFS('SO Analysis'!G:G,'SO Analysis'!B:B,'Print Form'!C937,'SO Analysis'!D:D,'Print Form'!E937)","v":0}]
[null,"",null,null,null,{"$f":"SUMIFS('SO Analysis'!E:E,'SO Analysis'!B:B,'Print Form'!C938,'SO Analysis'!D:D,'Print Form'!E938)","v":0},{"$f":"SUMIFS('SO Analysis'!F:F,'SO Analysis'!B:B,'Print Form'!C938,'SO Analysis'!D:D,'Print Form'!E938)","v":0},{"$f":"SUMIFS('SO Analysis'!G:G,'SO Analysis'!B:B,'Print Form'!C938,'SO Analysis'!D:D,'Print Form'!E938)","v":0}]
[null,"",null,null,null,{"$f":"SUMIFS('SO Analysis'!E:E,'SO Analysis'!B:B,'Print Form'!C939,'SO Analysis'!D:D,'Print Form'!E939)","v":0},{"$f":"SUMIFS('SO Analysis'!F:F,'SO Analysis'!B:B,'Print Form'!C939,'SO Analysis'!D:D,'Print Form'!E939)","v":0},{"$f":"SUMIFS('SO Analysis'!G:G,'SO Analysis'!B:B,'Print Form'!C939,'SO Analysis'!D:D,'Print Form'!E939)","v":0}]
[null,"",null,null,null,{"$f":"SUMIFS('SO Analysis'!E:E,'SO Analysis'!B:B,'Print Form'!C940,'SO Analysis'!D:D,'Print Form'!E940)","v":0},{"$f":"SUMIFS('SO Analysis'!F:F,'SO Analysis'!B:B,'Print Form'!C940,'SO Analysis'!D:D,'Print Form'!E940)","v":0},{"$f":"SUMIFS('SO Analysis'!G:G,'SO Analysis'!B:B,'Print Form'!C940,'SO Analysis'!D:D,'Print Form'!E940)","v":0}]
[null,"",null,null,null,{"$f":"SUMIFS('SO Analysis'!E:E,'SO Analysis'!B:B,'Print Form'!C941,'SO Analysis'!D:D,'Print Form'!E941)","v":0},{"$f":"SUMIFS('SO Analysis'!F:F,'SO Analysis'!B:B,'Print Form'!C941,'SO Analysis'!D:D,'Print Form'!E941)","v":0},{"$f":"SUMIFS('SO Analysis'!G:G,'SO Analysis'!B:B,'Print Form'!C941,'SO Analysis'!D:D,'Print Form'!E941)","v":0}]
[null,"",null,null,null,{"$f":"SUMIFS('SO Analysis'!E:E,'SO Analysis'!B:B,'Print Form'!C942,'SO Analysis'!D:D,'Print Form'!E942)","v":0},{"$f":"SUMIFS('SO Analysis'!F:F,'SO Analysis'!B:B,'Print Form'!C942,'SO Analysis'!D:D,'Print Form'!E942)","v":0},{"$f":"SUMIFS('SO Analysis'!G:G,'SO Analysis'!B:B,'Print Form'!C942,'SO Analysis'!D:D,'Print Form'!E942)","v":0}]
[null,"",null,null,null,{"$f":"SUMIFS('SO Analysis'!E:E,'SO Analysis'!B:B,'Print Form'!C943,'SO Analysis'!D:D,'Print Form'!E943)","v":0},{"$f":"SUMIFS('SO Analysis'!F:F,'SO Analysis'!B:B,'Print Form'!C943,'SO Analysis'!D:D,'Print Form'!E943)","v":0},{"$f":"SUMIFS('SO Analysis'!G:G,'SO Analysis'!B:B,'Print Form'!C943,'SO Analysis'!D:D,'Print Form'!E943)","v":0}]
[null,"",null,null,null,{"$f":"SUMIFS('SO Analysis'!E:E,'SO Analysis'!B:B,'Print Form'!C944,'SO Analysis'!D:D,'Print Form'!E944)","v":0},{"$f":"SUMIFS('SO Analysis'!F:F,'SO Analysis'!B:B,'Print Form'!C944,'SO Analysis'!D:D,'Print Form'!E944)","v":0},{"$f":"SUMIFS('SO Analysis'!G:G,'SO Analysis'!B:B,'Print Form'!C944,'SO Analysis'!D:D,'Print Form'!E944)","v":0}]
[null,"",null,null,null,{"$f":"SUMIFS('SO Analysis'!E:E,'SO Analysis'!B:B,'Print Form'!C945,'SO Analysis'!D:D,'Print Form'!E945)","v":0},{"$f":"SUMIFS('SO Analysis'!F:F,'SO Analysis'!B:B,'Print Form'!C945,'SO Analysis'!D:D,'Print Form'!E945)","v":0},{"$f":"SUMIFS('SO Analysis'!G:G,'SO Analysis'!B:B,'Print Form'!C945,'SO Analysis'!D:D,'Print Form'!E945)","v":0}]
[null,"",null,null,null,{"$f":"SUMIFS('SO Analysis'!E:E,'SO Analysis'!B:B,'Print Form'!C946,'SO Analysis'!D:D,'Print Form'!E946)","v":0},{"$f":"SUMIFS('SO Analysis'!F:F,'SO Analysis'!B:B,'Print Form'!C946,'SO Analysis'!D:D,'Print Form'!E946)","v":0},{"$f":"SUMIFS('SO Analysis'!G:G,'SO Analysis'!B:B,'Print Form'!C946,'SO Analysis'!D:D,'Print Form'!E946)","v":0}]
[null,"",null,null,null,{"$f":"SUMIFS('SO Analysis'!E:E,'SO Analysis'!B:B,'Print Form'!C947,'SO Analysis'!D:D,'Print Form'!E947)","v":0},{"$f":"SUMIFS('SO Analysis'!F:F,'SO Analysis'!B:B,'Print Form'!C947,'SO Analysis'!D:D,'Print Form'!E947)","v":0},{"$f":"SUMIFS('SO Analysis'!G:G,'SO Analysis'!B:B,'Print Form'!C947,'SO Analysis'!D:D,'Print Form'!E947)","v":0}]
[null,"",null,null,null,{"$f":"SUMIFS('SO Analysis'!E:E,'SO Analysis'!B:B,'Print Form'!C948,'SO Analysis'!D:D,'Print Form'!E948)","v":0},{"$f":"SUMIFS('SO Analysis'!F:F,'SO Analysis'!B:B,'Print Form'!C948,'SO Analysis'!D:D,'Print Form'!E948)","v":0},{"$f":"SUMIFS('SO Analysis'!G:G,'SO Analysis'!B:B,'Print Form'!C948,'SO Analysis'!D:D,'Print Form'!E948)","v":0}]
[null,"",null,null,null,{"$f":"SUMIFS('SO Analysis'!E:E,'SO Analysis'!B:B,'Print Form'!C949,'SO Analysis'!D:D,'Print Form'!E949)","v":0},{"$f":"SUMIFS('SO Analysis'!F:F,'SO Analysis'!B:B,'Print Form'!C949,'SO Analysis'!D:D,'Print Form'!E949)","v":0},{"$f":"SUMIFS('SO Analysis'!G:G,'SO Analysis'!B:B,'Print Form'!C949,'SO Analysis'!D:D,'Print Form'!E949)","v":0}]
[null,"",null,null,null,{"$f":"SUMIFS('SO Analysis'!E:E,'SO Analysis'!B:B,'Print Form'!C950,'SO Analysis'!D:D,'Print Form'!E950)","v":0},{"$f":"SUMIFS('SO Analysis'!F:F,'SO Analysis'!B:B,'Print Form'!C950,'SO Analysis'!D:D,'Print Form'!E950)","v":0},{"$f":"SUMIFS('SO Analysis'!G:G,'SO Analysis'!B:B,'Print Form'!C950,'SO Analysis'!D:D,'Print Form'!E950)","v":0}]
[null,"",null,null,null,{"$f":"SUMIFS('SO Analysis'!E:E,'SO Analysis'!B:B,'Print Form'!C951,'SO Analysis'!D:D,'Print Form'!E951)","v":0},{"$f":"SUMIFS('SO Analysis'!F:F,'SO Analysis'!B:B,'Print Form'!C951,'SO Analysis'!D:D,'Print Form'!E951)","v":0},{"$f":"SUMIFS('SO Analysis'!G:G,'SO Analysis'!B:B,'Print Form'!C951,'SO Analysis'!D:D,'Print Form'!E951)","v":0}]
[null,"",null,null,null,{"$f":"SUMIFS('SO Analysis'!E:E,'SO Analysis'!B:B,'Print Form'!C952,'SO Analysis'!D:D,'Print Form'!E952)","v":0},{"$f":"SUMIFS('SO Analysis'!F:F,'SO Analysis'!B:B,'Print Form'!C952,'SO Analysis'!D:D,'Print Form'!E952)","v":0},{"$f":"SUMIFS('SO Analysis'!G:G,'SO Analysis'!B:B,'Print Form'!C952,'SO Analysis'!D:D,'Print Form'!E952)","v":0}]
[null,"",null,null,null,{"$f":"SUMIFS('SO Analysis'!E:E,'SO Analysis'!B:B,'Print Form'!C953,'SO Analysis'!D:D,'Print Form'!E953)","v":0},{"$f":"SUMIFS('SO Analysis'!F:F,'SO Analysis'!B:B,'Print Form'!C953,'SO Analysis'!D:D,'Print Form'!E953)","v":0},{"$f":"SUMIFS('SO Analysis'!G:G,'SO Analysis'!B:B,'Print Form'!C953,'SO Analysis'!D:D,'Print Form'!E953)","v":0}]
[null,"",null,null,null,{"$f":"SUMIFS('SO Analysis'!E:E,'SO Analysis'!B:B,'Print Form'!C954,'SO Analysis'!D:D,'Print Form'!E954)","v":0},{"$f":"SUMIFS('SO Analysis'!F:F,'SO Analysis'!B:B,'Print Form'!C954,'SO Analysis'!D:D,'Print Form'!E954)","v":0},{"$f":"SUMIFS('SO Analysis'!G:G,'SO Analysis'!B:B,'Print Form'!C954,'SO Analysis'!D:D,'Print Form'!E954)","v":0}]
[null,"",null,null,null,{"$f":"SUMIFS('SO Analysis'!E:E,'SO Analysis'!B:B,'Print Form'!C955,'SO Analysis'!D:D,'Print Form'!E955)","v":0},{"$f":"SUMIFS('SO Analysis'!F:F,'SO Analysis'!B:B,'Print Form'!C955,'SO Analysis'!D:D,'Print Form'!E955)","v":0},{"$f":"SUMIFS('SO Analysis'!G:G,'SO Analysis'!B:B,'Print Form'!C955,'SO Analysis'!D:D,'Print Form'!E955)","v":0}]
[null,"",null,null,null,{"$f":"SUMIFS('SO Analysis'!E:E,'SO Analysis'!B:B,'Print Form'!C956,'SO Analysis'!D:D,'Print Form'!E956)","v":0},{"$f":"SUMIFS('SO Analysis'!F:F,'SO Analysis'!B:B,'Print Form'!C956,'SO Analysis'!D:D,'Print Form'!E956)","v":0},{"$f":"SUMIFS('SO Analysis'!G:G,'SO Analysis'!B:B,'Print Form'!C956,'SO Analysis'!D:D,'Print Form'!E956)","v":0}]
[null,"",null,null,null,{"$f":"SUMIFS('SO Analysis'!E:E,'SO Analysis'!B:B,'Print Form'!C957,'SO Analysis'!D:D,'Print Form'!E957)","v":0},{"$f":"SUMIFS('SO Analysis'!F:F,'SO Analysis'!B:B,'Print Form'!C957,'SO Analysis'!D:D,'Print Form'!E957)","v":0},{"$f":"SUMIFS('SO Analysis'!G:G,'SO Analysis'!B:B,'Print Form'!C957,'SO Analysis'!D:D,'Print Form'!E957)","v":0}]
[null,"",null,null,null,{"$f":"SUMIFS('SO Analysis'!E:E,'SO Analysis'!B:B,'Print Form'!C958,'SO Analysis'!D:D,'Print Form'!E958)","v":0},{"$f":"SUMIFS('SO Analysis'!F:F,'SO Analysis'!B:B,'Print Form'!C958,'SO Analysis'!D:D,'Print Form'!E958)","v":0},{"$f":"SUMIFS('SO Analysis'!G:G,'SO Analysis'!B:B,'Print Form'!C958,'SO Analysis'!D:D,'Print Form'!E958)","v":0}]
[null,"",null,null,null,{"$f":"SUMIFS('SO Analysis'!E:E,'SO Analysis'!B:B,'Print Form'!C959,'SO Analysis'!D:D,'Print Form'!E959)","v":0},{"$f":"SUMIFS('SO Analysis'!F:F,'SO Analysis'!B:B,'Print Form'!C959,'SO Analysis'!D:D,'Print Form'!E959)","v":0},{"$f":"SUMIFS('SO Analysis'!G:G,'SO Analysis'!B:B,'Print Form'!C959,'SO Analysis'!D:D,'Print Form'!E959)","v":0}]
[null,"",null,null,null,{"$f":"SUMIFS('SO Analysis'!E:E,'SO Analysis'!B:B,'Print Form'!C960,'SO Analysis'!D:D,'Print Form'!E960)","v":0},{"$f":"SUMIFS('SO Analysis'!F:F,'SO Analysis'!B:B,'Print Form'!C960,'SO Analysis'!D:D,'Print Form'!E960)","v":0},{"$f":"SUMIFS('SO Analysis'!G:G,'SO Analysis'!B:B,'Print Form'!C960,'SO Analysis'!D:D,'Print Form'!E960)","v":0}]
[null,"",null,null,null,{"$f":"SUMIFS('SO Analysis'!E:E,'SO Analysis'!B:B,'Print Form'!C961,'SO Analysis'!D:D,'Print Form'!E961)","v":0},{"$f":"SUMIFS('SO Analysis'!F:F,'SO Analysis'!B:B,'Print Form'!C961,'SO Analysis'!D:D,'Print Form'!E961)","v":0},{"$f":"SUMIFS('SO Analysis'!G:G,'SO Analysis'!B:B,'Print Form'!C961,'SO Analysis'!D:D,'Print Form'!E961)","v":0}]
[null,"",null,null,null,{"$f":"SUMIFS('SO Analysis'!E:E,'SO Analysis'!B:B,'Print Form'!C962,'SO Analysis'!D:D,'Print Form'!E962)","v":0},{"$f":"SUMIFS('SO Analysis'!F:F,'SO Analysis'!B:B,'Print Form'!C962,'SO Analysis'!D:D,'Print Form'!E962)","v":0},{"$f":"SUMIFS('SO Analysis'!G:G,'SO Analysis'!B:B,'Print Form'!C962,'SO Analysis'!D:D,'Print Form'!E962)","v":0}]
[null,"",null,null,null,{"$f":"SUMIFS('SO Analysis'!E:E,'SO Analysis'!B:B,'Print Form'!C963,'SO Analysis'!D:D,'Print Form'!E963)","v":0},{"$f":"SUMIFS('SO Analysis'!F:F,'SO Analysis'!B:B,'Print Form'!C963,'SO Analysis'!D:D,'Print Form'!E963)","v":0},{"$f":"SUMIFS('SO Analysis'!G:G,'SO Analysis'!B:B,'Print Form'!C963,'SO Analysis'!D:D,'Print Form'!E963)","v":0}]
[null,"",null,null,null,{"$f":"SUMIFS('SO Analysis'!E:E,'SO Analysis'!B:B,'Print Form'!C964,'SO Analysis'!D:D,'Print Form'!E964)","v":0},{"$f":"SUMIFS('SO Analysis'!F:F,'SO Analysis'!B:B,'Print Form'!C964,'SO Analysis'!D:D,'Print Form'!E964)","v":0},{"$f":"SUMIFS('SO Analysis'!G:G,'SO Analysis'!B:B,'Print Form'!C964,'SO Analysis'!D:D,'Print Form'!E964)","v":0}]
[null,"",null,null,null,{"$f":"SUMIFS('SO Analysis'!E:E,'SO Analysis'!B:B,'Print Form'!C965,'SO Analysis'!D:D,'Print Form'!E965)","v":0},{"$f":"SUMIFS('SO Analysis'!F:F,'SO Analysis'!B:B,'Print Form'!C965,'SO Analysis'!D:D,'Print Form'!E965)","v":0},{"$f":"SUMIFS('SO Analysis'!G:G,'SO Analysis'!B:B,'Print Form'!C965,'SO Analysis'!D:D,'Print Form'!E965)","v":0}]
[null,"",null,null,null,{"$f":"SUMIFS('SO Analysis'!E:E,'SO Analysis'!B:B,'Print Form'!C966,'SO Analysis'!D:D,'Print Form'!E966)","v":0},{"$f":"SUMIFS('SO Analysis'!F:F,'SO Analysis'!B:B,'Print Form'!C966,'SO Analysis'!D:D,'Print Form'!E966)","v":0},{"$f":"SUMIFS('SO Analysis'!G:G,'SO Analysis'!B:B,'Print Form'!C966,'SO Analysis'!D:D,'Print Form'!E966)","v":0}]
[null,"",null,null,null,{"$f":"SUMIFS('SO Analysis'!E:E,'SO Analysis'!B:B,'Print Form'!C967,'SO Analysis'!D:D,'Print Form'!E967)","v":0},{"$f":"SUMIFS('SO Analysis'!F:F,'SO Analysis'!B:B,'Print Form'!C967,'SO Analysis'!D:D,'Print Form'!E967)","v":0},{"$f":"SUMIFS('SO Analysis'!G:G,'SO Analysis'!B:B,'Print Form'!C967,'SO Analysis'!D:D,'Print Form'!E967)","v":0}]
[null,"",null,null,null,{"$f":"SUMIFS('SO Analysis'!E:E,'SO Analysis'!B:B,'Print Form'!C968,'SO Analysis'!D:D,'Print Form'!E968)","v":0},{"$f":"SUMIFS('SO Analysis'!F:F,'SO Analysis'!B:B,'Print Form'!C968,'SO Analysis'!D:D,'Print Form'!E968)","v":0},{"$f":"SUMIFS('SO Analysis'!G:G,'SO Analysis'!B:B,'Print Form'!C968,'SO Analysis'!D:D,'Print Form'!E968)","v":0}]
[null,"",null,null,null,{"$f":"SUMIFS('SO Analysis'!E:E,'SO Analysis'!B:B,'Print Form'!C969,'SO Analysis'!D:D,'Print Form'!E969)","v":0},{"$f":"SUMIFS('SO Analysis'!F:F,'SO Analysis'!B:B,'Print Form'!C969,'SO Analysis'!D:D,'Print Form'!E969)","v":0},{"$f":"SUMIFS('SO Analysis'!G:G,'SO Analysis'!B:B,'Print Form'!C969,'SO Analysis'!D:D,'Print Form'!E969)","v":0}]
[null,"",null,null,null,{"$f":"SUMIFS('SO Analysis'!E:E,'SO Analysis'!B:B,'Print Form'!C970,'SO Analysis'!D:D,'Print Form'!E970)","v":0},{"$f":"SUMIFS('SO Analysis'!F:F,'SO Analysis'!B:B,'Print Form'!C970,'SO Analysis'!D:D,'Print Form'!E970)","v":0},{"$f":"SUMIFS('SO Analysis'!G:G,'SO Analysis'!B:B,'Print Form'!C970,'SO Analysis'!D:D,'Print Form'!E970)","v":0}]
[null,"",null,null,null,{"$f":"SUMIFS('SO Analysis'!E:E,'SO Analysis'!B:B,'Print Form'!C971,'SO Analysis'!D:D,'Print Form'!E971)","v":0},{"$f":"SUMIFS('SO Analysis'!F:F,'SO Analysis'!B:B,'Print Form'!C971,'SO Analysis'!D:D,'Print Form'!E971)","v":0},{"$f":"SUMIFS('SO Analysis'!G:G,'SO Analysis'!B:B,'Print Form'!C971,'SO Analysis'!D:D,'Print Form'!E971)","v":0}]
[null,"",null,null,null,{"$f":"SUMIFS('SO Analysis'!E:E,'SO Analysis'!B:B,'Print Form'!C972,'SO Analysis'!D:D,'Print Form'!E972)","v":0},{"$f":"SUMIFS('SO Analysis'!F:F,'SO Analysis'!B:B,'Print Form'!C972,'SO Analysis'!D:D,'Print Form'!E972)","v":0},{"$f":"SUMIFS('SO Analysis'!G:G,'SO Analysis'!B:B,'Print Form'!C972,'SO Analysis'!D:D,'Print Form'!E972)","v":0}]
[null,"",null,null,null,{"$f":"SUMIFS('SO Analysis'!E:E,'SO Analysis'!B:B,'Print Form'!C973,'SO Analysis'!D:D,'Print Form'!E973)","v":0},{"$f":"SUMIFS('SO Analysis'!F:F,'SO Analysis'!B:B,'Print Form'!C973,'SO Analysis'!D:D,'Print Form'!E973)","v":0},{"$f":"SUMIFS('SO Analysis'!G:G,'SO Analysis'!B:B,'Print Form'!C973,'SO Analysis'!D:D,'Print Form'!E973)","v":0}]
[null,{"$f":"IF(C974=\"\",\"\",ROW()-12)","v":""},null,null,null,{"$f":"SUMIFS('SO Analysis'!E:E,'SO Analysis'!B:B,'Print Form'!C974,'SO Analysis'!D:D,'Print Form'!E974)","v":0},{"$f":"SUMIFS('SO Analysis'!F:F,'SO Analysis'!B:B,'Print Form'!C974,'SO Analysis'!D:D,'Print Form'!E974)","v":0},{"$f":"SUMIFS('SO Analysis'!G:G,'SO Analysis'!B:B,'Print Form'!C974,'SO Analysis'!D:D,'Print Form'!E974)","v":0}]
[null,"",null,null,null,{"$f":"SUMIFS('SO Analysis'!E:E,'SO Analysis'!B:B,'Print Form'!C975,'SO Analysis'!D:D,'Print Form'!E975)","v":0},{"$f":"SUMIFS('SO Analysis'!F:F,'SO Analysis'!B:B,'Print Form'!C975,'SO Analysis'!D:D,'Print Form'!E975)","v":0},{"$f":"SUMIFS('SO Analysis'!G:G,'SO Analysis'!B:B,'Print Form'!C975,'SO Analysis'!D:D,'Print Form'!E975)","v":0}]
[null,"",null,null,null,{"$f":"SUMIFS('SO Analysis'!E:E,'SO Analysis'!B:B,'Print Form'!C976,'SO Analysis'!D:D,'Print Form'!E976)","v":0},{"$f":"SUMIFS('SO Analysis'!F:F,'SO Analysis'!B:B,'Print Form'!C976,'SO Analysis'!D:D,'Print Form'!E976)","v":0},{"$f":"SUMIFS('SO Analysis'!G:G,'SO Analysis'!B:B,'Print Form'!C976,'SO Analysis'!D:D,'Print Form'!E976)","v":0}]
[null,"",null,null,null,{"$f":"SUMIFS('SO Analysis'!E:E,'SO Analysis'!B:B,'Print Form'!C977,'SO Analysis'!D:D,'Print Form'!E977)","v":0},{"$f":"SUMIFS('SO Analysis'!F:F,'SO Analysis'!B:B,'Print Form'!C977,'SO Analysis'!D:D,'Print Form'!E977)","v":0},{"$f":"SUMIFS('SO Analysis'!G:G,'SO Analysis'!B:B,'Print Form'!C977,'SO Analysis'!D:D,'Print Form'!E977)","v":0}]
[null,"",null,null,null,{"$f":"SUMIFS('SO Analysis'!E:E,'SO Analysis'!B:B,'Print Form'!C978,'SO Analysis'!D:D,'Print Form'!E978)","v":0},{"$f":"SUMIFS('SO Analysis'!F:F,'SO Analysis'!B:B,'Print Form'!C978,'SO Analysis'!D:D,'Print Form'!E978)","v":0},{"$f":"SUMIFS('SO Analysis'!G:G,'SO Analysis'!B:B,'Print Form'!C978,'SO Analysis'!D:D,'Print Form'!E978)","v":0}]
[null,"",null,null,null,{"$f":"SUMIFS('SO Analysis'!E:E,'SO Analysis'!B:B,'Print Form'!C979,'SO Analysis'!D:D,'Print Form'!E979)","v":0},{"$f":"SUMIFS('SO Analysis'!F:F,'SO Analysis'!B:B,'Print Form'!C979,'SO Analysis'!D:D,'Print Form'!E979)","v":0},{"$f":"SUMIFS('SO Analysis'!G:G,'SO Analysis'!B:B,'Print Form'!C979,'SO Analysis'!D:D,'Print Form'!E979)","v":0}]
[null,"",null,null,null,{"$f":"SUMIFS('SO Analysis'!E:E,'SO Analysis'!B:B,'Print Form'!C980,'SO Analysis'!D:D,'Print Form'!E980)","v":0},{"$f":"SUMIFS('SO Analysis'!F:F,'SO Analysis'!B:B,'Print Form'!C980,'SO Analysis'!D:D,'Print Form'!E980)","v":0},{"$f":"SUMIFS('SO Analysis'!G:G,'SO Analysis'!B:B,'Print Form'!C980,'SO Analysis'!D:D,'Print Form'!E980)","v":0}]
[null,"",null,null,null,{"$f":"SUMIFS('SO Analysis'!E:E,'SO Analysis'!B:B,'Print Form'!C981,'SO Analysis'!D:D,'Print Form'!E981)","v":0},{"$f":"SUMIFS('SO Analysis'!F:F,'SO Analysis'!B:B,'Print Form'!C981,'SO Analysis'!D:D,'Print Form'!E981)","v":0},{"$f":"SUMIFS('SO Analysis'!G:G,'SO Analysis'!B:B,'Print Form'!C981,'SO Analysis'!D:D,'Print Form'!E981)","v":0}]
[null,"",null,null,null,{"$f":"SUMIFS('SO Analysis'!E:E,'SO Analysis'!B:B,'Print Form'!C982,'SO Analysis'!D:D,'Print Form'!E982)","v":0},{"$f":"SUMIFS('SO Analysis'!F:F,'SO Analysis'!B:B,'Print Form'!C982,'SO Analysis'!D:D,'Print Form'!E982)","v":0},{"$f":"SUMIFS('SO Analysis'!G:G,'SO Analysis'!B:B,'Print Form'!C982,'SO Analysis'!D:D,'Print Form'!E982)","v":0}]
[null,"",null,null,null,{"$f":"SUMIFS('SO Analysis'!E:E,'SO Analysis'!B:B,'Print Form'!C983,'SO Analysis'!D:D,'Print Form'!E983)","v":0},{"$f":"SUMIFS('SO Analysis'!F:F,'SO Analysis'!B:B,'Print Form'!C983,'SO Analysis'!D:D,'Print Form'!E983)","v":0},{"$f":"SUMIFS('SO Analysis'!G:G,'SO Analysis'!B:B,'Print Form'!C983,'SO Analysis'!D:D,'Print Form'!E983)","v":0}]
[null,"",null,null,null,{"$f":"SUMIFS('SO Analysis'!E:E,'SO Analysis'!B:B,'Print Form'!C984,'SO Analysis'!D:D,'Print Form'!E984)","v":0},{"$f":"SUMIFS('SO Analysis'!F:F,'SO Analysis'!B:B,'Print Form'!C984,'SO Analysis'!D:D,'Print Form'!E984)","v":0},{"$f":"SUMIFS('SO Analysis'!G:G,'SO Analysis'!B:B,'Print Form'!C984,'SO Analysis'!D:D,'Print Form'!E984)","v":0}]
[null,"",null,null,null,{"$f":"SUMIFS('SO Analysis'!E:E,'SO Analysis'!B:B,'Print Form'!C985,'SO Analysis'!D:D,'Print Form'!E985)","v":0},{"$f":"SUMIFS('SO Analysis'!F:F,'SO Analysis'!B:B,'Print Form'!C985,'SO Analysis'!D:D,'Print Form'!E985)","v":0},{"$f":"SUMIFS('SO Analysis'!G:G,'SO Analysis'!B:B,'Print Form'!C985,'SO Analysis'!D:D,'Print Form'!E985)","v":0}]
[null,"",null,null,null,{"$f":"SUMIFS('SO Analysis'!E:E,'SO Analysis'!B:B,'Print Form'!C986,'SO Analysis'!D:D,'Print Form'!E986)","v":0},{"$f":"SUMIFS('SO Analysis'!F:F,'SO Analysis'!B:B,'Print Form'!C986,'SO Analysis'!D:D,'Print Form'!E986)","v":0},{"$f":"SUMIFS('SO Analysis'!G:G,'SO Analysis'!B:B,'Print Form'!C986,'SO Analysis'!D:D,'Print Form'!E986)","v":0}]
[null,"",null,null,null,{"$f":"SUMIFS('SO Analysis'!E:E,'SO Analysis'!B:B,'Print Form'!C987,'SO Analysis'!D:D,'Print Form'!E987)","v":0},{"$f":"SUMIFS('SO Analysis'!F:F,'SO Analysis'!B:B,'Print Form'!C987,'SO Analysis'!D:D,'Print Form'!E987)","v":0},{"$f":"SUMIFS('SO Analysis'!G:G,'SO Analysis'!B:B,'Print Form'!C987,'SO Analysis'!D:D,'Print Form'!E987)","v":0}]
[null,"",null,null,null,{"$f":"SUMIFS('SO Analysis'!E:E,'SO Analysis'!B:B,'Print Form'!C988,'SO Analysis'!D:D,'Print Form'!E988)","v":0},{"$f":"SUMIFS('SO Analysis'!F:F,'SO Analysis'!B:B,'Print Form'!C988,'SO Analysis'!D:D,'Print Form'!E988)","v":0},{"$f":"SUMIFS('SO Analysis'!G:G,'SO Analysis'!B:B,'Print Form'!C988,'SO Analysis'!D:D,'Print Form'!E988)","v":0}]
[null,"",null,null,null,{"$f":"SUMIFS('SO Analysis'!E:E,'SO Analysis'!B:B,'Print Form'!C989,'SO Analysis'!D:D,'Print Form'!E989)","v":0},{"$f":"SUMIFS('SO Analysis'!F:F,'SO Analysis'!B:B,'Print Form'!C989,'SO Analysis'!D:D,'Print Form'!E989)","v":0},{"$f":"SUMIFS('SO Analysis'!G:G,'SO Analysis'!B:B,'Print Form'!C989,'SO Analysis'!D:D,'Print Form'!E989)","v":0}]
[null,"",null,null,null,{"$f":"SUMIFS('SO Analysis'!E:E,'SO Analysis'!B:B,'Print Form'!C990,'SO Analysis'!D:D,'Print Form'!E990)","v":0},{"$f":"SUMIFS('SO Analysis'!F:F,'SO Analysis'!B:B,'Print Form'!C990,'SO Analysis'!D:D,'Print Form'!E990)","v":0},{"$f":"SUMIFS('SO Analysis'!G:G,'SO Analysis'!B:B,'Print Form'!C990,'SO Analysis'!D:D,'Print Form'!E990)","v":0}]
[null,"",null,null,null,{"$f":"SUMIFS('SO Analysis'!E:E,'SO Analysis'!B:B,'Print Form'!C991,'SO Analysis'!D:D,'Print Form'!E991)","v":0},{"$f":"SUMIFS('SO Analysis'!F:F,'SO Analysis'!B:B,'Print Form'!C991,'SO Analysis'!D:D,'Print Form'!E991)","v":0},{"$f":"SUMIFS('SO Analysis'!G:G,'SO Analysis'!B:B,'Print Form'!C991,'SO Analysis'!D:D,'Print Form'!E991)","v":0}]
[null,"",null,null,null,{"$f":"SUMIFS('SO Analysis'!E:E,'SO Analysis'!B:B,'Print Form'!C992,'SO Analysis'!D:D,'Print Form'!E992)","v":0},{"$f":"SUMIFS('SO Analysis'!F:F,'SO Analysis'!B:B,'Print Form'!C992,'SO Analysis'!D:D,'Print Form'!E992)","v":0},{"$f":"SUMIFS('SO Analysis'!G:G,'SO Analysis'!B:B,'Print Form'!C992,'SO Analysis'!D:D,'Print Form'!E992)","v":0}]
[null,"",null,null,null,{"$f":"SUMIFS('SO Analysis'!E:E,'SO Analysis'!B:B,'Print Form'!C993,'SO Analysis'!D:D,'Print Form'!E993)","v":0},{"$f":"SUMIFS('SO Analysis'!F:F,'SO Analysis'!B:B,'Print Form'!C993,'SO Analysis'!D:D,'Print Form'!E993)","v":0},{"$f":"SUMIFS('SO Analysis'!G:G,'SO Analysis'!B:B,'Print Form'!C993,'SO Analysis'!D:D,'Print Form'!E993)","v":0}]
[null,"",null,null,null,{"$f":"SUMIFS('SO Analysis'!E:E,'SO Analysis'!B:B,'Print Form'!C994,'SO Analysis'!D:D,'Print Form'!E994)","v":0},{"$f":"SUMIFS('SO Analysis'!F:F,'SO Analysis'!B:B,'Print Form'!C994,'SO Analysis'!D:D,'Print Form'!E994)","v":0},{"$f":"SUMIFS('SO Analysis'!G:G,'SO Analysis'!B:B,'Print Form'!C994,'SO Analysis'!D:D,'Print Form'!E994)","v":0}]
[null,"",null,null,null,{"$f":"SUMIFS('SO Analysis'!E:E,'SO Analysis'!B:B,'Print Form'!C995,'SO Analysis'!D:D,'Print Form'!E995)","v":0},{"$f":"SUMIFS('SO Analysis'!F:F,'SO Analysis'!B:B,'Print Form'!C995,'SO Analysis'!D:D,'Print Form'!E995)","v":0},{"$f":"SUMIFS('SO Analysis'!G:G,'SO Analysis'!B:B,'Print Form'!C995,'SO Analysis'!D:D,'Print Form'!E995)","v":0}]
[null,"",null,null,null,{"$f":"SUMIFS('SO Analysis'!E:E,'SO Analysis'!B:B,'Print Form'!C996,'SO Analysis'!D:D,'Print Form'!E996)","v":0},{"$f":"SUMIFS('SO Analysis'!F:F,'SO Analysis'!B:B,'Print Form'!C996,'SO Analysis'!D:D,'Print Form'!E996)","v":0},{"$f":"SUMIFS('SO Analysis'!G:G,'SO Analysis'!B:B,'Print Form'!C996,'SO Analysis'!D:D,'Print Form'!E996)","v":0}]
[null,"",null,null,null,{"$f":"SUMIFS('SO Analysis'!E:E,'SO Analysis'!B:B,'Print Form'!C997,'SO Analysis'!D:D,'Print Form'!E997)","v":0},{"$f":"SUMIFS('SO Analysis'!F:F,'SO Analysis'!B:B,'Print Form'!C997,'SO Analysis'!D:D,'Print Form'!E997)","v":0},{"$f":"SUMIFS('SO Analysis'!G:G,'SO Analysis'!B:B,'Print Form'!C997,'SO Analysis'!D:D,'Print Form'!E997)","v":0}]
[null,"",null,null,null,{"$f":"SUMIFS('SO Analysis'!E:E,'SO Analysis'!B:B,'Print Form'!C998,'SO Analysis'!D:D,'Print Form'!E998)","v":0},{"$f":"SUMIFS('SO Analysis'!F:F,'SO Analysis'!B:B,'Print Form'!C998,'SO Analysis'!D:D,'Print Form'!E998)","v":0},{"$f":"SUMIFS('SO Analysis'!G:G,'SO Analysis'!B:B,'Print Form'!C998,'SO Analysis'!D:D,'Print Form'!E998)","v":0}]
[null,"",null,null,null,{"$f":"SUMIFS('SO Analysis'!E:E,'SO Analysis'!B:B,'Print Form'!C999,'SO Analysis'!D:D,'Print Form'!E999)","v":0},{"$f":"SUMIFS('SO Analysis'!F:F,'SO Analysis'!B:B,'Print Form'!C999,'SO Analysis'!D:D,'Print Form'!E999)","v":0},{"$f":"SUMIFS('SO Analysis'!G:G,'SO Analysis'!B:B,'Print Form'!C999,'SO Analysis'!D:D,'Print Form'!E999)","v":0}]
[null,"",null,null,null,{"$f":"SUMIFS('SO Analysis'!E:E,'SO Analysis'!B:B,'Print Form'!C1000,'SO Analysis'!D:D,'Print Form'!E1000)","v":0},{"$f":"SUMIFS('SO Analysis'!F:F,'SO Analysis'!B:B,'Print Form'!C1000,'SO Analysis'!D:D,'Print Form'!E1000)","v":0},{"$f":"SUMIFS('SO Analysis'!G:G,'SO Analysis'!B:B,'Print Form'!C1000,'SO Analysis'!D:D,'Print Form'!E1000)","v":0}]
[null,"",null,null,null,{"$f":"SUMIFS('SO Analysis'!E:E,'SO Analysis'!B:B,'Print Form'!C1001,'SO Analysis'!D:D,'Print Form'!E1001)","v":0},{"$f":"SUMIFS('SO Analysis'!F:F,'SO Analysis'!B:B,'Print Form'!C1001,'SO Analysis'!D:D,'Print Form'!E1001)","v":0},{"$f":"SUMIFS('SO Analysis'!G:G,'SO Analysis'!B:B,'Print Form'!C1001,'SO Analysis'!D:D,'Print Form'!E1001)","v":0}]
[null,"",null,null,null,{"$f":"SUMIFS('SO Analysis'!E:E,'SO Analysis'!B:B,'Print Form'!C1002,'SO Analysis'!D:D,'Print Form'!E1002)","v":0},{"$f":"SUMIFS('SO Analysis'!F:F,'SO Analysis'!B:B,'Print Form'!C1002,'SO Analysis'!D:D,'Print Form'!E1002)","v":0},{"$f":"SUMIFS('SO Analysis'!G:G,'SO Analysis'!B:B,'Print Form'!C1002,'SO Analysis'!D:D,'Print Form'!E1002)","v":0}]
[null,"",null,null,null,{"$f":"SUMIFS('SO Analysis'!E:E,'SO Analysis'!B:B,'Print Form'!C1003,'SO Analysis'!D:D,'Print Form'!E1003)","v":0},{"$f":"SUMIFS('SO Analysis'!F:F,'SO Analysis'!B:B,'Print Form'!C1003,'SO Analysis'!D:D,'Print Form'!E1003)","v":0},{"$f":"SUMIFS('SO Analysis'!G:G,'SO Analysis'!B:B,'Print Form'!C1003,'SO Analysis'!D:D,'Print Form'!E1003)","v":0}]
[null,"",null,null,null,{"$f":"SUMIFS('SO Analysis'!E:E,'SO Analysis'!B:B,'Print Form'!C1004,'SO Analysis'!D:D,'Print Form'!E1004)","v":0},{"$f":"SUMIFS('SO Analysis'!F:F,'SO Analysis'!B:B,'Print Form'!C1004,'SO Analysis'!D:D,'Print Form'!E1004)","v":0},{"$f":"SUMIFS('SO Analysis'!G:G,'SO Analysis'!B:B,'Print Form'!C1004,'SO Analysis'!D:D,'Print Form'!E1004)","v":0}]
[null,"",null,null,null,{"$f":"SUMIFS('SO Analysis'!E:E,'SO Analysis'!B:B,'Print Form'!C1005,'SO Analysis'!D:D,'Print Form'!E1005)","v":0},{"$f":"SUMIFS('SO Analysis'!F:F,'SO Analysis'!B:B,'Print Form'!C1005,'SO Analysis'!D:D,'Print Form'!E1005)","v":0},{"$f":"SUMIFS('SO Analysis'!G:G,'SO Analysis'!B:B,'Print Form'!C1005,'SO Analysis'!D:D,'Print Form'!E1005)","v":0}]
[null,"",null,null,null,{"$f":"SUMIFS('SO Analysis'!E:E,'SO Analysis'!B:B,'Print Form'!C1006,'SO Analysis'!D:D,'Print Form'!E1006)","v":0},{"$f":"SUMIFS('SO Analysis'!F:F,'SO Analysis'!B:B,'Print Form'!C1006,'SO Analysis'!D:D,'Print Form'!E1006)","v":0},{"$f":"SUMIFS('SO Analysis'!G:G,'SO Analysis'!B:B,'Print Form'!C1006,'SO Analysis'!D:D,'Print Form'!E1006)","v":0}]
[null,"",null,null,null,{"$f":"SUMIFS('SO Analysis'!E:E,'SO Analysis'!B:B,'Print Form'!C1007,'SO Analysis'!D:D,'Print Form'!E1007)","v":0},{"$f":"SUMIFS('SO Analysis'!F:F,'SO Analysis'!B:B,'Print Form'!C1007,'SO Analysis'!D:D,'Print Form'!E1007)","v":0},{"$f":"SUMIFS('SO Analysis'!G:G,'SO Analysis'!B:B,'Print Form'!C1007,'SO Analysis'!D:D,'Print Form'!E1007)","v":0}]
[null,"",null,null,null,{"$f":"SUMIFS('SO Analysis'!E:E,'SO Analysis'!B:B,'Print Form'!C1008,'SO Analysis'!D:D,'Print Form'!E1008)","v":0},{"$f":"SUMIFS('SO Analysis'!F:F,'SO Analysis'!B:B,'Print Form'!C1008,'SO Analysis'!D:D,'Print Form'!E1008)","v":0},{"$f":"SUMIFS('SO Analysis'!G:G,'SO Analysis'!B:B,'Print Form'!C1008,'SO Analysis'!D:D,'Print Form'!E1008)","v":0}]
[null,"",null,null,null,{"$f":"SUMIFS('SO Analysis'!E:E,'SO Analysis'!B:B,'Print Form'!C1009,'SO Analysis'!D:D,'Print Form'!E1009)","v":0},{"$f":"SUMIFS('SO Analysis'!F:F,'SO Analysis'!B:B,'Print Form'!C1009,'SO Analysis'!D:D,'Print Form'!E1009)","v":0},{"$f":"SUMIFS('SO Analysis'!G:G,'SO Analysis'!B:B,'Print Form'!C1009,'SO Analysis'!D:D,'Print Form'!E1009)","v":0}]
[null,"",null,null,null,{"$f":"SUMIFS('SO Analysis'!E:E,'SO Analysis'!B:B,'Print Form'!C1010,'SO Analysis'!D:D,'Print Form'!E1010)","v":0},{"$f":"SUMIFS('SO Analysis'!F:F,'SO Analysis'!B:B,'Print Form'!C1010,'SO Analysis'!D:D,'Print Form'!E1010)","v":0},{"$f":"SUMIFS('SO Analysis'!G:G,'SO Analysis'!B:B,'Print Form'!C1010,'SO Analysis'!D:D,'Print Form'!E1010)","v":0}]
[null,"",null,null,null,{"$f":"SUMIFS('SO Analysis'!E:E,'SO Analysis'!B:B,'Print Form'!C1011,'SO Analysis'!D:D,'Print Form'!E1011)","v":0},{"$f":"SUMIFS('SO Analysis'!F:F,'SO Analysis'!B:B,'Print Form'!C1011,'SO Analysis'!D:D,'Print Form'!E1011)","v":0},{"$f":"SUMIFS('SO Analysis'!G:G,'SO Analysis'!B:B,'Print Form'!C1011,'SO Analysis'!D:D,'Print Form'!E1011)","v":0}]
[null,"",null,null,null,{"$f":"SUMIFS('SO Analysis'!E:E,'SO Analysis'!B:B,'Print Form'!C1012,'SO Analysis'!D:D,'Print Form'!E1012)","v":0},{"$f":"SUMIFS('SO Analysis'!F:F,'SO Analysis'!B:B,'Print Form'!C1012,'SO Analysis'!D:D,'Print Form'!E1012)","v":0},{"$f":"SUMIFS('SO Analysis'!G:G,'SO Analysis'!B:B,'Print Form'!C1012,'SO Analysis'!D:D,'Print Form'!E1012)","v":0}]
[null,"",null,null,null,{"$f":"SUMIFS('SO Analysis'!E:E,'SO Analysis'!B:B,'Print Form'!C1013,'SO Analysis'!D:D,'Print Form'!E1013)","v":0},{"$f":"SUMIFS('SO Analysis'!F:F,'SO Analysis'!B:B,'Print Form'!C1013,'SO Analysis'!D:D,'Print Form'!E1013)","v":0},{"$f":"SUMIFS('SO Analysis'!G:G,'SO Analysis'!B:B,'Print Form'!C1013,'SO Analysis'!D:D,'Print Form'!E1013)","v":0}]
[null,"",null,null,null,{"$f":"SUMIFS('SO Analysis'!E:E,'SO Analysis'!B:B,'Print Form'!C1014,'SO Analysis'!D:D,'Print Form'!E1014)","v":0},{"$f":"SUMIFS('SO Analysis'!F:F,'SO Analysis'!B:B,'Print Form'!C1014,'SO Analysis'!D:D,'Print Form'!E1014)","v":0},{"$f":"SUMIFS('SO Analysis'!G:G,'SO Analysis'!B:B,'Print Form'!C1014,'SO Analysis'!D:D,'Print Form'!E1014)","v":0}]
[null,"",null,null,null,{"$f":"SUMIFS('SO Analysis'!E:E,'SO Analysis'!B:B,'Print Form'!C1015,'SO Analysis'!D:D,'Print Form'!E1015)","v":0},{"$f":"SUMIFS('SO Analysis'!F:F,'SO Analysis'!B:B,'Print Form'!C1015,'SO Analysis'!D:D,'Print Form'!E1015)","v":0},{"$f":"SUMIFS('SO Analysis'!G:G,'SO Analysis'!B:B,'Print Form'!C1015,'SO Analysis'!D:D,'Print Form'!E1015)","v":0}]
[null,"",null,null,null,{"$f":"SUMIFS('SO Analysis'!E:E,'SO Analysis'!B:B,'Print Form'!C1016,'SO Analysis'!D:D,'Print Form'!E1016)","v":0},{"$f":"SUMIFS('SO Analysis'!F:F,'SO Analysis'!B:B,'Print Form'!C1016,'SO Analysis'!D:D,'Print Form'!E1016)","v":0},{"$f":"SUMIFS('SO Analysis'!G:G,'SO Analysis'!B:B,'Print Form'!C1016,'SO Analysis'!D:D,'Print Form'!E1016)","v":0}]
[null,"",null,null,null,{"$f":"SUMIFS('SO Analysis'!E:E,'SO Analysis'!B:B,'Print Form'!C1017,'SO Analysis'!D:D,'Print Form'!E1017)","v":0},{"$f":"SUMIFS('SO Analysis'!F:F,'SO Analysis'!B:B,'Print Form'!C1017,'SO Analysis'!D:D,'Print Form'!E1017)","v":0},{"$f":"SUMIFS('SO Analysis'!G:G,'SO Analysis'!B:B,'Print Form'!C1017,'SO Analysis'!D:D,'Print Form'!E1017)","v":0}]
[null,"",null,null,null,{"$f":"SUMIFS('SO Analysis'!E:E,'SO Analysis'!B:B,'Print Form'!C1018,'SO Analysis'!D:D,'Print Form'!E1018)","v":0},{"$f":"SUMIFS('SO Analysis'!F:F,'SO Analysis'!B:B,'Print Form'!C1018,'SO Analysis'!D:D,'Print Form'!E1018)","v":0},{"$f":"SUMIFS('SO Analysis'!G:G,'SO Analysis'!B:B,'Print Form'!C1018,'SO Analysis'!D:D,'Print Form'!E1018)","v":0}]
[null,"",null,null,null,{"$f":"SUMIFS('SO Analysis'!E:E,'SO Analysis'!B:B,'Print Form'!C1019,'SO Analysis'!D:D,'Print Form'!E1019)","v":0},{"$f":"SUMIFS('SO Analysis'!F:F,'SO Analysis'!B:B,'Print Form'!C1019,'SO Analysis'!D:D,'Print Form'!E1019)","v":0},{"$f":"SUMIFS('SO Analysis'!G:G,'SO Analysis'!B:B,'Print Form'!C1019,'SO Analysis'!D:D,'Print Form'!E1019)","v":0}]
[null,"",null,null,null,{"$f":"SUMIFS('SO Analysis'!E:E,'SO Analysis'!B:B,'Print Form'!C1020,'SO Analysis'!D:D,'Print Form'!E1020)","v":0},{"$f":"SUMIFS('SO Analysis'!F:F,'SO Analysis'!B:B,'Print Form'!C1020,'SO Analysis'!D:D,'Print Form'!E1020)","v":0},{"$f":"SUMIFS('SO Analysis'!G:G,'SO Analysis'!B:B,'Print Form'!C1020,'SO Analysis'!D:D,'Print Form'!E1020)","v":0}]
[null,"",null,null,null,{"$f":"SUMIFS('SO Analysis'!E:E,'SO Analysis'!B:B,'Print Form'!C1021,'SO Analysis'!D:D,'Print Form'!E1021)","v":0},{"$f":"SUMIFS('SO Analysis'!F:F,'SO Analysis'!B:B,'Print Form'!C1021,'SO Analysis'!D:D,'Print Form'!E1021)","v":0},{"$f":"SUMIFS('SO Analysis'!G:G,'SO Analysis'!B:B,'Print Form'!C1021,'SO Analysis'!D:D,'Print Form'!E1021)","v":0}]
[null,"",null,null,null,{"$f":"SUMIFS('SO Analysis'!E:E,'SO Analysis'!B:B,'Print Form'!C1022,'SO Analysis'!D:D,'Print Form'!E1022)","v":0},{"$f":"SUMIFS('SO Analysis'!F:F,'SO Analysis'!B:B,'Print Form'!C1022,'SO Analysis'!D:D,'Print Form'!E1022)","v":0},{"$f":"SUMIFS('SO Analysis'!G:G,'SO Analysis'!B:B,'Print Form'!C1022,'SO Analysis'!D:D,'Print Form'!E1022)","v":0}]
[null,"",null,null,null,{"$f":"SUMIFS('SO Analysis'!E:E,'SO Analysis'!B:B,'Print Form'!C1023,'SO Analysis'!D:D,'Print Form'!E1023)","v":0},{"$f":"SUMIFS('SO Analysis'!F:F,'SO Analysis'!B:B,'Print Form'!C1023,'SO Analysis'!D:D,'Print Form'!E1023)","v":0},{"$f":"SUMIFS('SO Analysis'!G:G,'SO Analysis'!B:B,'Print Form'!C1023,'SO Analysis'!D:D,'Print Form'!E1023)","v":0}]
[null,"",null,null,null,{"$f":"SUMIFS('SO Analysis'!E:E,'SO Analysis'!B:B,'Print Form'!C1024,'SO Analysis'!D:D,'Print Form'!E1024)","v":0},{"$f":"SUMIFS('SO Analysis'!F:F,'SO Analysis'!B:B,'Print Form'!C1024,'SO Analysis'!D:D,'Print Form'!E1024)","v":0},{"$f":"SUMIFS('SO Analysis'!G:G,'SO Analysis'!B:B,'Print Form'!C1024,'SO Analysis'!D:D,'Print Form'!E1024)","v":0}]
[null,"",null,null,null,{"$f":"SUMIFS('SO Analysis'!E:E,'SO Analysis'!B:B,'Print Form'!C1025,'SO Analysis'!D:D,'Print Form'!E1025)","v":0},{"$f":"SUMIFS('SO Analysis'!F:F,'SO Analysis'!B:B,'Print Form'!C1025,'SO Analysis'!D:D,'Print Form'!E1025)","v":0},{"$f":"SUMIFS('SO Analysis'!G:G,'SO Analysis'!B:B,'Print Form'!C1025,'SO Analysis'!D:D,'Print Form'!E1025)","v":0}]
[null,"",null,null,null,{"$f":"SUMIFS('SO Analysis'!E:E,'SO Analysis'!B:B,'Print Form'!C1026,'SO Analysis'!D:D,'Print Form'!E1026)","v":0},{"$f":"SUMIFS('SO Analysis'!F:F,'SO Analysis'!B:B,'Print Form'!C1026,'SO Analysis'!D:D,'Print Form'!E1026)","v":0},{"$f":"SUMIFS('SO Analysis'!G:G,'SO Analysis'!B:B,'Print Form'!C1026,'SO Analysis'!D:D,'Print Form'!E1026)","v":0}]
[null,"",null,null,null,{"$f":"SUMIFS('SO Analysis'!E:E,'SO Analysis'!B:B,'Print Form'!C1027,'SO Analysis'!D:D,'Print Form'!E1027)","v":0},{"$f":"SUMIFS('SO Analysis'!F:F,'SO Analysis'!B:B,'Print Form'!C1027,'SO Analysis'!D:D,'Print Form'!E1027)","v":0},{"$f":"SUMIFS('SO Analysis'!G:G,'SO Analysis'!B:B,'Print Form'!C1027,'SO Analysis'!D:D,'Print Form'!E1027)","v":0}]
[null,"",null,null,null,{"$f":"SUMIFS('SO Analysis'!E:E,'SO Analysis'!B:B,'Print Form'!C1028,'SO Analysis'!D:D,'Print Form'!E1028)","v":0},{"$f":"SUMIFS('SO Analysis'!F:F,'SO Analysis'!B:B,'Print Form'!C1028,'SO Analysis'!D:D,'Print Form'!E1028)","v":0},{"$f":"SUMIFS('SO Analysis'!G:G,'SO Analysis'!B:B,'Print Form'!C1028,'SO Analysis'!D:D,'Print Form'!E1028)","v":0}]
[null,"",null,null,null,{"$f":"SUMIFS('SO Analysis'!E:E,'SO Analysis'!B:B,'Print Form'!C1029,'SO Analysis'!D:D,'Print Form'!E1029)","v":0},{"$f":"SUMIFS('SO Analysis'!F:F,'SO Analysis'!B:B,'Print Form'!C1029,'SO Analysis'!D:D,'Print Form'!E1029)","v":0},{"$f":"SUMIFS('SO Analysis'!G:G,'SO Analysis'!B:B,'Print Form'!C1029,'SO Analysis'!D:D,'Print Form'!E1029)","v":0}]
[null,"",null,null,null,{"$f":"SUMIFS('SO Analysis'!E:E,'SO Analysis'!B:B,'Print Form'!C1030,'SO Analysis'!D:D,'Print Form'!E1030)","v":0},{"$f":"SUMIFS('SO Analysis'!F:F,'SO Analysis'!B:B,'Print Form'!C1030,'SO Analysis'!D:D,'Print Form'!E1030)","v":0},{"$f":"SUMIFS('SO Analysis'!G:G,'SO Analysis'!B:B,'Print Form'!C1030,'SO Analysis'!D:D,'Print Form'!E1030)","v":0}]
[null,"",null,null,null,{"$f":"SUMIFS('SO Analysis'!E:E,'SO Analysis'!B:B,'Print Form'!C1031,'SO Analysis'!D:D,'Print Form'!E1031)","v":0},{"$f":"SUMIFS('SO Analysis'!F:F,'SO Analysis'!B:B,'Print Form'!C1031,'SO Analysis'!D:D,'Print Form'!E1031)","v":0},{"$f":"SUMIFS('SO Analysis'!G:G,'SO Analysis'!B:B,'Print Form'!C1031,'SO Analysis'!D:D,'Print Form'!E1031)","v":0}]
[null,"",null,null,null,{"$f":"SUMIFS('SO Analysis'!E:E,'SO Analysis'!B:B,'Print Form'!C1032,'SO Analysis'!D:D,'Print Form'!E1032)","v":0},{"$f":"SUMIFS('SO Analysis'!F:F,'SO Analysis'!B:B,'Print Form'!C1032,'SO Analysis'!D:D,'Print Form'!E1032)","v":0},{"$f":"SUMIFS('SO Analysis'!G:G,'SO Analysis'!B:B,'Print Form'!C1032,'SO Analysis'!D:D,'Print Form'!E1032)","v":0}]
[null,"",null,null,null,{"$f":"SUMIFS('SO Analysis'!E:E,'SO Analysis'!B:B,'Print Form'!C1033,'SO Analysis'!D:D,'Print Form'!E1033)","v":0},{"$f":"SUMIFS('SO Analysis'!F:F,'SO Analysis'!B:B,'Print Form'!C1033,'SO Analysis'!D:D,'Print Form'!E1033)","v":0},{"$f":"SUMIFS('SO Analysis'!G:G,'SO Analysis'!B:B,'Print Form'!C1033,'SO Analysis'!D:D,'Print Form'!E1033)","v":0}]
[null,"",null,null,null,{"$f":"SUMIFS('SO Analysis'!E:E,'SO Analysis'!B:B,'Print Form'!C1034,'SO Analysis'!D:D,'Print Form'!E1034)","v":0},{"$f":"SUMIFS('SO Analysis'!F:F,'SO Analysis'!B:B,'Print Form'!C1034,'SO Analysis'!D:D,'Print Form'!E1034)","v":0},{"$f":"SUMIFS('SO Analysis'!G:G,'SO Analysis'!B:B,'Print Form'!C1034,'SO Analysis'!D:D,'Print Form'!E1034)","v":0}]
[null,"",null,null,null,{"$f":"SUMIFS('SO Analysis'!E:E,'SO Analysis'!B:B,'Print Form'!C1035,'SO Analysis'!D:D,'Print Form'!E1035)","v":0},{"$f":"SUMIFS('SO Analysis'!F:F,'SO Analysis'!B:B,'Print Form'!C1035,'SO Analysis'!D:D,'Print Form'!E1035)","v":0},{"$f":"SUMIFS('SO Analysis'!G:G,'SO Analysis'!B:B,'Print Form'!C1035,'SO Analysis'!D:D,'Print Form'!E1035)","v":0}]
[null,"",null,null,null,{"$f":"SUMIFS('SO Analysis'!E:E,'SO Analysis'!B:B,'Print Form'!C1036,'SO Analysis'!D:D,'Print Form'!E1036)","v":0},{"$f":"SUMIFS('SO Analysis'!F:F,'SO Analysis'!B:B,'Print Form'!C1036,'SO Analysis'!D:D,'Print Form'!E1036)","v":0},{"$f":"SUMIFS('SO Analysis'!G:G,'SO Analysis'!B:B,'Print Form'!C1036,'SO Analysis'!D:D,'Print Form'!E1036)","v":0}]
[null,"",null,null,null,{"$f":"SUMIFS('SO Analysis'!E:E,'SO Analysis'!B:B,'Print Form'!C1037,'SO Analysis'!D:D,'Print Form'!E1037)","v":0},{"$f":"SUMIFS('SO Analysis'!F:F,'SO Analysis'!B:B,'Print Form'!C1037,'SO Analysis'!D:D,'Print Form'!E1037)","v":0},{"$f":"SUMIFS('SO Analysis'!G:G,'SO Analysis'!B:B,'Print Form'!C1037,'SO Analysis'!D:D,'Print Form'!E1037)","v":0}]
[null,{"$f":"IF(C1038=\"\",\"\",ROW()-12)","v":""},null,null,null,{"$f":"SUMIFS('SO Analysis'!E:E,'SO Analysis'!B:B,'Print Form'!C1038,'SO Analysis'!D:D,'Print Form'!E1038)","v":0},{"$f":"SUMIFS('SO Analysis'!F:F,'SO Analysis'!B:B,'Print Form'!C1038,'SO Analysis'!D:D,'Print Form'!E1038)","v":0},{"$f":"SUMIFS('SO Analysis'!G:G,'SO Analysis'!B:B,'Print Form'!C1038,'SO Analysis'!D:D,'Print Form'!E1038)","v":0}]
[null,"",null,null,null,{"$f":"SUMIFS('SO Analysis'!E:E,'SO Analysis'!B:B,'Print Form'!C1039,'SO Analysis'!D:D,'Print Form'!E1039)","v":0},{"$f":"SUMIFS('SO Analysis'!F:F,'SO Analysis'!B:B,'Print Form'!C1039,'SO Analysis'!D:D,'Print Form'!E1039)","v":0},{"$f":"SUMIFS('SO Analysis'!G:G,'SO Analysis'!B:B,'Print Form'!C1039,'SO Analysis'!D:D,'Print Form'!E1039)","v":0}]
[null,"",null,null,null,{"$f":"SUMIFS('SO Analysis'!E:E,'SO Analysis'!B:B,'Print Form'!C1040,'SO Analysis'!D:D,'Print Form'!E1040)","v":0},{"$f":"SUMIFS('SO Analysis'!F:F,'SO Analysis'!B:B,'Print Form'!C1040,'SO Analysis'!D:D,'Print Form'!E1040)","v":0},{"$f":"SUMIFS('SO Analysis'!G:G,'SO Analysis'!B:B,'Print Form'!C1040,'SO Analysis'!D:D,'Print Form'!E1040)","v":0}]
[null,"",null,null,null,{"$f":"SUMIFS('SO Analysis'!E:E,'SO Analysis'!B:B,'Print Form'!C1041,'SO Analysis'!D:D,'Print Form'!E1041)","v":0},{"$f":"SUMIFS('SO Analysis'!F:F,'SO Analysis'!B:B,'Print Form'!C1041,'SO Analysis'!D:D,'Print Form'!E1041)","v":0},{"$f":"SUMIFS('SO Analysis'!G:G,'SO Analysis'!B:B,'Print Form'!C1041,'SO Analysis'!D:D,'Print Form'!E1041)","v":0}]
[null,"",null,null,null,{"$f":"SUMIFS('SO Analysis'!E:E,'SO Analysis'!B:B,'Print Form'!C1042,'SO Analysis'!D:D,'Print Form'!E1042)","v":0},{"$f":"SUMIFS('SO Analysis'!F:F,'SO Analysis'!B:B,'Print Form'!C1042,'SO Analysis'!D:D,'Print Form'!E1042)","v":0},{"$f":"SUMIFS('SO Analysis'!G:G,'SO Analysis'!B:B,'Print Form'!C1042,'SO Analysis'!D:D,'Print Form'!E1042)","v":0}]
[null,"",null,null,null,{"$f":"SUMIFS('SO Analysis'!E:E,'SO Analysis'!B:B,'Print Form'!C1043,'SO Analysis'!D:D,'Print Form'!E1043)","v":0},{"$f":"SUMIFS('SO Analysis'!F:F,'SO Analysis'!B:B,'Print Form'!C1043,'SO Analysis'!D:D,'Print Form'!E1043)","v":0},{"$f":"SUMIFS('SO Analysis'!G:G,'SO Analysis'!B:B,'Print Form'!C1043,'SO Analysis'!D:D,'Print Form'!E1043)","v":0}]
[null,"",null,null,null,{"$f":"SUMIFS('SO Analysis'!E:E,'SO Analysis'!B:B,'Print Form'!C1044,'SO Analysis'!D:D,'Print Form'!E1044)","v":0},{"$f":"SUMIFS('SO Analysis'!F:F,'SO Analysis'!B:B,'Print Form'!C1044,'SO Analysis'!D:D,'Print Form'!E1044)","v":0},{"$f":"SUMIFS('SO Analysis'!G:G,'SO Analysis'!B:B,'Print Form'!C1044,'SO Analysis'!D:D,'Print Form'!E1044)","v":0}]
[null,"",null,null,null,{"$f":"SUMIFS('SO Analysis'!E:E,'SO Analysis'!B:B,'Print Form'!C1045,'SO Analysis'!D:D,'Print Form'!E1045)","v":0},{"$f":"SUMIFS('SO Analysis'!F:F,'SO Analysis'!B:B,'Print Form'!C1045,'SO Analysis'!D:D,'Print Form'!E1045)","v":0},{"$f":"SUMIFS('SO Analysis'!G:G,'SO Analysis'!B:B,'Print Form'!C1045,'SO Analysis'!D:D,'Print Form'!E1045)","v":0}]
[null,"",null,null,null,{"$f":"SUMIFS('SO Analysis'!E:E,'SO Analysis'!B:B,'Print Form'!C1046,'SO Analysis'!D:D,'Print Form'!E1046)","v":0},{"$f":"SUMIFS('SO Analysis'!F:F,'SO Analysis'!B:B,'Print Form'!C1046,'SO Analysis'!D:D,'Print Form'!E1046)","v":0},{"$f":"SUMIFS('SO Analysis'!G:G,'SO Analysis'!B:B,'Print Form'!C1046,'SO Analysis'!D:D,'Print Form'!E1046)","v":0}]
[null,"",null,null,null,{"$f":"SUMIFS('SO Analysis'!E:E,'SO Analysis'!B:B,'Print Form'!C1047,'SO Analysis'!D:D,'Print Form'!E1047)","v":0},{"$f":"SUMIFS('SO Analysis'!F:F,'SO Analysis'!B:B,'Print Form'!C1047,'SO Analysis'!D:D,'Print Form'!E1047)","v":0},{"$f":"SUMIFS('SO Analysis'!G:G,'SO Analysis'!B:B,'Print Form'!C1047,'SO Analysis'!D:D,'Print Form'!E1047)","v":0}]
[null,"",null,null,null,{"$f":"SUMIFS('SO Analysis'!E:E,'SO Analysis'!B:B,'Print Form'!C1048,'SO Analysis'!D:D,'Print Form'!E1048)","v":0},{"$f":"SUMIFS('SO Analysis'!F:F,'SO Analysis'!B:B,'Print Form'!C1048,'SO Analysis'!D:D,'Print Form'!E1048)","v":0},{"$f":"SUMIFS('SO Analysis'!G:G,'SO Analysis'!B:B,'Print Form'!C1048,'SO Analysis'!D:D,'Print Form'!E1048)","v":0}]
[null,"",null,null,null,{"$f":"SUMIFS('SO Analysis'!E:E,'SO Analysis'!B:B,'Print Form'!C1049,'SO Analysis'!D:D,'Print Form'!E1049)","v":0},{"$f":"SUMIFS('SO Analysis'!F:F,'SO Analysis'!B:B,'Print Form'!C1049,'SO Analysis'!D:D,'Print Form'!E1049)","v":0},{"$f":"SUMIFS('SO Analysis'!G:G,'SO Analysis'!B:B,'Print Form'!C1049,'SO Analysis'!D:D,'Print Form'!E1049)","v":0}]
[null,"",null,null,null,{"$f":"SUMIFS('SO Analysis'!E:E,'SO Analysis'!B:B,'Print Form'!C1050,'SO Analysis'!D:D,'Print Form'!E1050)","v":0},{"$f":"SUMIFS('SO Analysis'!F:F,'SO Analysis'!B:B,'Print Form'!C1050,'SO Analysis'!D:D,'Print Form'!E1050)","v":0},{"$f":"SUMIFS('SO Analysis'!G:G,'SO Analysis'!B:B,'Print Form'!C1050,'SO Analysis'!D:D,'Print Form'!E1050)","v":0}]
[null,"",null,null,null,{"$f":"SUMIFS('SO Analysis'!E:E,'SO Analysis'!B:B,'Print Form'!C1051,'SO Analysis'!D:D,'Print Form'!E1051)","v":0},{"$f":"SUMIFS('SO Analysis'!F:F,'SO Analysis'!B:B,'Print Form'!C1051,'SO Analysis'!D:D,'Print Form'!E1051)","v":0},{"$f":"SUMIFS('SO Analysis'!G:G,'SO Analysis'!B:B,'Print Form'!C1051,'SO Analysis'!D:D,'Print Form'!E1051)","v":0}]
[null,"",null,null,null,{"$f":"SUMIFS('SO Analysis'!E:E,'SO Analysis'!B:B,'Print Form'!C1052,'SO Analysis'!D:D,'Print Form'!E1052)","v":0},{"$f":"SUMIFS('SO Analysis'!F:F,'SO Analysis'!B:B,'Print Form'!C1052,'SO Analysis'!D:D,'Print Form'!E1052)","v":0},{"$f":"SUMIFS('SO Analysis'!G:G,'SO Analysis'!B:B,'Print Form'!C1052,'SO Analysis'!D:D,'Print Form'!E1052)","v":0}]
[null,"",null,null,null,{"$f":"SUMIFS('SO Analysis'!E:E,'SO Analysis'!B:B,'Print Form'!C1053,'SO Analysis'!D:D,'Print Form'!E1053)","v":0},{"$f":"SUMIFS('SO Analysis'!F:F,'SO Analysis'!B:B,'Print Form'!C1053,'SO Analysis'!D:D,'Print Form'!E1053)","v":0},{"$f":"SUMIFS('SO Analysis'!G:G,'SO Analysis'!B:B,'Print Form'!C1053,'SO Analysis'!D:D,'Print Form'!E1053)","v":0}]
[null,"",null,null,null,{"$f":"SUMIFS('SO Analysis'!E:E,'SO Analysis'!B:B,'Print Form'!C1054,'SO Analysis'!D:D,'Print Form'!E1054)","v":0},{"$f":"SUMIFS('SO Analysis'!F:F,'SO Analysis'!B:B,'Print Form'!C1054,'SO Analysis'!D:D,'Print Form'!E1054)","v":0},{"$f":"SUMIFS('SO Analysis'!G:G,'SO Analysis'!B:B,'Print Form'!C1054,'SO Analysis'!D:D,'Print Form'!E1054)","v":0}]
[null,"",null,null,null,{"$f":"SUMIFS('SO Analysis'!E:E,'SO Analysis'!B:B,'Print Form'!C1055,'SO Analysis'!D:D,'Print Form'!E1055)","v":0},{"$f":"SUMIFS('SO Analysis'!F:F,'SO Analysis'!B:B,'Print Form'!C1055,'SO Analysis'!D:D,'Print Form'!E1055)","v":0},{"$f":"SUMIFS('SO Analysis'!G:G,'SO Analysis'!B:B,'Print Form'!C1055,'SO Analysis'!D:D,'Print Form'!E1055)","v":0}]
[null,"",null,null,null,{"$f":"SUMIFS('SO Analysis'!E:E,'SO Analysis'!B:B,'Print Form'!C1056,'SO Analysis'!D:D,'Print Form'!E1056)","v":0},{"$f":"SUMIFS('SO Analysis'!F:F,'SO Analysis'!B:B,'Print Form'!C1056,'SO Analysis'!D:D,'Print Form'!E1056)","v":0},{"$f":"SUMIFS('SO Analysis'!G:G,'SO Analysis'!B:B,'Print Form'!C1056,'SO Analysis'!D:D,'Print Form'!E1056)","v":0}]
[null,"",null,null,null,{"$f":"SUMIFS('SO Analysis'!E:E,'SO Analysis'!B:B,'Print Form'!C1057,'SO Analysis'!D:D,'Print Form'!E1057)","v":0},{"$f":"SUMIFS('SO Analysis'!F:F,'SO Analysis'!B:B,'Print Form'!C1057,'SO Analysis'!D:D,'Print Form'!E1057)","v":0},{"$f":"SUMIFS('SO Analysis'!G:G,'SO Analysis'!B:B,'Print Form'!C1057,'SO Analysis'!D:D,'Print Form'!E1057)","v":0}]
[null,"",null,null,null,{"$f":"SUMIFS('SO Analysis'!E:E,'SO Analysis'!B:B,'Print Form'!C1058,'SO Analysis'!D:D,'Print Form'!E1058)","v":0},{"$f":"SUMIFS('SO Analysis'!F:F,'SO Analysis'!B:B,'Print Form'!C1058,'SO Analysis'!D:D,'Print Form'!E1058)","v":0},{"$f":"SUMIFS('SO Analysis'!G:G,'SO Analysis'!B:B,'Print Form'!C1058,'SO Analysis'!D:D,'Print Form'!E1058)","v":0}]
[null,"",null,null,null,{"$f":"SUMIFS('SO Analysis'!E:E,'SO Analysis'!B:B,'Print Form'!C1059,'SO Analysis'!D:D,'Print Form'!E1059)","v":0},{"$f":"SUMIFS('SO Analysis'!F:F,'SO Analysis'!B:B,'Print Form'!C1059,'SO Analysis'!D:D,'Print Form'!E1059)","v":0},{"$f":"SUMIFS('SO Analysis'!G:G,'SO Analysis'!B:B,'Print Form'!C1059,'SO Analysis'!D:D,'Print Form'!E1059)","v":0}]
[null,"",null,null,null,{"$f":"SUMIFS('SO Analysis'!E:E,'SO Analysis'!B:B,'Print Form'!C1060,'SO Analysis'!D:D,'Print Form'!E1060)","v":0},{"$f":"SUMIFS('SO Analysis'!F:F,'SO Analysis'!B:B,'Print Form'!C1060,'SO Analysis'!D:D,'Print Form'!E1060)","v":0},{"$f":"SUMIFS('SO Analysis'!G:G,'SO Analysis'!B:B,'Print Form'!C1060,'SO Analysis'!D:D,'Print Form'!E1060)","v":0}]
[null,"",null,null,null,{"$f":"SUMIFS('SO Analysis'!E:E,'SO Analysis'!B:B,'Print Form'!C1061,'SO Analysis'!D:D,'Print Form'!E1061)","v":0},{"$f":"SUMIFS('SO Analysis'!F:F,'SO Analysis'!B:B,'Print Form'!C1061,'SO Analysis'!D:D,'Print Form'!E1061)","v":0},{"$f":"SUMIFS('SO Analysis'!G:G,'SO Analysis'!B:B,'Print Form'!C1061,'SO Analysis'!D:D,'Print Form'!E1061)","v":0}]
[null,"",null,null,null,{"$f":"SUMIFS('SO Analysis'!E:E,'SO Analysis'!B:B,'Print Form'!C1062,'SO Analysis'!D:D,'Print Form'!E1062)","v":0},{"$f":"SUMIFS('SO Analysis'!F:F,'SO Analysis'!B:B,'Print Form'!C1062,'SO Analysis'!D:D,'Print Form'!E1062)","v":0},{"$f":"SUMIFS('SO Analysis'!G:G,'SO Analysis'!B:B,'Print Form'!C1062,'SO Analysis'!D:D,'Print Form'!E1062)","v":0}]
[null,"",null,null,null,{"$f":"SUMIFS('SO Analysis'!E:E,'SO Analysis'!B:B,'Print Form'!C1063,'SO Analysis'!D:D,'Print Form'!E1063)","v":0},{"$f":"SUMIFS('SO Analysis'!F:F,'SO Analysis'!B:B,'Print Form'!C1063,'SO Analysis'!D:D,'Print Form'!E1063)","v":0},{"$f":"SUMIFS('SO Analysis'!G:G,'SO Analysis'!B:B,'Print Form'!C1063,'SO Analysis'!D:D,'Print Form'!E1063)","v":0}]
[null,"",null,null,null,{"$f":"SUMIFS('SO Analysis'!E:E,'SO Analysis'!B:B,'Print Form'!C1064,'SO Analysis'!D:D,'Print Form'!E1064)","v":0},{"$f":"SUMIFS('SO Analysis'!F:F,'SO Analysis'!B:B,'Print Form'!C1064,'SO Analysis'!D:D,'Print Form'!E1064)","v":0},{"$f":"SUMIFS('SO Analysis'!G:G,'SO Analysis'!B:B,'Print Form'!C1064,'SO Analysis'!D:D,'Print Form'!E1064)","v":0}]
[null,"",null,null,null,{"$f":"SUMIFS('SO Analysis'!E:E,'SO Analysis'!B:B,'Print Form'!C1065,'SO Analysis'!D:D,'Print Form'!E1065)","v":0},{"$f":"SUMIFS('SO Analysis'!F:F,'SO Analysis'!B:B,'Print Form'!C1065,'SO Analysis'!D:D,'Print Form'!E1065)","v":0},{"$f":"SUMIFS('SO Analysis'!G:G,'SO Analysis'!B:B,'Print Form'!C1065,'SO Analysis'!D:D,'Print Form'!E1065)","v":0}]
[null,"",null,null,null,{"$f":"SUMIFS('SO Analysis'!E:E,'SO Analysis'!B:B,'Print Form'!C1066,'SO Analysis'!D:D,'Print Form'!E1066)","v":0},{"$f":"SUMIFS('SO Analysis'!F:F,'SO Analysis'!B:B,'Print Form'!C1066,'SO Analysis'!D:D,'Print Form'!E1066)","v":0},{"$f":"SUMIFS('SO Analysis'!G:G,'SO Analysis'!B:B,'Print Form'!C1066,'SO Analysis'!D:D,'Print Form'!E1066)","v":0}]
[null,"",null,null,null,{"$f":"SUMIFS('SO Analysis'!E:E,'SO Analysis'!B:B,'Print Form'!C1067,'SO Analysis'!D:D,'Print Form'!E1067)","v":0},{"$f":"SUMIFS('SO Analysis'!F:F,'SO Analysis'!B:B,'Print Form'!C1067,'SO Analysis'!D:D,'Print Form'!E1067)","v":0},{"$f":"SUMIFS('SO Analysis'!G:G,'SO Analysis'!B:B,'Print Form'!C1067,'SO Analysis'!D:D,'Print Form'!E1067)","v":0}]
[null,"",null,null,null,{"$f":"SUMIFS('SO Analysis'!E:E,'SO Analysis'!B:B,'Print Form'!C1068,'SO Analysis'!D:D,'Print Form'!E1068)","v":0},{"$f":"SUMIFS('SO Analysis'!F:F,'SO Analysis'!B:B,'Print Form'!C1068,'SO Analysis'!D:D,'Print Form'!E1068)","v":0},{"$f":"SUMIFS('SO Analysis'!G:G,'SO Analysis'!B:B,'Print Form'!C1068,'SO Analysis'!D:D,'Print Form'!E1068)","v":0}]
[null,"",null,null,null,{"$f":"SUMIFS('SO Analysis'!E:E,'SO Analysis'!B:B,'Print Form'!C1069,'SO Analysis'!D:D,'Print Form'!E1069)","v":0},{"$f":"SUMIFS('SO Analysis'!F:F,'SO Analysis'!B:B,'Print Form'!C1069,'SO Analysis'!D:D,'Print Form'!E1069)","v":0},{"$f":"SUMIFS('SO Analysis'!G:G,'SO Analysis'!B:B,'Print Form'!C1069,'SO Analysis'!D:D,'Print Form'!E1069)","v":0}]
[null,"",null,null,null,{"$f":"SUMIFS('SO Analysis'!E:E,'SO Analysis'!B:B,'Print Form'!C1070,'SO Analysis'!D:D,'Print Form'!E1070)","v":0},{"$f":"SUMIFS('SO Analysis'!F:F,'SO Analysis'!B:B,'Print Form'!C1070,'SO Analysis'!D:D,'Print Form'!E1070)","v":0},{"$f":"SUMIFS('SO Analysis'!G:G,'SO Analysis'!B:B,'Print Form'!C1070,'SO Analysis'!D:D,'Print Form'!E1070)","v":0}]
[null,"",null,null,null,{"$f":"SUMIFS('SO Analysis'!E:E,'SO Analysis'!B:B,'Print Form'!C1071,'SO Analysis'!D:D,'Print Form'!E1071)","v":0},{"$f":"SUMIFS('SO Analysis'!F:F,'SO Analysis'!B:B,'Print Form'!C1071,'SO Analysis'!D:D,'Print Form'!E1071)","v":0},{"$f":"SUMIFS('SO Analysis'!G:G,'SO Analysis'!B:B,'Print Form'!C1071,'SO Analysis'!D:D,'Print Form'!E1071)","v":0}]
[null,"",null,null,null,{"$f":"SUMIFS('SO Analysis'!E:E,'SO Analysis'!B:B,'Print Form'!C1072,'SO Analysis'!D:D,'Print Form'!E1072)","v":0},{"$f":"SUMIFS('SO Analysis'!F:F,'SO Analysis'!B:B,'Print Form'!C1072,'SO Analysis'!D:D,'Print Form'!E1072)","v":0},{"$f":"SUMIFS('SO Analysis'!G:G,'SO Analysis'!B:B,'Print Form'!C1072,'SO Analysis'!D:D,'Print Form'!E1072)","v":0}]
[null,"",null,null,null,{"$f":"SUMIFS('SO Analysis'!E:E,'SO Analysis'!B:B,'Print Form'!C1073,'SO Analysis'!D:D,'Print Form'!E1073)","v":0},{"$f":"SUMIFS('SO Analysis'!F:F,'SO Analysis'!B:B,'Print Form'!C1073,'SO Analysis'!D:D,'Print Form'!E1073)","v":0},{"$f":"SUMIFS('SO Analysis'!G:G,'SO Analysis'!B:B,'Print Form'!C1073,'SO Analysis'!D:D,'Print Form'!E1073)","v":0}]
[null,"",null,null,null,{"$f":"SUMIFS('SO Analysis'!E:E,'SO Analysis'!B:B,'Print Form'!C1074,'SO Analysis'!D:D,'Print Form'!E1074)","v":0},{"$f":"SUMIFS('SO Analysis'!F:F,'SO Analysis'!B:B,'Print Form'!C1074,'SO Analysis'!D:D,'Print Form'!E1074)","v":0},{"$f":"SUMIFS('SO Analysis'!G:G,'SO Analysis'!B:B,'Print Form'!C1074,'SO Analysis'!D:D,'Print Form'!E1074)","v":0}]
[null,"",null,null,null,{"$f":"SUMIFS('SO Analysis'!E:E,'SO Analysis'!B:B,'Print Form'!C1075,'SO Analysis'!D:D,'Print Form'!E1075)","v":0},{"$f":"SUMIFS('SO Analysis'!F:F,'SO Analysis'!B:B,'Print Form'!C1075,'SO Analysis'!D:D,'Print Form'!E1075)","v":0},{"$f":"SUMIFS('SO Analysis'!G:G,'SO Analysis'!B:B,'Print Form'!C1075,'SO Analysis'!D:D,'Print Form'!E1075)","v":0}]
[null,"",null,null,null,{"$f":"SUMIFS('SO Analysis'!E:E,'SO Analysis'!B:B,'Print Form'!C1076,'SO Analysis'!D:D,'Print Form'!E1076)","v":0},{"$f":"SUMIFS('SO Analysis'!F:F,'SO Analysis'!B:B,'Print Form'!C1076,'SO Analysis'!D:D,'Print Form'!E1076)","v":0},{"$f":"SUMIFS('SO Analysis'!G:G,'SO Analysis'!B:B,'Print Form'!C1076,'SO Analysis'!D:D,'Print Form'!E1076)","v":0}]
[null,"",null,null,null,{"$f":"SUMIFS('SO Analysis'!E:E,'SO Analysis'!B:B,'Print Form'!C1077,'SO Analysis'!D:D,'Print Form'!E1077)","v":0},{"$f":"SUMIFS('SO Analysis'!F:F,'SO Analysis'!B:B,'Print Form'!C1077,'SO Analysis'!D:D,'Print Form'!E1077)","v":0},{"$f":"SUMIFS('SO Analysis'!G:G,'SO Analysis'!B:B,'Print Form'!C1077,'SO Analysis'!D:D,'Print Form'!E1077)","v":0}]
[null,"",null,null,null,{"$f":"SUMIFS('SO Analysis'!E:E,'SO Analysis'!B:B,'Print Form'!C1078,'SO Analysis'!D:D,'Print Form'!E1078)","v":0},{"$f":"SUMIFS('SO Analysis'!F:F,'SO Analysis'!B:B,'Print Form'!C1078,'SO Analysis'!D:D,'Print Form'!E1078)","v":0},{"$f":"SUMIFS('SO Analysis'!G:G,'SO Analysis'!B:B,'Print Form'!C1078,'SO Analysis'!D:D,'Print Form'!E1078)","v":0}]
[null,"",null,null,null,{"$f":"SUMIFS('SO Analysis'!E:E,'SO Analysis'!B:B,'Print Form'!C1079,'SO Analysis'!D:D,'Print Form'!E1079)","v":0},{"$f":"SUMIFS('SO Analysis'!F:F,'SO Analysis'!B:B,'Print Form'!C1079,'SO Analysis'!D:D,'Print Form'!E1079)","v":0},{"$f":"SUMIFS('SO Analysis'!G:G,'SO Analysis'!B:B,'Print Form'!C1079,'SO Analysis'!D:D,'Print Form'!E1079)","v":0}]
[null,"",null,null,null,{"$f":"SUMIFS('SO Analysis'!E:E,'SO Analysis'!B:B,'Print Form'!C1080,'SO Analysis'!D:D,'Print Form'!E1080)","v":0},{"$f":"SUMIFS('SO Analysis'!F:F,'SO Analysis'!B:B,'Print Form'!C1080,'SO Analysis'!D:D,'Print Form'!E1080)","v":0},{"$f":"SUMIFS('SO Analysis'!G:G,'SO Analysis'!B:B,'Print Form'!C1080,'SO Analysis'!D:D,'Print Form'!E1080)","v":0}]
[null,"",null,null,null,{"$f":"SUMIFS('SO Analysis'!E:E,'SO Analysis'!B:B,'Print Form'!C1081,'SO Analysis'!D:D,'Print Form'!E1081)","v":0},{"$f":"SUMIFS('SO Analysis'!F:F,'SO Analysis'!B:B,'Print Form'!C1081,'SO Analysis'!D:D,'Print Form'!E1081)","v":0},{"$f":"SUMIFS('SO Analysis'!G:G,'SO Analysis'!B:B,'Print Form'!C1081,'SO Analysis'!D:D,'Print Form'!E1081)","v":0}]
[null,"",null,null,null,{"$f":"SUMIFS('SO Analysis'!E:E,'SO Analysis'!B:B,'Print Form'!C1082,'SO Analysis'!D:D,'Print Form'!E1082)","v":0},{"$f":"SUMIFS('SO Analysis'!F:F,'SO Analysis'!B:B,'Print Form'!C1082,'SO Analysis'!D:D,'Print Form'!E1082)","v":0},{"$f":"SUMIFS('SO Analysis'!G:G,'SO Analysis'!B:B,'Print Form'!C1082,'SO Analysis'!D:D,'Print Form'!E1082)","v":0}]
[null,"",null,null,null,{"$f":"SUMIFS('SO Analysis'!E:E,'SO Analysis'!B:B,'Print Form'!C1083,'SO Analysis'!D:D,'Print Form'!E1083)","v":0},{"$f":"SUMIFS('SO Analysis'!F:F,'SO Analysis'!B:B,'Print Form'!C1083,'SO Analysis'!D:D,'Print Form'!E1083)","v":0},{"$f":"SUMIFS('SO Analysis'!G:G,'SO Analysis'!B:B,'Print Form'!C1083,'SO Analysis'!D:D,'Print Form'!E1083)","v":0}]
[null,"",null,null,null,{"$f":"SUMIFS('SO Analysis'!E:E,'SO Analysis'!B:B,'Print Form'!C1084,'SO Analysis'!D:D,'Print Form'!E1084)","v":0},{"$f":"SUMIFS('SO Analysis'!F:F,'SO Analysis'!B:B,'Print Form'!C1084,'SO Analysis'!D:D,'Print Form'!E1084)","v":0},{"$f":"SUMIFS('SO Analysis'!G:G,'SO Analysis'!B:B,'Print Form'!C1084,'SO Analysis'!D:D,'Print Form'!E1084)","v":0}]
[null,"",null,null,null,{"$f":"SUMIFS('SO Analysis'!E:E,'SO Analysis'!B:B,'Print Form'!C1085,'SO Analysis'!D:D,'Print Form'!E1085)","v":0},{"$f":"SUMIFS('SO Analysis'!F:F,'SO Analysis'!B:B,'Print Form'!C1085,'SO Analysis'!D:D,'Print Form'!E1085)","v":0},{"$f":"SUMIFS('SO Analysis'!G:G,'SO Analysis'!B:B,'Print Form'!C1085,'SO Analysis'!D:D,'Print Form'!E1085)","v":0}]
[null,"",null,null,null,{"$f":"SUMIFS('SO Analysis'!E:E,'SO Analysis'!B:B,'Print Form'!C1086,'SO Analysis'!D:D,'Print Form'!E1086)","v":0},{"$f":"SUMIFS('SO Analysis'!F:F,'SO Analysis'!B:B,'Print Form'!C1086,'SO Analysis'!D:D,'Print Form'!E1086)","v":0},{"$f":"SUMIFS('SO Analysis'!G:G,'SO Analysis'!B:B,'Print Form'!C1086,'SO Analysis'!D:D,'Print Form'!E1086)","v":0}]
[null,"",null,null,null,{"$f":"SUMIFS('SO Analysis'!E:E,'SO Analysis'!B:B,'Print Form'!C1087,'SO Analysis'!D:D,'Print Form'!E1087)","v":0},{"$f":"SUMIFS('SO Analysis'!F:F,'SO Analysis'!B:B,'Print Form'!C1087,'SO Analysis'!D:D,'Print Form'!E1087)","v":0},{"$f":"SUMIFS('SO Analysis'!G:G,'SO Analysis'!B:B,'Print Form'!C1087,'SO Analysis'!D:D,'Print Form'!E1087)","v":0}]
[null,"",null,null,null,{"$f":"SUMIFS('SO Analysis'!E:E,'SO Analysis'!B:B,'Print Form'!C1088,'SO Analysis'!D:D,'Print Form'!E1088)","v":0},{"$f":"SUMIFS('SO Analysis'!F:F,'SO Analysis'!B:B,'Print Form'!C1088,'SO Analysis'!D:D,'Print Form'!E1088)","v":0},{"$f":"SUMIFS('SO Analysis'!G:G,'SO Analysis'!B:B,'Print Form'!C1088,'SO Analysis'!D:D,'Print Form'!E1088)","v":0}]
[null,"",null,null,null,{"$f":"SUMIFS('SO Analysis'!E:E,'SO Analysis'!B:B,'Print Form'!C1089,'SO Analysis'!D:D,'Print Form'!E1089)","v":0},{"$f":"SUMIFS('SO Analysis'!F:F,'SO Analysis'!B:B,'Print Form'!C1089,'SO Analysis'!D:D,'Print Form'!E1089)","v":0},{"$f":"SUMIFS('SO Analysis'!G:G,'SO Analysis'!B:B,'Print Form'!C1089,'SO Analysis'!D:D,'Print Form'!E1089)","v":0}]
[null,"",null,null,null,{"$f":"SUMIFS('SO Analysis'!E:E,'SO Analysis'!B:B,'Print Form'!C1090,'SO Analysis'!D:D,'Print Form'!E1090)","v":0},{"$f":"SUMIFS('SO Analysis'!F:F,'SO Analysis'!B:B,'Print Form'!C1090,'SO Analysis'!D:D,'Print Form'!E1090)","v":0},{"$f":"SUMIFS('SO Analysis'!G:G,'SO Analysis'!B:B,'Print Form'!C1090,'SO Analysis'!D:D,'Print Form'!E1090)","v":0}]
[null,"",null,null,null,{"$f":"SUMIFS('SO Analysis'!E:E,'SO Analysis'!B:B,'Print Form'!C1091,'SO Analysis'!D:D,'Print Form'!E1091)","v":0},{"$f":"SUMIFS('SO Analysis'!F:F,'SO Analysis'!B:B,'Print Form'!C1091,'SO Analysis'!D:D,'Print Form'!E1091)","v":0},{"$f":"SUMIFS('SO Analysis'!G:G,'SO Analysis'!B:B,'Print Form'!C1091,'SO Analysis'!D:D,'Print Form'!E1091)","v":0}]
[null,"",null,null,null,{"$f":"SUMIFS('SO Analysis'!E:E,'SO Analysis'!B:B,'Print Form'!C1092,'SO Analysis'!D:D,'Print Form'!E1092)","v":0},{"$f":"SUMIFS('SO Analysis'!F:F,'SO Analysis'!B:B,'Print Form'!C1092,'SO Analysis'!D:D,'Print Form'!E1092)","v":0},{"$f":"SUMIFS('SO Analysis'!G:G,'SO Analysis'!B:B,'Print Form'!C1092,'SO Analysis'!D:D,'Print Form'!E1092)","v":0}]
[null,"",null,null,null,{"$f":"SUMIFS('SO Analysis'!E:E,'SO Analysis'!B:B,'Print Form'!C1093,'SO Analysis'!D:D,'Print Form'!E1093)","v":0},{"$f":"SUMIFS('SO Analysis'!F:F,'SO Analysis'!B:B,'Print Form'!C1093,'SO Analysis'!D:D,'Print Form'!E1093)","v":0},{"$f":"SUMIFS('SO Analysis'!G:G,'SO Analysis'!B:B,'Print Form'!C1093,'SO Analysis'!D:D,'Print Form'!E1093)","v":0}]
[null,"",null,null,null,{"$f":"SUMIFS('SO Analysis'!E:E,'SO Analysis'!B:B,'Print Form'!C1094,'SO Analysis'!D:D,'Print Form'!E1094)","v":0},{"$f":"SUMIFS('SO Analysis'!F:F,'SO Analysis'!B:B,'Print Form'!C1094,'SO Analysis'!D:D,'Print Form'!E1094)","v":0},{"$f":"SUMIFS('SO Analysis'!G:G,'SO Analysis'!B:B,'Print Form'!C1094,'SO Analysis'!D:D,'Print Form'!E1094)","v":0}]
[null,"",null,null,null,{"$f":"SUMIFS('SO Analysis'!E:E,'SO Analysis'!B:B,'Print Form'!C1095,'SO Analysis'!D:D,'Print Form'!E1095)","v":0},{"$f":"SUMIFS('SO Analysis'!F:F,'SO Analysis'!B:B,'Print Form'!C1095,'SO Analysis'!D:D,'Print Form'!E1095)","v":0},{"$f":"SUMIFS('SO Analysis'!G:G,'SO Analysis'!B:B,'Print Form'!C1095,'SO Analysis'!D:D,'Print Form'!E1095)","v":0}]
[null,"",null,null,null,{"$f":"SUMIFS('SO Analysis'!E:E,'SO Analysis'!B:B,'Print Form'!C1096,'SO Analysis'!D:D,'Print Form'!E1096)","v":0},{"$f":"SUMIFS('SO Analysis'!F:F,'SO Analysis'!B:B,'Print Form'!C1096,'SO Analysis'!D:D,'Print Form'!E1096)","v":0},{"$f":"SUMIFS('SO Analysis'!G:G,'SO Analysis'!B:B,'Print Form'!C1096,'SO Analysis'!D:D,'Print Form'!E1096)","v":0}]
[null,"",null,null,null,{"$f":"SUMIFS('SO Analysis'!E:E,'SO Analysis'!B:B,'Print Form'!C1097,'SO Analysis'!D:D,'Print Form'!E1097)","v":0},{"$f":"SUMIFS('SO Analysis'!F:F,'SO Analysis'!B:B,'Print Form'!C1097,'SO Analysis'!D:D,'Print Form'!E1097)","v":0},{"$f":"SUMIFS('SO Analysis'!G:G,'SO Analysis'!B:B,'Print Form'!C1097,'SO Analysis'!D:D,'Print Form'!E1097)","v":0}]
[null,"",null,null,null,{"$f":"SUMIFS('SO Analysis'!E:E,'SO Analysis'!B:B,'Print Form'!C1098,'SO Analysis'!D:D,'Print Form'!E1098)","v":0},{"$f":"SUMIFS('SO Analysis'!F:F,'SO Analysis'!B:B,'Print Form'!C1098,'SO Analysis'!D:D,'Print Form'!E1098)","v":0},{"$f":"SUMIFS('SO Analysis'!G:G,'SO Analysis'!B:B,'Print Form'!C1098,'SO Analysis'!D:D,'Print Form'!E1098)","v":0}]
[null,"",null,null,null,{"$f":"SUMIFS('SO Analysis'!E:E,'SO Analysis'!B:B,'Print Form'!C1099,'SO Analysis'!D:D,'Print Form'!E1099)","v":0},{"$f":"SUMIFS('SO Analysis'!F:F,'SO Analysis'!B:B,'Print Form'!C1099,'SO Analysis'!D:D,'Print Form'!E1099)","v":0},{"$f":"SUMIFS('SO Analysis'!G:G,'SO Analysis'!B:B,'Print Form'!C1099,'SO Analysis'!D:D,'Print Form'!E1099)","v":0}]
[null,"",null,null,null,{"$f":"SUMIFS('SO Analysis'!E:E,'SO Analysis'!B:B,'Print Form'!C1100,'SO Analysis'!D:D,'Print Form'!E1100)","v":0},{"$f":"SUMIFS('SO Analysis'!F:F,'SO Analysis'!B:B,'Print Form'!C1100,'SO Analysis'!D:D,'Print Form'!E1100)","v":0},{"$f":"SUMIFS('SO Analysis'!G:G,'SO Analysis'!B:B,'Print Form'!C1100,'SO Analysis'!D:D,'Print Form'!E1100)","v":0}]
[null,"",null,null,null,{"$f":"SUMIFS('SO Analysis'!E:E,'SO Analysis'!B:B,'Print Form'!C1101,'SO Analysis'!D:D,'Print Form'!E1101)","v":0},{"$f":"SUMIFS('SO Analysis'!F:F,'SO Analysis'!B:B,'Print Form'!C1101,'SO Analysis'!D:D,'Print Form'!E1101)","v":0},{"$f":"SUMIFS('SO Analysis'!G:G,'SO Analysis'!B:B,'Print Form'!C1101,'SO Analysis'!D:D,'Print Form'!E1101)","v":0}]
[null,{"$f":"IF(C1102=\"\",\"\",ROW()-12)","v":""},null,null,null,{"$f":"SUMIFS('SO Analysis'!E:E,'SO Analysis'!B:B,'Print Form'!C1102,'SO Analysis'!D:D,'Print Form'!E1102)","v":0},{"$f":"SUMIFS('SO Analysis'!F:F,'SO Analysis'!B:B,'Print Form'!C1102,'SO Analysis'!D:D,'Print Form'!E1102)","v":0},{"$f":"SUMIFS('SO Analysis'!G:G,'SO Analysis'!B:B,'Print Form'!C1102,'SO Analysis'!D:D,'Print Form'!E1102)","v":0}]
[null,"",null,null,null,{"$f":"SUMIFS('SO Analysis'!E:E,'SO Analysis'!B:B,'Print Form'!C1103,'SO Analysis'!D:D,'Print Form'!E1103)","v":0},{"$f":"SUMIFS('SO Analysis'!F:F,'SO Analysis'!B:B,'Print Form'!C1103,'SO Analysis'!D:D,'Print Form'!E1103)","v":0},{"$f":"SUMIFS('SO Analysis'!G:G,'SO Analysis'!B:B,'Print Form'!C1103,'SO Analysis'!D:D,'Print Form'!E1103)","v":0}]
[null,"",null,null,null,{"$f":"SUMIFS('SO Analysis'!E:E,'SO Analysis'!B:B,'Print Form'!C1104,'SO Analysis'!D:D,'Print Form'!E1104)","v":0},{"$f":"SUMIFS('SO Analysis'!F:F,'SO Analysis'!B:B,'Print Form'!C1104,'SO Analysis'!D:D,'Print Form'!E1104)","v":0},{"$f":"SUMIFS('SO Analysis'!G:G,'SO Analysis'!B:B,'Print Form'!C1104,'SO Analysis'!D:D,'Print Form'!E1104)","v":0}]
[null,"",null,null,null,{"$f":"SUMIFS('SO Analysis'!E:E,'SO Analysis'!B:B,'Print Form'!C1105,'SO Analysis'!D:D,'Print Form'!E1105)","v":0},{"$f":"SUMIFS('SO Analysis'!F:F,'SO Analysis'!B:B,'Print Form'!C1105,'SO Analysis'!D:D,'Print Form'!E1105)","v":0},{"$f":"SUMIFS('SO Analysis'!G:G,'SO Analysis'!B:B,'Print Form'!C1105,'SO Analysis'!D:D,'Print Form'!E1105)","v":0}]
[null,"",null,null,null,{"$f":"SUMIFS('SO Analysis'!E:E,'SO Analysis'!B:B,'Print Form'!C1106,'SO Analysis'!D:D,'Print Form'!E1106)","v":0},{"$f":"SUMIFS('SO Analysis'!F:F,'SO Analysis'!B:B,'Print Form'!C1106,'SO Analysis'!D:D,'Print Form'!E1106)","v":0},{"$f":"SUMIFS('SO Analysis'!G:G,'SO Analysis'!B:B,'Print Form'!C1106,'SO Analysis'!D:D,'Print Form'!E1106)","v":0}]
[null,"",null,null,null,{"$f":"SUMIFS('SO Analysis'!E:E,'SO Analysis'!B:B,'Print Form'!C1107,'SO Analysis'!D:D,'Print Form'!E1107)","v":0},{"$f":"SUMIFS('SO Analysis'!F:F,'SO Analysis'!B:B,'Print Form'!C1107,'SO Analysis'!D:D,'Print Form'!E1107)","v":0},{"$f":"SUMIFS('SO Analysis'!G:G,'SO Analysis'!B:B,'Print Form'!C1107,'SO Analysis'!D:D,'Print Form'!E1107)","v":0}]
[null,"",null,null,null,{"$f":"SUMIFS('SO Analysis'!E:E,'SO Analysis'!B:B,'Print Form'!C1108,'SO Analysis'!D:D,'Print Form'!E1108)","v":0},{"$f":"SUMIFS('SO Analysis'!F:F,'SO Analysis'!B:B,'Print Form'!C1108,'SO Analysis'!D:D,'Print Form'!E1108)","v":0},{"$f":"SUMIFS('SO Analysis'!G:G,'SO Analysis'!B:B,'Print Form'!C1108,'SO Analysis'!D:D,'Print Form'!E1108)","v":0}]
[null,"",null,null,null,{"$f":"SUMIFS('SO Analysis'!E:E,'SO Analysis'!B:B,'Print Form'!C1109,'SO Analysis'!D:D,'Print Form'!E1109)","v":0},{"$f":"SUMIFS('SO Analysis'!F:F,'SO Analysis'!B:B,'Print Form'!C1109,'SO Analysis'!D:D,'Print Form'!E1109)","v":0},{"$f":"SUMIFS('SO Analysis'!G:G,'SO Analysis'!B:B,'Print Form'!C1109,'SO Analysis'!D:D,'Print Form'!E1109)","v":0}]
[null,"",null,null,null,{"$f":"SUMIFS('SO Analysis'!E:E,'SO Analysis'!B:B,'Print Form'!C1110,'SO Analysis'!D:D,'Print Form'!E1110)","v":0},{"$f":"SUMIFS('SO Analysis'!F:F,'SO Analysis'!B:B,'Print Form'!C1110,'SO Analysis'!D:D,'Print Form'!E1110)","v":0},{"$f":"SUMIFS('SO Analysis'!G:G,'SO Analysis'!B:B,'Print Form'!C1110,'SO Analysis'!D:D,'Print Form'!E1110)","v":0}]
[null,"",null,null,null,{"$f":"SUMIFS('SO Analysis'!E:E,'SO Analysis'!B:B,'Print Form'!C1111,'SO Analysis'!D:D,'Print Form'!E1111)","v":0},{"$f":"SUMIFS('SO Analysis'!F:F,'SO Analysis'!B:B,'Print Form'!C1111,'SO Analysis'!D:D,'Print Form'!E1111)","v":0},{"$f":"SUMIFS('SO Analysis'!G:G,'SO Analysis'!B:B,'Print Form'!C1111,'SO Analysis'!D:D,'Print Form'!E1111)","v":0}]
[null,"",null,null,null,{"$f":"SUMIFS('SO Analysis'!E:E,'SO Analysis'!B:B,'Print Form'!C1112,'SO Analysis'!D:D,'Print Form'!E1112)","v":0},{"$f":"SUMIFS('SO Analysis'!F:F,'SO Analysis'!B:B,'Print Form'!C1112,'SO Analysis'!D:D,'Print Form'!E1112)","v":0},{"$f":"SUMIFS('SO Analysis'!G:G,'SO Analysis'!B:B,'Print Form'!C1112,'SO Analysis'!D:D,'Print Form'!E1112)","v":0}]
[null,"",null,null,null,{"$f":"SUMIFS('SO Analysis'!E:E,'SO Analysis'!B:B,'Print Form'!C1113,'SO Analysis'!D:D,'Print Form'!E1113)","v":0},{"$f":"SUMIFS('SO Analysis'!F:F,'SO Analysis'!B:B,'Print Form'!C1113,'SO Analysis'!D:D,'Print Form'!E1113)","v":0},{"$f":"SUMIFS('SO Analysis'!G:G,'SO Analysis'!B:B,'Print Form'!C1113,'SO Analysis'!D:D,'Print Form'!E1113)","v":0}]
[null,"",null,null,null,{"$f":"SUMIFS('SO Analysis'!E:E,'SO Analysis'!B:B,'Print Form'!C1114,'SO Analysis'!D:D,'Print Form'!E1114)","v":0},{"$f":"SUMIFS('SO Analysis'!F:F,'SO Analysis'!B:B,'Print Form'!C1114,'SO Analysis'!D:D,'Print Form'!E1114)","v":0},{"$f":"SUMIFS('SO Analysis'!G:G,'SO Analysis'!B:B,'Print Form'!C1114,'SO Analysis'!D:D,'Print Form'!E1114)","v":0}]
[null,"",null,null,null,{"$f":"SUMIFS('SO Analysis'!E:E,'SO Analysis'!B:B,'Print Form'!C1115,'SO Analysis'!D:D,'Print Form'!E1115)","v":0},{"$f":"SUMIFS('SO Analysis'!F:F,'SO Analysis'!B:B,'Print Form'!C1115,'SO Analysis'!D:D,'Print Form'!E1115)","v":0},{"$f":"SUMIFS('SO Analysis'!G:G,'SO Analysis'!B:B,'Print Form'!C1115,'SO Analysis'!D:D,'Print Form'!E1115)","v":0}]
[null,"",null,null,null,{"$f":"SUMIFS('SO Analysis'!E:E,'SO Analysis'!B:B,'Print Form'!C1116,'SO Analysis'!D:D,'Print Form'!E1116)","v":0},{"$f":"SUMIFS('SO Analysis'!F:F,'SO Analysis'!B:B,'Print Form'!C1116,'SO Analysis'!D:D,'Print Form'!E1116)","v":0},{"$f":"SUMIFS('SO Analysis'!G:G,'SO Analysis'!B:B,'Print Form'!C1116,'SO Analysis'!D:D,'Print Form'!E1116)","v":0}]
[null,"",null,null,null,{"$f":"SUMIFS('SO Analysis'!E:E,'SO Analysis'!B:B,'Print Form'!C1117,'SO Analysis'!D:D,'Print Form'!E1117)","v":0},{"$f":"SUMIFS('SO Analysis'!F:F,'SO Analysis'!B:B,'Print Form'!C1117,'SO Analysis'!D:D,'Print Form'!E1117)","v":0},{"$f":"SUMIFS('SO Analysis'!G:G,'SO Analysis'!B:B,'Print Form'!C1117,'SO Analysis'!D:D,'Print Form'!E1117)","v":0}]
[null,"",null,null,null,{"$f":"SUMIFS('SO Analysis'!E:E,'SO Analysis'!B:B,'Print Form'!C1118,'SO Analysis'!D:D,'Print Form'!E1118)","v":0},{"$f":"SUMIFS('SO Analysis'!F:F,'SO Analysis'!B:B,'Print Form'!C1118,'SO Analysis'!D:D,'Print Form'!E1118)","v":0},{"$f":"SUMIFS('SO Analysis'!G:G,'SO Analysis'!B:B,'Print Form'!C1118,'SO Analysis'!D:D,'Print Form'!E1118)","v":0}]
[null,"",null,null,null,{"$f":"SUMIFS('SO Analysis'!E:E,'SO Analysis'!B:B,'Print Form'!C1119,'SO Analysis'!D:D,'Print Form'!E1119)","v":0},{"$f":"SUMIFS('SO Analysis'!F:F,'SO Analysis'!B:B,'Print Form'!C1119,'SO Analysis'!D:D,'Print Form'!E1119)","v":0},{"$f":"SUMIFS('SO Analysis'!G:G,'SO Analysis'!B:B,'Print Form'!C1119,'SO Analysis'!D:D,'Print Form'!E1119)","v":0}]
[null,"",null,null,null,{"$f":"SUMIFS('SO Analysis'!E:E,'SO Analysis'!B:B,'Print Form'!C1120,'SO Analysis'!D:D,'Print Form'!E1120)","v":0},{"$f":"SUMIFS('SO Analysis'!F:F,'SO Analysis'!B:B,'Print Form'!C1120,'SO Analysis'!D:D,'Print Form'!E1120)","v":0},{"$f":"SUMIFS('SO Analysis'!G:G,'SO Analysis'!B:B,'Print Form'!C1120,'SO Analysis'!D:D,'Print Form'!E1120)","v":0}]
[null,"",null,null,null,{"$f":"SUMIFS('SO Analysis'!E:E,'SO Analysis'!B:B,'Print Form'!C1121,'SO Analysis'!D:D,'Print Form'!E1121)","v":0},{"$f":"SUMIFS('SO Analysis'!F:F,'SO Analysis'!B:B,'Print Form'!C1121,'SO Analysis'!D:D,'Print Form'!E1121)","v":0},{"$f":"SUMIFS('SO Analysis'!G:G,'SO Analysis'!B:B,'Print Form'!C1121,'SO Analysis'!D:D,'Print Form'!E1121)","v":0}]
[null,"",null,null,null,{"$f":"SUMIFS('SO Analysis'!E:E,'SO Analysis'!B:B,'Print Form'!C1122,'SO Analysis'!D:D,'Print Form'!E1122)","v":0},{"$f":"SUMIFS('SO Analysis'!F:F,'SO Analysis'!B:B,'Print Form'!C1122,'SO Analysis'!D:D,'Print Form'!E1122)","v":0},{"$f":"SUMIFS('SO Analysis'!G:G,'SO Analysis'!B:B,'Print Form'!C1122,'SO Analysis'!D:D,'Print Form'!E1122)","v":0}]
[null,"",null,null,null,{"$f":"SUMIFS('SO Analysis'!E:E,'SO Analysis'!B:B,'Print Form'!C1123,'SO Analysis'!D:D,'Print Form'!E1123)","v":0},{"$f":"SUMIFS('SO Analysis'!F:F,'SO Analysis'!B:B,'Print Form'!C1123,'SO Analysis'!D:D,'Print Form'!E1123)","v":0},{"$f":"SUMIFS('SO Analysis'!G:G,'SO Analysis'!B:B,'Print Form'!C1123,'SO Analysis'!D:D,'Print Form'!E1123)","v":0}]
[null,"",null,null,null,{"$f":"SUMIFS('SO Analysis'!E:E,'SO Analysis'!B:B,'Print Form'!C1124,'SO Analysis'!D:D,'Print Form'!E1124)","v":0},{"$f":"SUMIFS('SO Analysis'!F:F,'SO Analysis'!B:B,'Print Form'!C1124,'SO Analysis'!D:D,'Print Form'!E1124)","v":0},{"$f":"SUMIFS('SO Analysis'!G:G,'SO Analysis'!B:B,'Print Form'!C1124,'SO Analysis'!D:D,'Print Form'!E1124)","v":0}]
[null,"",null,null,null,{"$f":"SUMIFS('SO Analysis'!E:E,'SO Analysis'!B:B,'Print Form'!C1125,'SO Analysis'!D:D,'Print Form'!E1125)","v":0},{"$f":"SUMIFS('SO Analysis'!F:F,'SO Analysis'!B:B,'Print Form'!C1125,'SO Analysis'!D:D,'Print Form'!E1125)","v":0},{"$f":"SUMIFS('SO Analysis'!G:G,'SO Analysis'!B:B,'Print Form'!C1125,'SO Analysis'!D:D,'Print Form'!E1125)","v":0}]
[null,"",null,null,null,{"$f":"SUMIFS('SO Analysis'!E:E,'SO Analysis'!B:B,'Print Form'!C1126,'SO Analysis'!D:D,'Print Form'!E1126)","v":0},{"$f":"SUMIFS('SO Analysis'!F:F,'SO Analysis'!B:B,'Print Form'!C1126,'SO Analysis'!D:D,'Print Form'!E1126)","v":0},{"$f":"SUMIFS('SO Analysis'!G:G,'SO Analysis'!B:B,'Print Form'!C1126,'SO Analysis'!D:D,'Print Form'!E1126)","v":0}]
[null,"",null,null,null,{"$f":"SUMIFS('SO Analysis'!E:E,'SO Analysis'!B:B,'Print Form'!C1127,'SO Analysis'!D:D,'Print Form'!E1127)","v":0},{"$f":"SUMIFS('SO Analysis'!F:F,'SO Analysis'!B:B,'Print Form'!C1127,'SO Analysis'!D:D,'Print Form'!E1127)","v":0},{"$f":"SUMIFS('SO Analysis'!G:G,'SO Analysis'!B:B,'Print Form'!C1127,'SO Analysis'!D:D,'Print Form'!E1127)","v":0}]
[null,"",null,null,null,{"$f":"SUMIFS('SO Analysis'!E:E,'SO Analysis'!B:B,'Print Form'!C1128,'SO Analysis'!D:D,'Print Form'!E1128)","v":0},{"$f":"SUMIFS('SO Analysis'!F:F,'SO Analysis'!B:B,'Print Form'!C1128,'SO Analysis'!D:D,'Print Form'!E1128)","v":0},{"$f":"SUMIFS('SO Analysis'!G:G,'SO Analysis'!B:B,'Print Form'!C1128,'SO Analysis'!D:D,'Print Form'!E1128)","v":0}]
[null,"",null,null,null,{"$f":"SUMIFS('SO Analysis'!E:E,'SO Analysis'!B:B,'Print Form'!C1129,'SO Analysis'!D:D,'Print Form'!E1129)","v":0},{"$f":"SUMIFS('SO Analysis'!F:F,'SO Analysis'!B:B,'Print Form'!C1129,'SO Analysis'!D:D,'Print Form'!E1129)","v":0},{"$f":"SUMIFS('SO Analysis'!G:G,'SO Analysis'!B:B,'Print Form'!C1129,'SO Analysis'!D:D,'Print Form'!E1129)","v":0}]
[null,"",null,null,null,{"$f":"SUMIFS('SO Analysis'!E:E,'SO Analysis'!B:B,'Print Form'!C1130,'SO Analysis'!D:D,'Print Form'!E1130)","v":0},{"$f":"SUMIFS('SO Analysis'!F:F,'SO Analysis'!B:B,'Print Form'!C1130,'SO Analysis'!D:D,'Print Form'!E1130)","v":0},{"$f":"SUMIFS('SO Analysis'!G:G,'SO Analysis'!B:B,'Print Form'!C1130,'SO Analysis'!D:D,'Print Form'!E1130)","v":0}]
[null,"",null,null,null,{"$f":"SUMIFS('SO Analysis'!E:E,'SO Analysis'!B:B,'Print Form'!C1131,'SO Analysis'!D:D,'Print Form'!E1131)","v":0},{"$f":"SUMIFS('SO Analysis'!F:F,'SO Analysis'!B:B,'Print Form'!C1131,'SO Analysis'!D:D,'Print Form'!E1131)","v":0},{"$f":"SUMIFS('SO Analysis'!G:G,'SO Analysis'!B:B,'Print Form'!C1131,'SO Analysis'!D:D,'Print Form'!E1131)","v":0}]
[null,"",null,null,null,{"$f":"SUMIFS('SO Analysis'!E:E,'SO Analysis'!B:B,'Print Form'!C1132,'SO Analysis'!D:D,'Print Form'!E1132)","v":0},{"$f":"SUMIFS('SO Analysis'!F:F,'SO Analysis'!B:B,'Print Form'!C1132,'SO Analysis'!D:D,'Print Form'!E1132)","v":0},{"$f":"SUMIFS('SO Analysis'!G:G,'SO Analysis'!B:B,'Print Form'!C1132,'SO Analysis'!D:D,'Print Form'!E1132)","v":0}]
[null,"",null,null,null,{"$f":"SUMIFS('SO Analysis'!E:E,'SO Analysis'!B:B,'Print Form'!C1133,'SO Analysis'!D:D,'Print Form'!E1133)","v":0},{"$f":"SUMIFS('SO Analysis'!F:F,'SO Analysis'!B:B,'Print Form'!C1133,'SO Analysis'!D:D,'Print Form'!E1133)","v":0},{"$f":"SUMIFS('SO Analysis'!G:G,'SO Analysis'!B:B,'Print Form'!C1133,'SO Analysis'!D:D,'Print Form'!E1133)","v":0}]
[null,"",null,null,null,{"$f":"SUMIFS('SO Analysis'!E:E,'SO Analysis'!B:B,'Print Form'!C1134,'SO Analysis'!D:D,'Print Form'!E1134)","v":0},{"$f":"SUMIFS('SO Analysis'!F:F,'SO Analysis'!B:B,'Print Form'!C1134,'SO Analysis'!D:D,'Print Form'!E1134)","v":0},{"$f":"SUMIFS('SO Analysis'!G:G,'SO Analysis'!B:B,'Print Form'!C1134,'SO Analysis'!D:D,'Print Form'!E1134)","v":0}]
[null,"",null,null,null,{"$f":"SUMIFS('SO Analysis'!E:E,'SO Analysis'!B:B,'Print Form'!C1135,'SO Analysis'!D:D,'Print Form'!E1135)","v":0},{"$f":"SUMIFS('SO Analysis'!F:F,'SO Analysis'!B:B,'Print Form'!C1135,'SO Analysis'!D:D,'Print Form'!E1135)","v":0},{"$f":"SUMIFS('SO Analysis'!G:G,'SO Analysis'!B:B,'Print Form'!C1135,'SO Analysis'!D:D,'Print Form'!E1135)","v":0}]
[null,"",null,null,null,{"$f":"SUMIFS('SO Analysis'!E:E,'SO Analysis'!B:B,'Print Form'!C1136,'SO Analysis'!D:D,'Print Form'!E1136)","v":0},{"$f":"SUMIFS('SO Analysis'!F:F,'SO Analysis'!B:B,'Print Form'!C1136,'SO Analysis'!D:D,'Print Form'!E1136)","v":0},{"$f":"SUMIFS('SO Analysis'!G:G,'SO Analysis'!B:B,'Print Form'!C1136,'SO Analysis'!D:D,'Print Form'!E1136)","v":0}]
[null,"",null,null,null,{"$f":"SUMIFS('SO Analysis'!E:E,'SO Analysis'!B:B,'Print Form'!C1137,'SO Analysis'!D:D,'Print Form'!E1137)","v":0},{"$f":"SUMIFS('SO Analysis'!F:F,'SO Analysis'!B:B,'Print Form'!C1137,'SO Analysis'!D:D,'Print Form'!E1137)","v":0},{"$f":"SUMIFS('SO Analysis'!G:G,'SO Analysis'!B:B,'Print Form'!C1137,'SO Analysis'!D:D,'Print Form'!E1137)","v":0}]
[null,"",null,null,null,{"$f":"SUMIFS('SO Analysis'!E:E,'SO Analysis'!B:B,'Print Form'!C1138,'SO Analysis'!D:D,'Print Form'!E1138)","v":0},{"$f":"SUMIFS('SO Analysis'!F:F,'SO Analysis'!B:B,'Print Form'!C1138,'SO Analysis'!D:D,'Print Form'!E1138)","v":0},{"$f":"SUMIFS('SO Analysis'!G:G,'SO Analysis'!B:B,'Print Form'!C1138,'SO Analysis'!D:D,'Print Form'!E1138)","v":0}]
[null,"",null,null,null,{"$f":"SUMIFS('SO Analysis'!E:E,'SO Analysis'!B:B,'Print Form'!C1139,'SO Analysis'!D:D,'Print Form'!E1139)","v":0},{"$f":"SUMIFS('SO Analysis'!F:F,'SO Analysis'!B:B,'Print Form'!C1139,'SO Analysis'!D:D,'Print Form'!E1139)","v":0},{"$f":"SUMIFS('SO Analysis'!G:G,'SO Analysis'!B:B,'Print Form'!C1139,'SO Analysis'!D:D,'Print Form'!E1139)","v":0}]
[null,"",null,null,null,{"$f":"SUMIFS('SO Analysis'!E:E,'SO Analysis'!B:B,'Print Form'!C1140,'SO Analysis'!D:D,'Print Form'!E1140)","v":0},{"$f":"SUMIFS('SO Analysis'!F:F,'SO Analysis'!B:B,'Print Form'!C1140,'SO Analysis'!D:D,'Print Form'!E1140)","v":0},{"$f":"SUMIFS('SO Analysis'!G:G,'SO Analysis'!B:B,'Print Form'!C1140,'SO Analysis'!D:D,'Print Form'!E1140)","v":0}]
[null,"",null,null,null,{"$f":"SUMIFS('SO Analysis'!E:E,'SO Analysis'!B:B,'Print Form'!C1141,'SO Analysis'!D:D,'Print Form'!E1141)","v":0},{"$f":"SUMIFS('SO Analysis'!F:F,'SO Analysis'!B:B,'Print Form'!C1141,'SO Analysis'!D:D,'Print Form'!E1141)","v":0},{"$f":"SUMIFS('SO Analysis'!G:G,'SO Analysis'!B:B,'Print Form'!C1141,'SO Analysis'!D:D,'Print Form'!E1141)","v":0}]
[null,"",null,null,null,{"$f":"SUMIFS('SO Analysis'!E:E,'SO Analysis'!B:B,'Print Form'!C1142,'SO Analysis'!D:D,'Print Form'!E1142)","v":0},{"$f":"SUMIFS('SO Analysis'!F:F,'SO Analysis'!B:B,'Print Form'!C1142,'SO Analysis'!D:D,'Print Form'!E1142)","v":0},{"$f":"SUMIFS('SO Analysis'!G:G,'SO Analysis'!B:B,'Print Form'!C1142,'SO Analysis'!D:D,'Print Form'!E1142)","v":0}]
[null,"",null,null,null,{"$f":"SUMIFS('SO Analysis'!E:E,'SO Analysis'!B:B,'Print Form'!C1143,'SO Analysis'!D:D,'Print Form'!E1143)","v":0},{"$f":"SUMIFS('SO Analysis'!F:F,'SO Analysis'!B:B,'Print Form'!C1143,'SO Analysis'!D:D,'Print Form'!E1143)","v":0},{"$f":"SUMIFS('SO Analysis'!G:G,'SO Analysis'!B:B,'Print Form'!C1143,'SO Analysis'!D:D,'Print Form'!E1143)","v":0}]
[null,"",null,null,null,{"$f":"SUMIFS('SO Analysis'!E:E,'SO Analysis'!B:B,'Print Form'!C1144,'SO Analysis'!D:D,'Print Form'!E1144)","v":0},{"$f":"SUMIFS('SO Analysis'!F:F,'SO Analysis'!B:B,'Print Form'!C1144,'SO Analysis'!D:D,'Print Form'!E1144)","v":0},{"$f":"SUMIFS('SO Analysis'!G:G,'SO Analysis'!B:B,'Print Form'!C1144,'SO Analysis'!D:D,'Print Form'!E1144)","v":0}]
[null,"",null,null,null,{"$f":"SUMIFS('SO Analysis'!E:E,'SO Analysis'!B:B,'Print Form'!C1145,'SO Analysis'!D:D,'Print Form'!E1145)","v":0},{"$f":"SUMIFS('SO Analysis'!F:F,'SO Analysis'!B:B,'Print Form'!C1145,'SO Analysis'!D:D,'Print Form'!E1145)","v":0},{"$f":"SUMIFS('SO Analysis'!G:G,'SO Analysis'!B:B,'Print Form'!C1145,'SO Analysis'!D:D,'Print Form'!E1145)","v":0}]
[null,"",null,null,null,{"$f":"SUMIFS('SO Analysis'!E:E,'SO Analysis'!B:B,'Print Form'!C1146,'SO Analysis'!D:D,'Print Form'!E1146)","v":0},{"$f":"SUMIFS('SO Analysis'!F:F,'SO Analysis'!B:B,'Print Form'!C1146,'SO Analysis'!D:D,'Print Form'!E1146)","v":0},{"$f":"SUMIFS('SO Analysis'!G:G,'SO Analysis'!B:B,'Print Form'!C1146,'SO Analysis'!D:D,'Print Form'!E1146)","v":0}]
[null,"",null,null,null,{"$f":"SUMIFS('SO Analysis'!E:E,'SO Analysis'!B:B,'Print Form'!C1147,'SO Analysis'!D:D,'Print Form'!E1147)","v":0},{"$f":"SUMIFS('SO Analysis'!F:F,'SO Analysis'!B:B,'Print Form'!C1147,'SO Analysis'!D:D,'Print Form'!E1147)","v":0},{"$f":"SUMIFS('SO Analysis'!G:G,'SO Analysis'!B:B,'Print Form'!C1147,'SO Analysis'!D:D,'Print Form'!E1147)","v":0}]
[null,"",null,null,null,{"$f":"SUMIFS('SO Analysis'!E:E,'SO Analysis'!B:B,'Print Form'!C1148,'SO Analysis'!D:D,'Print Form'!E1148)","v":0},{"$f":"SUMIFS('SO Analysis'!F:F,'SO Analysis'!B:B,'Print Form'!C1148,'SO Analysis'!D:D,'Print Form'!E1148)","v":0},{"$f":"SUMIFS('SO Analysis'!G:G,'SO Analysis'!B:B,'Print Form'!C1148,'SO Analysis'!D:D,'Print Form'!E1148)","v":0}]
[null,"",null,null,null,{"$f":"SUMIFS('SO Analysis'!E:E,'SO Analysis'!B:B,'Print Form'!C1149,'SO Analysis'!D:D,'Print Form'!E1149)","v":0},{"$f":"SUMIFS('SO Analysis'!F:F,'SO Analysis'!B:B,'Print Form'!C1149,'SO Analysis'!D:D,'Print Form'!E1149)","v":0},{"$f":"SUMIFS('SO Analysis'!G:G,'SO Analysis'!B:B,'Print Form'!C1149,'SO Analysis'!D:D,'Print Form'!E1149)","v":0}]
[null,"",null,null,null,{"$f":"SUMIFS('SO Analysis'!E:E,'SO Analysis'!B:B,'Print Form'!C1150,'SO Analysis'!D:D,'Print Form'!E1150)","v":0},{"$f":"SUMIFS('SO Analysis'!F:F,'SO Analysis'!B:B,'Print Form'!C1150,'SO Analysis'!D:D,'Print Form'!E1150)","v":0},{"$f":"SUMIFS('SO Analysis'!G:G,'SO Analysis'!B:B,'Print Form'!C1150,'SO Analysis'!D:D,'Print Form'!E1150)","v":0}]
[null,"",null,null,null,{"$f":"SUMIFS('SO Analysis'!E:E,'SO Analysis'!B:B,'Print Form'!C1151,'SO Analysis'!D:D,'Print Form'!E1151)","v":0},{"$f":"SUMIFS('SO Analysis'!F:F,'SO Analysis'!B:B,'Print Form'!C1151,'SO Analysis'!D:D,'Print Form'!E1151)","v":0},{"$f":"SUMIFS('SO Analysis'!G:G,'SO Analysis'!B:B,'Print Form'!C1151,'SO Analysis'!D:D,'Print Form'!E1151)","v":0}]
[null,"",null,null,null,{"$f":"SUMIFS('SO Analysis'!E:E,'SO Analysis'!B:B,'Print Form'!C1152,'SO Analysis'!D:D,'Print Form'!E1152)","v":0},{"$f":"SUMIFS('SO Analysis'!F:F,'SO Analysis'!B:B,'Print Form'!C1152,'SO Analysis'!D:D,'Print Form'!E1152)","v":0},{"$f":"SUMIFS('SO Analysis'!G:G,'SO Analysis'!B:B,'Print Form'!C1152,'SO Analysis'!D:D,'Print Form'!E1152)","v":0}]
[null,"",null,null,null,{"$f":"SUMIFS('SO Analysis'!E:E,'SO Analysis'!B:B,'Print Form'!C1153,'SO Analysis'!D:D,'Print Form'!E1153)","v":0},{"$f":"SUMIFS('SO Analysis'!F:F,'SO Analysis'!B:B,'Print Form'!C1153,'SO Analysis'!D:D,'Print Form'!E1153)","v":0},{"$f":"SUMIFS('SO Analysis'!G:G,'SO Analysis'!B:B,'Print Form'!C1153,'SO Analysis'!D:D,'Print Form'!E1153)","v":0}]
[null,"",null,null,null,{"$f":"SUMIFS('SO Analysis'!E:E,'SO Analysis'!B:B,'Print Form'!C1154,'SO Analysis'!D:D,'Print Form'!E1154)","v":0},{"$f":"SUMIFS('SO Analysis'!F:F,'SO Analysis'!B:B,'Print Form'!C1154,'SO Analysis'!D:D,'Print Form'!E1154)","v":0},{"$f":"SUMIFS('SO Analysis'!G:G,'SO Analysis'!B:B,'Print Form'!C1154,'SO Analysis'!D:D,'Print Form'!E1154)","v":0}]
[null,"",null,null,null,{"$f":"SUMIFS('SO Analysis'!E:E,'SO Analysis'!B:B,'Print Form'!C1155,'SO Analysis'!D:D,'Print Form'!E1155)","v":0},{"$f":"SUMIFS('SO Analysis'!F:F,'SO Analysis'!B:B,'Print Form'!C1155,'SO Analysis'!D:D,'Print Form'!E1155)","v":0},{"$f":"SUMIFS('SO Analysis'!G:G,'SO Analysis'!B:B,'Print Form'!C1155,'SO Analysis'!D:D,'Print Form'!E1155)","v":0}]
[null,"",null,null,null,{"$f":"SUMIFS('SO Analysis'!E:E,'SO Analysis'!B:B,'Print Form'!C1156,'SO Analysis'!D:D,'Print Form'!E1156)","v":0},{"$f":"SUMIFS('SO Analysis'!F:F,'SO Analysis'!B:B,'Print Form'!C1156,'SO Analysis'!D:D,'Print Form'!E1156)","v":0},{"$f":"SUMIFS('SO Analysis'!G:G,'SO Analysis'!B:B,'Print Form'!C1156,'SO Analysis'!D:D,'Print Form'!E1156)","v":0}]
[null,"",null,null,null,{"$f":"SUMIFS('SO Analysis'!E:E,'SO Analysis'!B:B,'Print Form'!C1157,'SO Analysis'!D:D,'Print Form'!E1157)","v":0},{"$f":"SUMIFS('SO Analysis'!F:F,'SO Analysis'!B:B,'Print Form'!C1157,'SO Analysis'!D:D,'Print Form'!E1157)","v":0},{"$f":"SUMIFS('SO Analysis'!G:G,'SO Analysis'!B:B,'Print Form'!C1157,'SO Analysis'!D:D,'Print Form'!E1157)","v":0}]
[null,"",null,null,null,{"$f":"SUMIFS('SO Analysis'!E:E,'SO Analysis'!B:B,'Print Form'!C1158,'SO Analysis'!D:D,'Print Form'!E1158)","v":0},{"$f":"SUMIFS('SO Analysis'!F:F,'SO Analysis'!B:B,'Print Form'!C1158,'SO Analysis'!D:D,'Print Form'!E1158)","v":0},{"$f":"SUMIFS('SO Analysis'!G:G,'SO Analysis'!B:B,'Print Form'!C1158,'SO Analysis'!D:D,'Print Form'!E1158)","v":0}]
[null,"",null,null,null,{"$f":"SUMIFS('SO Analysis'!E:E,'SO Analysis'!B:B,'Print Form'!C1159,'SO Analysis'!D:D,'Print Form'!E1159)","v":0},{"$f":"SUMIFS('SO Analysis'!F:F,'SO Analysis'!B:B,'Print Form'!C1159,'SO Analysis'!D:D,'Print Form'!E1159)","v":0},{"$f":"SUMIFS('SO Analysis'!G:G,'SO Analysis'!B:B,'Print Form'!C1159,'SO Analysis'!D:D,'Print Form'!E1159)","v":0}]
[null,"",null,null,null,{"$f":"SUMIFS('SO Analysis'!E:E,'SO Analysis'!B:B,'Print Form'!C1160,'SO Analysis'!D:D,'Print Form'!E1160)","v":0},{"$f":"SUMIFS('SO Analysis'!F:F,'SO Analysis'!B:B,'Print Form'!C1160,'SO Analysis'!D:D,'Print Form'!E1160)","v":0},{"$f":"SUMIFS('SO Analysis'!G:G,'SO Analysis'!B:B,'Print Form'!C1160,'SO Analysis'!D:D,'Print Form'!E1160)","v":0}]
[null,"",null,null,null,{"$f":"SUMIFS('SO Analysis'!E:E,'SO Analysis'!B:B,'Print Form'!C1161,'SO Analysis'!D:D,'Print Form'!E1161)","v":0},{"$f":"SUMIFS('SO Analysis'!F:F,'SO Analysis'!B:B,'Print Form'!C1161,'SO Analysis'!D:D,'Print Form'!E1161)","v":0},{"$f":"SUMIFS('SO Analysis'!G:G,'SO Analysis'!B:B,'Print Form'!C1161,'SO Analysis'!D:D,'Print Form'!E1161)","v":0}]
[null,"",null,null,null,{"$f":"SUMIFS('SO Analysis'!E:E,'SO Analysis'!B:B,'Print Form'!C1162,'SO Analysis'!D:D,'Print Form'!E1162)","v":0},{"$f":"SUMIFS('SO Analysis'!F:F,'SO Analysis'!B:B,'Print Form'!C1162,'SO Analysis'!D:D,'Print Form'!E1162)","v":0},{"$f":"SUMIFS('SO Analysis'!G:G,'SO Analysis'!B:B,'Print Form'!C1162,'SO Analysis'!D:D,'Print Form'!E1162)","v":0}]
[null,"",null,null,null,{"$f":"SUMIFS('SO Analysis'!E:E,'SO Analysis'!B:B,'Print Form'!C1163,'SO Analysis'!D:D,'Print Form'!E1163)","v":0},{"$f":"SUMIFS('SO Analysis'!F:F,'SO Analysis'!B:B,'Print Form'!C1163,'SO Analysis'!D:D,'Print Form'!E1163)","v":0},{"$f":"SUMIFS('SO Analysis'!G:G,'SO Analysis'!B:B,'Print Form'!C1163,'SO Analysis'!D:D,'Print Form'!E1163)","v":0}]
[null,"",null,null,null,{"$f":"SUMIFS('SO Analysis'!E:E,'SO Analysis'!B:B,'Print Form'!C1164,'SO Analysis'!D:D,'Print Form'!E1164)","v":0},{"$f":"SUMIFS('SO Analysis'!F:F,'SO Analysis'!B:B,'Print Form'!C1164,'SO Analysis'!D:D,'Print Form'!E1164)","v":0},{"$f":"SUMIFS('SO Analysis'!G:G,'SO Analysis'!B:B,'Print Form'!C1164,'SO Analysis'!D:D,'Print Form'!E1164)","v":0}]
[null,""]
[null,""]
[null,{"$f":"IF(C1167=\"\",\"\",ROW()-12)","v":""}]
[null,""]
[null,""]
[null,""]
[null,""]
[null,""]
[null,""]
[null,""]
[null,""]
[null,""]
[null,""]
[null,""]
[null,""]
[null,""]
[null,""]
[null,""]
[null,""]
[null,""]
[null,""]
[null,""]
[null,""]
[null,""]
[null,""]
[null,""]
[null,""]
[null,""]
[null,""]
[null,""]
[null,""]
[null,""]
[null,""]
[null,""]
[null,""]
[null,""]
[null,""]
[null,""]
[null,""]
[null,""]
[null,""]
[null,""]
[null,""]
[null,""]
[null,""]
[null,""]
[null,""]
[null,""]
[null,""]
[null,""]
[null,""]
[null,""]
[null,""]
[null,""]
[null,""]
[null,""]
[null,""]
[null,""]
[null,""]
[null,""]
[null,""]
[null,""]
[null,""]
[null,""]
[null,""]
[null,""]
[null,{"$f":"IF(C1231=\"\",\"\",ROW()-12)","v":""}]
[null,""]
[null,""]
[null,""]
[null,""]
[null,""]
[null,""]
[null,""]
[null,""]
[null,""]
[null,""]
[null,""]
[null,""]
[null,""]
[null,""]
[null,""]
[null,""]
[null,""]
[null,""]
[null,""]
[null,""]
[null,""]
[null,""]
[null,""]
[null,""]
[null,""]
[null,""]
[null,""]
[null,""]
[null,""]
[null,""]
[null,""]
[null,""]
[null,""]
[null,""]
[null,""]
[null,""]
[null,""]
[null,""]
[null,""]
[null,""]
[null,""]
[null,""]
[null,""]
[null,""]
[null,""]
[null,""]
[null,""]
[null,""]
[null,""]
[null,""]
[null,""]
[null,""]
[null,""]
[null,""]
[null,""]
[null,""]
[null,""]
[null,""]
[null,""]
[null,""]
[null,""]
[null,""]
[null,""]
[null,{"$f":"IF(C1295=\"\",\"\",ROW()-12)","v":""}]
[null,""]
[null,""]
[null,""]
[null,""]
[null,""]
[null,""]
[null,""]
[null,""]
[null,""]
[null,""]
[null,""]
[null,""]
[null,""]
[null,""]
[null,""]
[null,""]
[null,""]
[null,""]
[null,""]
[null,""]
[null,""]
[null,""]
[null,""]
[null,""]
[null,""]
[null,""]
[null,""]
[null,""]
[null,""]
[null,""]
[null,""]
[null,""]
[null,""]
[null,""]
[null,""]
[null,""]
[null,""]
[null,""]
[null,""]
[null,""]
[null,""]
[null,""]
[null,""]
[null,""]
[null,""]
[null,""]
[null,""]
[null,""]
[null,""]
[null,""]
[null,""]
[null,""]
[null,""]
[null,""]
[null,""]
[null,""]
[null,""]
[null,""]
[null,""]
[null,""]
[null,""]
[null,""]
[null,""]
[null,{"$f":"IF(C1359=\"\",\"\",ROW()-12)","v":""}]
[null,""]
[null,""]
[null,""]
[null,""]
[null,""]
[null,""]
[null,""]
[null,""]
[null,""]
[null,""]
[null,""]
[null,""]
[null,""]
[null,""]
[null,""]
[null,""]
[null,""]
[null,""]
[null,""]
[null,""]
[null,""]
[null,""]
[null,""]
[null,""]
[null,""]
[null,""]
[null,""]
[null,""]
[null,""]
[null,""]
[null,""]
[null,""]
[null,""]
[null,""]
[null,""]
[null,""]
[null,""]
[null,""]
[null,""]
[null,""]
[null,""]
[null,""]
[null,""]
[null,""]
[null,""]
[null,""]
[null,""]
[null,""]
[null,""]
[null,""]
[null,""]
[null,""]
[null,""]
[null,""]
[null,""]
[null,""]
[null,""]
[null,""]
[null,""]
[null,""]
[null,""]
[null,""]
[null,""]
[null,{"$f":"IF(C1423=\"\",\"\",ROW()-12)","v":""}]
[null,""]
[null,""]
[null,""]
[null,""]
[null,""]
[null,""]
[null,""]
[null,""]
[null,""]
[null,""]
[null,""]
[null,""]
[null,""]
[null,""]
[null,""]
[null,""]
[null,""]
[null,""]
[null,""]
[null,""]
[null,""]
[null,""]
[null,""]
[null,""]
[null,""]
[null,""]
[null,""]
[null,""]
[null,""]
[null,""]
[null,""]
[null,""]
[null,""]
[null,""]
[null,""]
[null,""]
[null,""]
[null,""]
[null,""]
[null,""]
[null,""]
[null,""]
[null,""]
[null,""]
[null,""]
[null,""]
[null,""]
[null,""]
[null,""]
[null,""]
[null,""]
[null,""]
[null,""]
[null,""]
[null,""]
[null,""]
[null,""]
[null,""]
[null,""]
[null,""]
[null,""]
[null,""]
[null,""]
[null,{"$f":"IF(C1487=\"\",\"\",ROW()-12)","v":""}]
[null,""]
[null,""]
[null,""]
[null,""]
[null,""]
[null,""]
[null,""]
[null,""]
[null,""]
[null,""]
[null,""]
[null,""]
[null,""]
[null,""]
[null,""]
[null,""]
[null,""]
[null,""]
[null,""]
[null,""]
[null,""]
[null,""]
[null,""]
[null,""]
[null,""]
[null,""]
[null,""]
[null,""]
[null,""]
[null,""]
[null,""]
[null,""]
[null,""]
[null,""]
[null,""]
[null,""]
[null,""]
[null,""]
[null,""]
[null,""]
[null,""]
[null,""]
[null,""]
[null,""]
[null,""]
[null,""]
[null,""]
[null,""]
[null,""]
[null,""]
[null,""]
[null,""]
[null,""]
[null,""]
[null,""]
[null,""]
[null,""]
[null,""]
[null,""]
[null,""]
[null,""]
[null,""]
[null,""]
[null,{"$f":"IF(C1551=\"\",\"\",ROW()-12)","v":""}]
[null,""]
[null,""]
[null,""]
[null,""]
[null,""]
[null,""]
[null,""]
[null,""]
[null,""]
[null,""]
[null,""]
[null,""]
[null,""]
[null,""]
[null,""]
[null,""]
[null,""]
[null,""]
[null,""]
[null,""]
[null,""]
[null,""]
[null,""]
[null,""]
[null,""]
[null,""]
[null,""]
[null,""]
[null,""]
[null,""]
[null,""]
[null,""]
[null,""]
[null,""]
[null,""]
[null,""]
[null,""]
[null,""]
[null,""]
[null,""]
[null,""]
[null,""]
[null,""]
[null,""]
[null,""]
[null,""]
[null,""]
[null,""]
[null,""]
[null,""]
[null,""]
[null,""]
[null,""]
[null,""]
[null,""]
[null,""]
[null,""]
[null,""]
[null,""]
[null,""]
[null,""]
[null,""]
[null,""]
[null,{"$f":"IF(C1615=\"\",\"\",ROW()-12)","v":""}]
[null,""]
[null,""]
[null,""]
[null,""]
[null,""]
[null,""]
[null,""]
[null,""]
[null,""]
[null,""]
[null,""]
[null,""]
[null,""]
[null,""]
[null,""]
[null,""]
[null,""]
[null,""]
[null,""]
[null,""]
[null,""]
[null,""]
[null,""]
[null,""]
[null,""]
[null,""]
[null,""]
[null,""]
[null,""]
[null,""]
[null,""]
[null,""]
[null,""]
[null,""]
[null,""]
[null,""]
[null,""]
[null,""]
[null,""]
[null,""]
[null,""]
[null,""]
[null,""]
[null,""]
[null,""]
[null,""]
[null,""]
[null,""]
[null,""]
[null,""]
[null,""]
[null,""]
[null,""]
[null,""]
[null,""]
[null,""]
[null,""]
[null,""]
[null,""]
[null,""]
[null,""]
[null,""]
[null,""]
[null,{"$f":"IF(C1679=\"\",\"\",ROW()-12)","v":""}]
[null,""]
[null,""]
[null,""]
[null,""]
[null,""]
[null,""]
[null,""]
[null,""]
[null,""]
[null,""]
[null,""]
[null,""]
[null,""]
[null,""]
[null,""]
[null,""]
[null,""]
[null,""]
[null,""]
[null,""]
[null,""]
[null,""]
[null,""]
[null,""]
[null,""]
[null,""]
[null,""]
[null,""]
[null,""]
[null,""]
[null,""]
[null,""]
[null,""]
[null,""]
[null,""]
[null,""]
[null,""]
[null,""]
[null,""]
[null,""]
[null,""]
[null,""]
[null,""]
[null,""]
[null,""]
[null,""]
[null,""]
[null,""]
[null,""]
[null,""]
[null,""]
[null,""]
[null,""]
[null,""]
[null,""]
[null,""]
[null,""]
[null,""]
[null,""]
[null,""]
[null,""]
[null,""]
[null,""]
[null,{"$f":"IF(C1743=\"\",\"\",ROW()-12)","v":""}]
[null,""]
[null,""]
[null,""]
[null,""]
[null,""]
[null,""]
[null,""]
[null,""]
[null,""]
[null,""]
[null,""]
[null,""]
[null,""]
[null,""]
[null,""]
[null,""]
[null,""]
[null,""]
[null,""]
[null,""]
[null,""]
[null,""]
[null,""]
[null,""]
[null,""]
[null,""]
[null,""]
[null,""]
[null,""]
[null,""]
[null,""]
[null,""]
[null,""]
[null,""]
[null,""]
[null,""]
[null,""]
[null,""]
[null,""]
[null,""]
[null,""]
[null,""]
[null,""]
[null,""]
[null,""]
[null,""]
[null,""]
[null,""]
[null,""]
[null,""]
[null,""]
[null,""]
[null,""]
[null,""]
[null,""]
[null,""]
[null,""]
[null,""]
[null,""]
[null,""]
[null,""]
[null,""]
[null,""]
[null,{"$f":"IF(C1807=\"\",\"\",ROW()-12)","v":""}]
[null,""]
[null,""]
[null,""]
[null,""]
[null,""]
[null,""]
[null,""]
[null,""]
[null,""]
[null,""]
[null,""]
[null,""]
[null,""]
[null,""]
[null,""]
[null,""]
[null,""]
[null,""]
[null,""]
[null,""]
[null,""]
[null,""]
[null,""]
[null,""]
[null,""]
[null,""]
[null,""]
[null,""]
[null,""]
[null,""]
[null,""]
[null,""]
[null,""]
[null,""]
[null,""]
[null,""]
[null,""]
[null,""]
[null,""]
[null,""]
[null,""]
[null,""]
[null,""]
[null,""]
[null,""]
[null,""]
[null,""]
[null,""]
[null,""]
[null,""]
[null,""]
[null,""]
[null,""]
[null,""]
[null,""]
[null,""]
[null,""]
[null,""]
[null,""]
[null,""]
[null,""]
[null,""]
[null,""]
[null,{"$f":"IF(C1871=\"\",\"\",ROW()-12)","v":""}]
[null,""]
[null,""]
[null,""]
[null,""]
[null,""]
[null,""]
[null,""]
[null,""]
[null,""]
[null,""]
[null,""]
[null,""]
[null,""]
[null,""]
[null,""]
[null,""]
[null,""]
[null,""]
[null,""]
[null,""]
[null,""]
[null,""]
[null,""]
[null,""]
[null,""]
[null,""]
[null,""]
[null,""]
[null,""]
[null,""]
[null,""]
[null,""]
[null,""]
[null,""]
[null,""]
[null,""]
[null,""]
[null,""]
[null,""]
[null,""]
[null,""]
[null,""]
[null,""]
[null,""]
[null,""]
[null,""]
[null,""]
[null,""]
[null,""]
[null,""]
[null,""]
[null,""]
[null,""]
[null,""]
[null,""]
[null,""]
[null,""]
[null,""]
[null,""]
[null,""]
[null,""]
[null,""]
[null,""]
[null,{"$f":"IF(C1935=\"\",\"\",ROW()-12)","v":""}]
[null,""]
[null,""]
[null,""]
[null,""]
[null,""]
[null,""]
[null,""]
[null,""]
[null,""]
[null,""]
[null,""]
[null,""]
[null,""]
[null,""]
[null,""]
[null,""]
[null,""]
[null,""]
[null,""]
[null,""]
[null,""]
[null,""]
[null,""]
[null,""]
[null,""]
[null,""]
[null,""]
[null,""]
[null,""]
[null,""]
[null,""]
[null,""]
[null,""]
[null,""]
[null,""]
[null,""]
[null,""]
[null,""]
[null,""]
[null,""]
[null,""]
[null,""]
[null,""]
[null,""]
[null,""]
[null,""]
[null,""]
[null,""]
[null,""]
[null,""]
[null,""]
[null,""]
[null,""]
[null,""]
[null,""]
[null,""]
[null,""]
[null,""]
[null,""]
[null,""]
[null,""]
[null,""]
[null,""]
[null,{"$f":"IF(C1999=\"\",\"\",ROW()-12)","v":""}]
[null,""]
[null,""]
[null,""]
[null,""]
[null,""]
[null,""]
[null,""]
[null,""]
[null,""]
[null,""]
[null,""]
[null,""]
[null,""]
[null,""]
[null,""]
[null,""]
[null,""]
[null,""]
[null,""]
[null,""]
[null,""]
[null,""]
[null,""]
[null,""]
[null,""]
[null,""]
[null,""]
[null,""]
[null,""]
[null,""]
[null,""]
[null,""]
[null,""]
[null,""]
[null,""]
[null,""]
[null,""]
[null,""]
[null,""]
[null,""]
[null,""]
[null,""]
[null,""]
[null,""]
[null,""]
[null,""]
[null,""]
[null,""]
[null,""]
[null,""]
[null,""]
[null,""]
[null,""]
[null,""]
[null,""]
[null,""]
[null,""]
[null,""]
[null,""]
[null,""]
[null,""]
[null,""]
[null,""]
[null,{"$f":"IF(C2063=\"\",\"\",ROW()-12)","v":""}]
[null,""]
[null,""]
[null,""]
[null,""]
[null,""]
[null,""]
[null,""]
[null,""]
[null,""]
[null,""]
[null,""]
[null,""]
[null,""]
[null,""]
[null,""]
[null,""]
[null,""]
[null,""]
[null,""]
[null,""]
[null,""]
[null,""]
[null,""]
[null,""]
[null,""]
[null,""]
[null,""]
[null,""]
[null,""]
[null,""]
[null,""]
[null,""]
[null,""]
[null,""]
[null,""]
[null,""]
[null,""]
[null,""]
[null,""]
[null,""]
[null,""]
[null,""]
[null,""]
[null,""]
[null,""]
[null,""]
[null,""]
[null,""]
[null,""]
[null,""]
[null,""]
[null,""]
[null,""]
[null,""]
[null,""]
[null,""]
[null,""]
[null,""]
[null,""]
[null,""]
[null,""]
[null,""]
[null,""]
[null,{"$f":"IF(C2127=\"\",\"\",ROW()-12)","v":""}]
[null,""]
[null,""]
[null,""]
[null,""]
[null,""]
[null,""]
[null,""]
[null,""]
[null,""]
[null,""]
[null,""]
[null,""]
[null,""]
[null,""]
[null,""]
[null,""]
[null,""]
[null,""]
[null,""]
[null,""]
[null,""]
[null,""]
[null,""]
[null,""]
[null,""]
[null,""]
[null,""]
[null,""]
[null,""]
[null,""]
[null,""]
[null,""]
[null,""]
[null,""]
[null,""]
[null,""]
[null,""]
[null,""]
[null,""]
[null,""]
[null,""]
[null,""]
[null,""]
[null,""]
[null,""]
[null,""]
[null,""]
[null,""]
[null,""]
[null,""]
[null,""]
[null,""]
[null,""]
[null,""]
[null,""]
[null,""]
[null,""]
[null,""]
[null,""]
[null,""]
[null,""]
[null,""]
[null,""]
[null,{"$f":"IF(C2191=\"\",\"\",ROW()-12)","v":""}]
[null,""]
[null,""]
[null,""]
[null,""]
[null,""]
[null,""]
[null,""]
[null,""]
[null,""]
[null,""]
[null,""]
[null,""]
[null,""]
[null,""]
[null,""]
[null,""]
[null,""]
[null,""]
[null,""]
[null,""]
[null,""]
[null,""]
[null,""]
[null,""]
[null,""]
[null,""]
[null,""]
[null,""]
[null,""]
[null,""]
[null,""]
[null,""]
[null,""]
[null,""]
[null,""]
[null,""]
[null,""]
[null,""]
[null,""]
[null,""]
[null,""]
[null,""]
[null,""]
[null,""]
[null,""]
[null,""]
[null,""]
[null,""]
[null,""]
[null,""]
[null,""]
[null,""]
[null,""]
[null,""]
[null,""]
[null,""]
[null,""]
[null,""]
[null,""]
[null,""]
[null,""]
[null,""]
[null,""]
[null,{"$f":"IF(C2255=\"\",\"\",ROW()-12)","v":""}]
[null,""]
[null,""]
[null,""]
[null,""]
[null,""]
[null,""]
[null,""]
[null,""]
[null,""]
[null,""]
[null,""]
[null,""]
[null,""]
[null,""]
[null,""]
[null,""]
[null,""]
[null,""]
[null,""]
[null,""]
[null,""]
[null,""]
[null,""]
[null,""]
[null,""]
[null,""]
[null,""]
[null,""]
[null,""]
[null,""]
[null,""]
[null,""]
[null,""]
[null,""]
[null,""]
[null,""]
[null,""]
[null,""]
[null,""]
[null,""]
[null,""]
[null,""]
[null,""]
[null,""]
[null,""]
[null,""]
[null,""]
[null,""]
[null,""]
[null,""]
[null,""]
[null,""]
[null,""]
[null,""]
[null,""]
[null,""]
[null,""]
[null,""]
[null,""]
[null,""]
[null,""]
[null,""]
[null,""]
[null,{"$f":"IF(C2319=\"\",\"\",ROW()-12)","v":""}]
[null,""]
[null,""]
[null,""]
[null,""]
[null,""]
[null,""]
[null,""]
[null,""]
[null,""]
[null,""]
[null,""]
[null,""]
[null,""]
[null,""]
[null,""]
[null,""]
[null,""]
[null,""]
[null,""]
[null,""]
[null,""]
[null,""]
[null,""]
[null,""]
[null,""]
[null,""]
[null,""]
[null,""]
[null,""]
[null,""]
[null,""]
[null,""]
[null,""]
[null,""]
[null,""]
[null,""]
[null,""]
[null,""]
[null,""]
[null,""]
[null,""]
[null,""]
[null,""]
[null,""]
[null,""]
[null,""]
[null,""]
[null,""]
[null,""]
[null,""]
[null,""]
[null,""]
[null,""]
[null,""]
[null,""]
[null,""]
[null,""]
[null,""]
[null,""]
[null,""]
[null,""]
[null,""]
[null,""]
[null,{"$f":"IF(C2383=\"\",\"\",ROW()-12)","v":""}]
[null,""]
[null,""]
[null,""]
[null,""]
[null,""]
[null,""]
[null,""]
[null,""]
[null,""]
[null,""]
[null,""]
[null,""]
[null,""]
[null,""]
[null,""]
[null,""]
[null,""]
[null,""]
[null,""]
[null,""]
[null,""]
[null,""]
[null,""]
[null,""]
[null,""]
[null,""]
[null,""]
[null,""]
[null,""]
[null,""]
[null,""]
[null,""]
[null,""]
[null,""]
[null,""]
[null,""]
[null,""]
[null,""]
[null,""]
[null,""]
[null,""]
[null,""]
[null,""]
[null,""]
[null,""]
[null,""]
[null,""]
[null,""]
[null,""]
[null,""]
[null,""]
[null,""]
[null,""]
[null,""]
[null,""]
[null,""]
[null,""]
[null,""]
[null,""]
[null,""]
[null,""]
[null,""]
[null,""]
[null,{"$f":"IF(C2447=\"\",\"\",ROW()-12)","v":""}]
[null,""]
[null,""]
[null,""]
[null,""]
[null,""]
[null,""]
[null,""]
[null,""]
[null,""]
[null,""]
[null,""]
[null,""]
[null,""]
[null,""]
[null,""]
[null,""]
[null,""]
[null,""]
[null,""]
[null,""]
[null,""]
[null,""]
[null,""]
[null,""]
[null,""]
[null,""]
[null,""]
[null,""]
[null,""]
[null,""]
[null,""]
[null,""]
[null,""]
[null,""]
[null,""]
[null,""]
[null,""]
[null,""]
[null,""]
[null,""]
[null,""]
[null,""]
[null,""]
[null,""]
[null,""]
[null,""]
[null,""]
[null,""]
[null,""]
[null,""]
[null,""]
[null,""]
[null,""]
[null,""]
[null,""]
[null,""]
[null,""]
[null,""]
[null,""]
[null,""]
[null,""]
[null,""]
[null,""]
[null,{"$f":"IF(C2511=\"\",\"\",ROW()-12)","v":""}]
[null,""]
[null,""]
[null,""]
[null,""]
[null,""]
[null,""]
[null,""]
[null,""]
[null,""]
[null,""]
[null,""]
[null,""]
[null,""]
[null,""]
[null,""]
[null,""]
[null,""]
[null,""]
[null,""]
[null,""]
[null,""]
[null,""]
[null,""]
[null,""]
[null,""]
[null,""]
[null,""]
[null,""]
[null,""]
[null,""]
[null,""]
[null,""]
[null,""]
[null,""]
[null,""]
[null,""]
[null,""]
[null,""]
[null,""]
[null,""]
[null,""]
[null,""]
[null,""]
[null,""]
[null,""]
[null,""]
[null,""]
[null,""]
[null,""]
[null,""]
[null,""]
[null,""]
[null,""]
[null,""]
[null,""]
[null,""]
[null,""]
[null,""]
[null,""]
[null,""]
[null,""]
[null,""]
[null,""]
[null,{"$f":"IF(C2575=\"\",\"\",ROW()-12)","v":""}]
[null,""]
[null,""]
[null,""]
[null,""]
[null,""]
[null,""]
[null,""]
[null,""]
[null,""]
[null,""]
[null,""]
[null,""]
[null,""]
[null,""]
[null,""]
[null,""]
[null,""]
[null,""]
[null,""]
[null,""]
[null,""]
[null,""]
[null,""]
[null,""]
[null,""]
[null,""]
[null,""]
[null,""]
[null,""]
[null,""]
[null,""]
[null,""]
[null,""]
[null,""]
[null,""]
[null,""]
[null,""]
[null,""]
[null,""]
[null,""]
[null,""]
[null,""]
[null,""]
[null,""]
[null,""]
[null,""]
[null,""]
[null,""]
[null,""]
[null,""]
[null,""]
[null,""]
[null,""]
[null,""]
[null,""]
[null,""]
[null,""]
[null,""]
[null,""]
[null,""]
[null,""]
[null,""]
[null,""]
[null,{"$f":"IF(C2639=\"\",\"\",ROW()-12)","v":""}]
[null,""]
[null,""]
[null,""]
[null,""]
[null,""]
[null,""]
[null,""]
[null,""]
[null,""]
[null,""]
[null,""]
[null,""]
[null,""]
[null,""]
[null,""]
[null,""]
[null,""]
[null,""]
[null,""]
[null,""]
[null,""]
[null,""]
[null,""]
[null,""]
[null,""]
[null,""]
[null,""]
[null,""]
[null,""]
[null,""]
[null,""]
[null,""]
[null,""]
[null,""]
[null,""]
[null,""]
[null,""]
[null,""]
[null,""]
[null,""]
[null,""]
[null,""]
[null,""]
[null,""]
[null,""]
[null,""]
[null,""]
[null,""]
[null,""]
[null,""]
[null,""]
[null,""]
[null,""]
[null,""]
[null,""]
[null,""]
[null,""]
[null,""]
[null,""]
[null,""]
[null,""]
[null,""]
[null,""]
[null,{"$f":"IF(C2703=\"\",\"\",ROW()-12)","v":""}]
[null,""]
[null,""]
[null,""]
[null,""]
[null,""]
[null,""]
[null,""]
[null,""]
[null,""]
[null,""]
[null,""]
[null,""]
[null,""]
[null,""]
[null,""]
[null,""]
[null,""]
[null,""]
[null,""]
[null,""]
[null,""]
[null,""]
[null,""]
[null,""]
[null,""]
[null,""]
[null,""]
[null,""]
[null,""]
[null,""]
[null,""]
[null,""]
[null,""]
[null,""]
[null,""]
[null,""]
[null,""]
[null,""]
[null,""]
[null,""]
[null,""]
[null,""]
[null,""]
[null,""]
[null,""]
[null,""]
[null,""]
[null,""]
[null,""]
[null,""]
[null,""]
[null,""]
[null,""]
[null,""]
[null,""]
[null,""]
[null,""]
[null,""]
[null,""]
[null,""]
[null,""]
[null,""]
[null,""]
[null,{"$f":"IF(C2767=\"\",\"\",ROW()-12)","v":""}]
[null,""]
[null,""]
[null,""]
[null,""]
[null,""]
[null,""]
[null,""]
[null,""]
[null,""]
[null,""]
[null,""]
[null,""]
[null,""]
[null,""]
[null,""]
[null,""]
[null,""]
[null,""]
[null,""]
[null,""]
[null,""]
[null,""]
[null,""]
[null,""]
[null,""]
[null,""]
[null,""]
[null,""]
[null,""]
[null,""]
[null,""]
[null,""]
[null,""]
[null,""]
[null,""]
[null,""]
[null,""]
[null,""]
[null,""]
[null,""]
[null,""]
[null,""]
[null,""]
[null,""]
[null,""]
[null,""]
[null,""]
[null,""]
[null,""]
[null,""]
[null,""]
[null,""]
[null,""]
[null,""]
[null,""]
[null,""]
[null,""]
[null,""]
[null,""]
[null,""]
[null,""]
[null,""]
[null,""]
[null,{"$f":"IF(C2831=\"\",\"\",ROW()-12)","v":""}]
[null,""]
[null,""]
[null,""]
[null,""]
[null,""]
[null,""]
[null,""]
[null,""]
[null,""]
[null,""]
[null,""]
[null,""]
[null,""]
[null,""]
[null,""]
[null,""]
[null,""]
[null,""]
[null,""]
[null,""]
[null,""]
[null,""]
[null,""]
[null,""]
[null,""]
[null,""]
[null,""]
[null,""]
[null,""]
[null,""]
[null,""]
[null,""]
[null,""]
[null,""]
[null,""]
[null,""]
[null,""]
[null,""]
[null,""]
[null,""]
[null,""]
[null,""]
[null,""]
[null,""]
[null,""]
[null,""]
[null,""]
[null,""]
[null,""]
[null,""]
[null,""]
[null,""]
[null,""]
[null,""]
[null,""]
[null,""]
[null,""]
[null,""]
[null,""]
[null,""]
[null,""]
[null,""]
[null,""]
[null,{"$f":"IF(C2895=\"\",\"\",ROW()-12)","v":""}]
[null,""]
[null,""]
[null,""]
[null,""]
[null,""]
[null,""]
[null,""]
[null,""]
[null,""]
[null,""]
[null,""]
[null,""]
[null,""]
[null,""]
[null,""]
[null,""]
[null,""]
[null,""]
[null,""]
[null,""]
[null,""]
[null,""]
[null,""]
[null,""]
[null,""]
[null,""]
[null,""]
[null,""]
[null,""]
[null,""]
[null,""]
[null,""]
[null,""]
[null,""]
[null,""]
[null,""]
[null,""]
[null,""]
[null,""]
[null,""]
[null,""]
[null,""]
[null,""]
[null,""]
[null,""]
[null,""]
[null,""]
[null,""]
[null,""]
[null,""]
[null,""]
[null,""]
[null,""]
[null,""]
[null,""]
[null,""]
[null,""]
[null,""]
[null,""]
[null,""]
[null,""]
[null,""]
[null,""]
[null,{"$f":"IF(C2959=\"\",\"\",ROW()-12)","v":""}]
[null,""]
[null,""]
[null,""]
[null,""]
[null,""]
[null,""]
[null,""]
[null,""]
[null,""]
[null,""]
[null,""]
[null,""]
[null,""]
[null,""]
[null,""]
[null,""]
[null,""]
[null,""]
[null,""]
[null,""]
[null,""]
[null,""]
[null,""]
[null,""]
[null,""]
[null,""]
[null,""]
[null,""]
[null,""]
[null,""]
[null,""]
[null,""]
[null,""]
[null,""]
[null,""]
[null,""]
[null,""]
[null,""]
[null,""]
[null,""]
[null,""]

{"sheet":"SO Analysis","index":1,"n_rows":1,"n_cols":10,"rows_kept":1,"cut":false,"hidden":false,"merged":[]}
["SEQ.","ITEM CODE","ITEM NAME","LOCATION","OH","ALLOC","AVAIL","WH CODE","Found Quantity","Variance Quantity"]

{"sheet":"WH1","index":2,"n_rows":1085,"n_cols":12,"rows_kept":1085,"cut":false,"hidden":true,"merged":[]}
[null,null,null,null,"OH","ALLOC","AVAIL","TOTAL","BROKEN","TOTAL FOUND QTY","QTY","Variance"]
["1.","S413511180","WASHER DIFF. PINION R/F","A01-1-AA1",1,0,1]
["2.","SZ93001026","SHIM T 0.30","A01-1-AA2",1,0,1]
["3.","8421037020","SWITCH ASSY, BACK-UP","A01-1-AA3",1,0,1]
["4.","9052039032","RING, SHAFT SNAP","A01-1-AA4",2,0,2]
["5.","9008081117","BULB","A01-1-AA5",2,0,2]
["6.","SZ17816010","NUT CASE DIFF","A01-1-AA6",10,0,10]
["7.","SZ31350002","SEAL OIL","A01-1-AB1",4,0,4]
["8.","9031118010","SEAL","A01-1-AB2",2,0,2]
["9.","9050114003","SPRING","A01-1-AB6",1,0,1]
["10.","94613JBC00","WASHER, PLAIN","A01-1-AC1",2,0,2]
["11.","SZ30101074","O-RING","A01-1-AC2",2,0,2]
["12.","3336537050","KEY,SYNCHRO SHIFT,NO.1","A01-1-AC3",37,0,37]
["13.","SZ34109001","PLUG","A01-1-AC4",10,0,10]
["14.","3337137040","SPRING, SYNCHROMESH","A01-1-AC5",11,11,0]
["15.","91810JIB60","BOLT,COVER F/W","A01-1-AC6",10,0,10]
["16.","9050114194","SPRING COMPRESSION","A01-1-AD1",4,0,4]
["17.","4824737560","BOLT, RR SPRING, CTR","A01-1-AD2",10,0,10]
["18.","SZ52055003","RING RETAINER T=2.5","A01-1-AD3",2,0,2]
["19.","SL72301210","WASHER SOFT","A01-1-AD4",22,0,22]
["20.","9098209013","FUSE","A01-1-AD5",79,0,79]
["21.","S110121250","WASHER SET CRANKSHAFT O/S 0.25","A01-1-AD6",2,0,2]
["22.","SZ98057050","FUSE 5A 078","A01-1-AE2",32,0,32]
["23.","SL72301010","WASHER SOFT R/F","A01-1-AE3",11,0,11]
["24.","9331116012","BOLT W/WASHER","A01-1-AE4",14,0,14]
["25.","SZ98057034","FUSE","A01-1-AE5",228,0,228]
["26.","9031148011","SEAL OIL","A01-1-AE6",5,0,5]
["27.","90987T2002","RELAY","A01-1-AF3",8,0,8]
["28.","9003101170","BOLT","A01-1-AF5",3,0,3]
["29.","SZ98057035","FUSE","A01-1-AF6",251,0,251]
["30.","9052050010","RING, SHAFT SNAP","A01-1-AG2",6,0,6]
["31.","3339436030","KEY, SYNCHROMESH SHIFTNG, NO.3","A01-1-AG3",93,0,93]
["32.","SL11101616","NUT BOLT CENTRE","A01-1-AG6",40,0,40]
["33.","11821E0020","BEARING CAMSHAFT,NO 2","A01-1-AH1",4,0,4]
["34.","S413511160","WASHER,DIFF PINION THRUST","A01-1-AH2",56,0,56]
["35.","SZ11610156","STUD","A01-1-AH4",10,0,10]
["36.","SZ11912017","BOLT, W/WASHER","A01-1-AH5",1,0,1]
["37.","SZ10114043","BOLT","A01-1-AH6",19,0,19]
["38.","8792937050","SCREW, OUTER MIRROR","A01-1-AI2",27,0,27]
["39.","S413511170","WASHER DIFF. PINION","A01-1-AI4",20,20,0]
["40.","SZ40112001","BOLT","A01-1-AI5",3,0,3]
["41.","9031135023","SEAL OIL","A01-1-AI6",25,0,25]
["42.","SZ98057051","FUSE 10 A 078","A01-1-AJ2",39,0,39]
["43.","SZ98057052","FUSE 15 A 078","A01-1-AJ3",26,2,24]
["44.","SZ98057040","FUSE","A01-1-AJ4",238,0,238]
["45.","9014880027","SCREW, HEX LOBULAR","A01-1-AJ5",67,0,67]
["46.","3346237010","WASHER, REVERSE IDLE","A01-1-AJ6",6,0,6]
["47.","SL72301414","WASHER SHOFT","A01-1-AK2",18,0,18]
["48.","4533337010","SEAL, STEERING SECTO","A01-1-AK4",5,0,5]
["49.","SZ17730003","NUT LOCK","A01-1-AK5",2,0,2]
["50.","S334821461","GEAR SPEEDO DRIVE","A01-1-AK6",5,0,5]
["51.","S474501170","SPRING ASSY BRAKE","A01-1-AL1",1,0,1]
["52.","SZ98057053","FUSE 20 A 078","A01-1-AL2",152,0,152]
["53.","SZ17012021","NUT","A01-1-AL3",4,0,4]
["54.","S094722100","BAR","A01-1-AL4",1,0,1]
["55.","S413611550","WASHER DIFF SIDE","A01-1-AL5",10,10,0]
["56.","S412314070","SPACER, DIFF CARRIER","A01-1-AM2",15,0,15]
["57.","S110BE0020","PIPE SUB ASSY OIL JET","A01-1-AM5",2,0,2]
["58.","S293311130","BLADE VACUUM PUMP,A","A01-1-AM6",1,0,1]
["59.","17112E0030","MANIFOLD INTAKE NO.2","A01-1-AN1",1,0,1]
["60.","15472E0030","GASKET TURBO OIL OUTLET NO.1","A01-1-AN2",3,0,3]
["61.","772520W120","TUBE FUEL MAIN NO.2","A01-1-AN4",1,0,1]
["62.","228351370L","BALL JOINT(0922230070)","A01-1-AO1",4,0,4]
["63.","4352537010","CAP FR WHEEL","A01-1-AO3",5,0,5]
["64.","S111351710","SEAT,VALVE EXH","A01-1-AO4",3,0,3]
["65.","4123137210","SPACER","A01-1-AO5",3,0,3]
["66.","S346681210","SEAL PISTON","A01-1-AP2",2,0,2]
["67.","S412312210","SPACER, DIFF CARRIER","A01-1-AP3",2,0,2]
["68.","4845355010","PIN RR SPRING LOCK","A01-1-AP4",66,9,57]
["69.","SZ11908068","BOLT","A01-1-BA1",8,0,8]
["70.","9056008002","SPACER","A01-1-BA3",1,0,1]
["71.","S225091270","PUMP SUB ASSY","A01-1-BA4",2,0,2]
["72.","9461311200","WASHER, PLAIN","A01-1-BA6",1,0,1]
["73.","0449336230","PISTON KIT,BRK MASTER (30MM)","A01-1-BB4",2,0,2]
["74.","772520W110","TUBE FUEL MAIN NO.2","A01-1-BB5",1,0,1]
["75.","9021429001","WASHER","A01-1-BC1",20,0,20]
["76.","8515437030","PACKING, FR WIPER","A01-1-BC5",5,0,5]
["77.","S474501270","SPRING ASSY, BRAKE S","A01-1-BD2",11,0,11]
["78.","228271750L","SEAL OIL 9491502820","A01-1-BE2",1,0,1]
["79.","SZ41306002","ELBOW R/F","A01-1-BE3",1,0,1]
["80.","413160W010","LOCK, DIFF BEARING ADJ","A01-1-BE4",16,0,16]
["81.","S241791430","GASKET TURBO","A01-1-BF1",3,0,3]
["82.","3148637110","HOSE CLUTCH","A01-1-BF3",1,0,1]
["83.","SZ11908018","BOLT COVER F/W","A01-1-BF4",20,0,20]
["84.","3348137090","GEAR, SPEEDOMETER DRIVE","A01-1-BF5",1,0,1]
["85.","9031122009","SEAL OIL","A01-1-BF6",5,0,5]
["86.","SZ10616057","BOLT,DIFF RING GEAR SET","A01-1-BG1",11,0,11]
["87.","S312341020","SPRING RELEASE FORK 078","A01-1-BG2",5,0,5]
["88.","S474571130","RETAINER ANCHOR","A01-1-BG3",4,0,4]
["89.","S413611560","WASHER,DIFF SIDE GEAR","A01-1-BG4",9,0,9]
["90.","94130JBG00","NUT","A01-1-BH1",36,0,36]
["91.","17278E0020","GASKET EXHAUST","A01-1-BH2",1,0,1]
["92.","3336536030","KEY, SYNCHROMESH","A01-1-BH3",6,0,6]
["93.","3336636040","KEY, SYNCHROMESH","A01-1-BH5",7,0,7]
["94.","3339436020","KEY","A01-1-BH6",15,0,15]
["95.","SZ30101085","RING, O","A01-1-BI1",6,0,6]
["96.","17908EW011","INDICATOR S/A","A01-1-BI6",2,0,2]
["97.","S273531770","HOLDER","A01-1-BJ1",5,0,5]
["98.","S342571390","SEAL,OIL,T/M","A01-1-BJ2",1,0,1]
["99.","9052099009","RING, SHAFT SNAP","A01-1-BJ3",2,0,2]
["100.","9030310001","SEAL, DUST","A01-1-BJ4",2,0,2]
["101.","S228471870","GASKET *1*","A01-1-BJ5",8,0,8]
["102.","SU00200303","CUP, BRAKE SHOE HOLD","A01-1-BJ6",4,0,4]
["103.","4657736010","COVER, ADJUSTING CAM HOLE","A01-1-BK1",1,0,1]
["104.","12180EW010","CAP ASSY, OIL FILLER","A01-1-BK2",2,0,2]
["105.","0437137081","SPIDER KIT RR PROP SHAFT","A01-1-BK3",2,0,2]
["106.","4744722010","PIN","A01-1-BK5",2,0,2]
["107.","SN35211217","ELBOW","A01-1-BK6",1,0,1]
["108.","9616000700","RING, E","A01-1-BL1",3,0,3]
["109.","S241351161","GASKET,OIL OUTLET","A01-1-BL2",2,0,2]
["110.","4725552010","GROMMET, RESERVOIR","A01-1-BL4",8,0,8]
["111.","4242737020","NUT RR AXLE BRG LOCK RH (NS)","A01-1-BL6",1,0,1]
["112.","3348239225","GEAR SPEED","A01-1-BM2",4,0,4]
["113.","SZ31158007","SEAL TYPE T OIL","A01-1-BM3",19,0,19]
["114.","9052040013","RING, SHAFT SNAP","A01-1-BM4",2,0,2]
["115.","4723937010","CONNECTOR, BRK MASTER","A01-1-BM5",1,0,1]
["116.","4232137020","GASKET RR AXLE SHAFT RH","A01-1-BN4",29,0,29]
["117.","853830W010","HOLDER, FR WASHER NOZZLE","A01-1-BN5",4,0,4]
["118.","16401E0041","CAP S/A RADIATOR","A01-1-BN6",6,0,6]
["119.","9165140814","BOLT","A01-1-BO2",1,0,1]
["120.","9050116025","SPRING","A01-1-BO3",1,0,1]
["121.","3332336010","SPACER","A01-1-BP1",6,0,6]
["122.","424270W040","NUT, RR AXLE BEARING LOCK","A01-1-BP3",19,19,0]
["123.","33369JHA20","RING,SYNCHRO 3RD","A01-1-BP4",3,0,3]
["124.","3303937020","RING SET, SYNCHRONIZ","A01-1-BP6",1,0,1]
["125.","S831901451","SENSOR ASSY REV 078","A01-1-CA1",3,0,3]
["126.","S859202650","RELAY ASSY","A01-1-CA2",5,0,5]
["127.","9046707191B0","CLIP","A01-1-CA6",77,0,77]
["128.","S228231520","SEAL,OIL","A01-1-CB1",2,0,2]
["129.","SL113JBE11","NUT","A01-1-CB3",6,0,6]
["130.","746460W010B0","COVER, DUST ASSIST GRIP","A01-1-CB5",1,0,1]
["131.","S137871161","SCREW VALVE ADJ","A01-1-CB6",23,0,23]
["132.","SH55210825","BOLT","A01-1-CC1",8,0,8]
["133.","SZ10116102","BOLT,PROP SHAFT","A01-1-CC2",3,0,3]
["134.","S171041970","GASKET","A01-1-CC3",1,0,1]
["135.","SZ50802005","SPRING TENSION","A01-1-CC4",2,0,2]
["136.","9094201108","NUT HUB LH","A01-1-CC5",1,0,1]
["137.","8433237070","SWITCH HAZARD","A01-1-CC6",1,0,1]
["138.","6749637010","COVER, FR DOOR LWR FRAME","A01-1-CD1",1,0,1]
["139.","697410B010B1","KNOB","A01-1-CD2",5,0,5]
["140.","11118E0010","GASKET, CAMSHAFT HOU","A01-1-CD3",5,0,5]
["141.","S443381190","COVER PUMP BODY","A01-1-CD5",1,0,1]
["142.","175730W040","BRACKET EXHAUST PIPE SUPP NO.3","A01-1-CD6",2,0,2]
["143.","2337178450","BOLT, OVER FLOW","A01-1-CE1",4,0,4]
["144.","S440321200","SEAL SET P/S","A01-1-CE2",1,0,1]
["145.","S412311990","SPACER DIFF*****","A01-1-CE3",1,0,1]
["146.","SH55210812","BOLT FLANGE","A01-1-CE4",1,0,1]
["147.","90949T3005","SPRING","A01-1-CE5",5,0,5]
["148.","S273711210","BRUSH ALTERNATOR","A01-1-CE6",1,0,1]
["149.","S228231510","SEAL,OIL","A01-1-CF1",1,0,1]
["150.","746450W010B0","COVER, DUST ASSIST GRIP","A01-1-CF3",7,0,7]
["151.","S0850E0020","BULB","A01-1-CF4",2,0,2]
["152.","9413061600","NUT","A01-1-CF5",1,0,1]
["153.","4462136050","SEAL, BOOSTER BODY","A01-1-CF6",16,0,16]
["154.","SZ94036006","PLATE LOCK","A01-1-CG1",3,0,3]
["155.","S475061140","SHAFT ADJUSTER 078","A01-1-CG2",1,0,1]
["156.","S111221250","BUSHING VALVE","A01-1-CG4",3,0,3]
["157.","S843821010","BUSHING SWITCH 078","A01-1-CG5",1,0,1]
["158.","SZ17120001","NUT","A01-1-CG6",2,0,2]
["159.","0443AJAA40","HUB BOLT KIT FRONT RH","A01-1-CH1",10,0,10]
["160.","SL11301815","NUT","A01-1-CH2",20,0,20]
["161.","88630E0070","RELAY ASSY 078","A01-1-CH4",2,0,2]
["162.","SZ17812001","NUT, FLANGE","A01-1-CH5",4,0,4]
["163.","42428JGA21","PLATE RR LOCK NUT M54","A01-1-CH6",17,0,17]
["164.","4723537070","TUBE, RESERVOIR, NO.2","A01-1-CI1",2,0,2]
["165.","S443221310","PLATE SIDE 078","A01-1-CI2",1,0,1]
["166.","4352237020","NUT HUB SET","A01-1-CI3",1,0,1]
["167.","SZ46615007","CLIP, HOSE","A01-1-CI4",2,0,2]
["168.","SL72201210","WASHER SOFT","A01-1-CI5",2,0,2]
["169.","8421004010","SWITCH A/S BACK UP","A01-1-CJ1",4,0,4]
["170.","87207E0230","PIPE SUB ASSY,WATER","A01-1-CJ2",1,0,1]
["171.","9036005012","BALL","A01-1-CJ3",3,0,3]
["172.","SZ01070068","SPRING","A01-1-CJ4",1,0,1]
["173.","S334841150","BUSH,SPEEDO GEAR","A01-1-CJ5",1,0,1]
["174.","29603E0390","HOSE, OIL","A01-1-CJ6",1,0,1]
["175.","SZ46613007","CLIP","A01-1-CK1",1,0,1]
["176.","SZ980JHA40","FUSE","A01-1-CK3",16,0,16]
["177.","0490637440","CUP KIT, WHEEL CYL PISTON, RR","A01-1-CK6",2,2,0]
["178.","0447336040","CYL KIT, WHEEL FR NO. 1","A01-1-CL2",12,0,12]
["179.","SZ36750007","BEARING THRUST","A01-1-CL3",4,0,4]
["180.","SZ17827004","NUT, FLANGE","A01-1-CL5",1,0,1]
["181.","9036728001","BEARING, THRUST BAL","A01-1-CL6",3,0,3]
["182.","SZ930JDB62","WASHER, TRUST T 3.5","A01-1-CM1",4,0,4]
["183.","S273701360","HOLDER ASSY,ALTERNATOR","A01-1-CM3",4,0,4]
["184.","SZ94036008","PLATE LOCK R/F","A01-1-CM4",3,0,3]
["185.","33387JHA30","RING, REVERSE SYNCHRONIZER","A01-1-CM5",7,0,7]
["186.","SL15101011","NUT FLANGE","A01-1-CN1",1,0,1]
["187.","S431121120","PIN.KING PIN","A01-1-CN2",4,0,4]
["188.","SN73200132","O - RING","A01-1-CN3",2,0,2]
["189.","426340W010","NUT, HUB","A01-1-CN4",1,0,1]
["190.","3339336060","HUB, T/M","A01-1-CN5",1,0,1]
["191.","2336478450","GASKET,AIR PLUG","A01-1-CN6",10,0,10]
["192.","9038916028","BUSH*****","A01-1-CO1",6,0,6]
["193.","S228351310","BOLT,JOINT","A01-1-CO2",2,0,2]
["194.","426330W010","NUT, DOUBLE WHEEL STOP, RH","A01-1-CO4",1,0,1]
["195.","0443AE0080","HUB BOLT KIT FRONT","A01-1-CP1",12,0,12]
["196.","0447337250","CYLINDER KIT, WHEEL, FR","A01-1-CP3",5,0,5]
["197.","31290LBA40","RELEASE LEVER","A01-1-CP4",4,0,4]
["198.","1313306013","LOCKING PIN","A01-1-CP5",18,0,18]
["199.","33393JHA51","HUB TRANSMISSION CLUTCH NO.3","A01-1-CP6",5,0,5]
["200.","SL15100809","NUT FM / FL J078","A01-1-DA1",19,0,19]
["201.","S178201380","INDICATOR ASSY DUST 078","A01-1-DA2",1,0,1]
["202.","13265E0010","BOLT CONNECTING ROD","A01-1-DA3",2,0,2]
["203.","3112128041","COVER","A01-1-DA4",3,0,3]
["204.","6905737120","CYLINDER & KEY SET,","A01-1-DA5",1,0,1]
["205.","228771100L","WASHER 949010 2490","A01-1-DB3",2,0,2]
["206.","9090506020","SPRING, TENSION","A01-1-DB4",2,0,2]
["207.","228471900L","WASHER 949010 2470","A01-1-DB5",2,0,2]
["208.","3312437040","PIPE, OIL RECEIVER","A01-1-DB6",2,0,2]
["209.","90389JGA25","BUSH,FR SPRING","A01-1-DC2",10,0,10]
["210.","13751E0040","LIFTER VALVE","A01-1-DC3",2,0,2]
["211.","9036440009","BEARING, NEEDLE ROLL","A01-1-DC4",2,0,2]
["212.","S407WEV040","REPAIR KIT, POWER STEERING","A01-1-DC5",2,0,2]
["213.","16581E0020","CLAMP OR CLIP","A01-1-DC6",3,0,3]
["214.","9020113029","WASHER, PLATE","A01-1-DD1",2,0,2]
["215.","48147JAA10","BOLT,FR SPRING,CTR M12X200","A01-1-DD2",2,0,2]
["216.","9036655056","BEARING,TAPERED ROOLER,NO.2","A01-1-DD5",4,0,4]
["217.","901912617","CENTER BOLT","A01-1-DD6",3,0,3]
["218.","75315LAA40","ORNAMENT FR PANEL","A01-1-DE1",10,1,9]
["219.","SZ98032071","BULB","A01-1-DE2",15,0,15]
["220.","482470W100","BOLT, RR SPRING, CTR","A01-1-DE3",17,0,17]
["221.","69210EW012","HANDLE ASSY,OUTSIDE RH","A01-1-DE4",3,0,3]
["222.","3337136030","SPRING","A01-1-DE5",4,0,4]
["223.","9031168003","SEAL, TYPE T OIL*****","A01-1-DE6",4,2,2]
["224.","S137191510","SEAL VALVE STEM OIL R/F","A01-1-DF1",26,0,26]
["225.","SL11301411","NUT","A01-1-DF2",7,0,7]
["226.","S4710EW161","HOSE ASSY, OIL","A01-1-DF4",1,0,1]
["227.","S444081650","HOSE SUB ASSY OIL","A01-1-DF5",2,0,2]
["228.","SZ93013041","WASHER THRUST","A01-1-DF6",9,0,9]
["229.","SZ50102153","SPRING, COMPRESSION","A01-1-DG1",3,0,3]
["230.","90942JCA46","BOLT HUB RR, LH","A01-1-DG2",1,0,1]
["231.","S112131880","GASKET CYL HEAD COVER  R/F *1*","A01-1-DG3",2,0,2]
["232.","SL72201415","WASHER FUEL","A01-1-DG4",4,0,4]
["233.","SU00200232","SPRING, COMPRESSION","A01-1-DG6",1,0,1]
["234.","SZ10514017","BOLT FLANGE","A01-1-DH1",37,0,37]
["235.","23620E0010","NOZZLE ASSY 09340003520","A01-1-DH2",21,0,21]
["236.","4824737540","CENTER BOLT,WU/XZU(P=16,5CM)","A01-1-DH3",2,0,2]
["237.","SZ10118012","BOLT,TORQUE ROD","A01-1-DH5",10,0,10]
["238.","SZ10612081","CENTER BOLT***","A01-1-DH6",3,0,3]
["239.","SN44100610","BALL STEEL","A01-1-DI1",2,0,2]
["240.","373410W020","DEFLECTOR DUST","A01-1-DI2",4,0,4]
["241.","9031168002","SEAL OIL FRT HUB RH/LH","A01-1-DI3",78,50,28]
["242.","33396JHA20","RING SET SYNCHRO NO.5","A01-1-DJ1",20,0,20]
["243.","0930100110","CLUTCH GUIDE TOOL","A01-1-DJ2",1,0,1]
["244.","4477637060","HOSE BRAKE BOOSTER","A01-1-DJ3",5,0,5]
["245.","9031148024","SEAL, TYPE T OIL","A01-1-DJ4",6,0,6]
["246.","S859202570","RELAY ASSY","A01-1-DJ5",4,0,4]
["247.","4830437040","BUMPER SUB-ASSY, FR","A01-1-DJ6",3,0,3]
["248.","SZ10120003","BOLT","A01-1-DK2",4,0,4]
["249.","424270W030","NUT, RR AXLE BEARING LOCK","A01-1-DK3",12,0,12]
["250.","S44D0EW010","SPRING, SHOE RETURN","A01-1-DK5",4,0,4]
["251.","9017828001","NUT FLANGE","A01-1-DL1",45,0,45]
["252.","48247F1040","BOLT, RR SPRING, CTR","A01-1-DL2",7,0,7]
["253.","9094201107","NUT HUB RH","A01-1-DL3",18,0,18]
["254.","SZ36535017","BEARING, CYLINDRICAL","A01-1-DL4",3,0,3]
["255.","S474511310","PIN SHOE ANCHOR","A01-1-DL5",4,0,4]
["256.","48247JAA10","BOLT,RR SPRING,CTR M16X300","A01-1-DL6",1,0,1]
["257.","SZ37125045","BEARING,BALL","A01-1-DM1",1,0,1]
["258.","SZ10916008","BOLT","A01-1-DM3",10,0,10]
["259.","33381JHA51","RING SYNCHRONIZER","A01-1-DM4",7,0,7]
["260.","SZ20138004","WASHER,PLAIN","A01-1-DM5",45,0,45]
["261.","9098209002","FUSE BLOCK ( 10 A)","A01-1-DM6",1,0,1]
["262.","S094421011","EXPANDER PISTON RING","A01-1-DN1",2,0,2]
["263.","0490537090","CUP KIT, WHEEL CYL PISTON","A01-1-DN3",24,0,24]
["264.","S900707109","RIVET","A01-1-DN5",28,0,28]
["265.","314820W010","TUBE RELASE CYL TO","A01-1-DN6",1,0,1]
["266.","9011610191","BOLT,STUD","A01-1-DO1",1,0,1]
["267.","221032700L","VALVE 090140-28103D","A01-1-DO4",12,4,8]
["268.","SZ40114004","BOLT R/F","A01-1-DO6",9,0,9]
["269.","09472LBC10","NOZZLE SLEEVE BARS","A01-1-DP1",3,0,3]
["270.","42632JAA10","BOLT, DOUBLE WHEEL S LH","A01-1-DP3",11,0,11]
["271.","S137811350","ROD VALVE PUSH","A01-1-DP4",2,0,2]
["272.","4504739276","TIE ROD END RH","A01-1-DP5",4,0,4]
["273.","9161261045","BOLT, W/WASHER","A01-2-AA2",2,0,2]
["274.","SZ36650004","BEARING TAPPER ROLLER","A01-2-AA3",2,0,2]
["275.","9052096001","RING","A01-2-AB2",2,0,2]
["276.","686180W010","BRACKET FR DOOR CHECK ARM","A01-2-AB4",3,0,3]
["277.","13811E0100","ARM, VALVE ROCKER","A01-2-AB5",2,0,2]
["278.","SZ17810012","NUT","A01-2-AB6",6,0,6]
["279.","9034533004","PLUG,FOR STEERING UPP","A01-2-AC1",7,1,6]
["280.","3320537040","SHAFT SUB-ASSY, SELE","A01-2-AC3",3,0,3]
["281.","3334236021","WASHER, 3RD GEAR","A01-2-AC4",1,0,1]
["282.","228271690L","SEAL OIL 949150 2920","A01-2-AC5",2,1,1]
["283.","90260T0005","RIVET,ROUND","A01-2-AC6",2,0,2]
["284.","9034533003","PLUG, LWR","A01-2-AD2",10,0,10]
["285.","SL11301613","NUT","A01-2-AD3",12,0,12]
["286.","11213E0060","GASKET CYL HEAD COVER","A01-2-AD4",4,4,0]
["287.","S1115E0030","BOLT CYL HEAD","A01-2-AD5",4,0,4]
["288.","47447F1020","PIN, SHOE HOLD DOWN SPRING","A01-2-AE1",2,0,2]
["289.","8537646040","VALVE, WASHER, A","A01-2-AE2",1,0,1]
["290.","8434037020","SWITCH A/S STOP","A01-2-AE4",8,0,8]
["291.","SZ93014017","COLLAR","A01-2-AE5",3,0,3]
["292.","S134551820","BOLT FLYWHEEL","A01-2-AF1",1,0,1]
["293.","9009959303","PIPE, STRAIGHT","A01-2-AF2",1,0,1]
["294.","3336137070","HUB, TRANSMISSION CL","A01-2-AF3",1,0,1]
["295.","SH55211018","BOLT","A01-2-AF4",2,0,2]
["296.","48423EW010","PIN, SPRING BRACKET","A01-2-AF5",1,0,1]
["297.","223231210L","SEAL CAP 0902850030","A01-2-AF6",14,1,13]
["298.","228472280L","GASKET(090119 0160)","A01-2-AG1",3,1,2]
["299.","SZ10516005","BOLT,DIFF CASE","A01-2-AG2",3,0,3]
["300.","8534812250","JOINT, T","A01-2-AG3",1,0,1]
["301.","SH12100840","BOLT","A01-2-AG4",12,0,12]
["302.","9025004056","PIN","A01-2-AG5",2,0,2]
["303.","9009933299","TUBE, RUBBER","A01-2-AG6",1,0,1]
["304.","228271530L","SEAL OIL 9491502520","A01-2-AH1",3,1,2]
["305.","228271680L","SEAL OIL 949150 2910","A01-2-AH2",3,1,2]
["306.","228472620L","GASKET/CVR 0915170130","A01-2-AH3",3,1,2]
["307.","223851900L","DUMPER 0913370100","A01-2-AH4",12,6,6]
["308.","3325737090","LEVER, SELECT, OUTER","A01-2-AH6",1,0,1]
["309.","SZ20108025","WASHER,PLAINR SPG NO1","A01-2-AI3",7,0,7]
["310.","4814737270","BOLT, FR SPRING, CTR","A01-2-AI4",5,0,5]
["311.","S342651010","NIPPLE T/M 078","A01-2-AI5",18,0,18]
["312.","S137111632","VALVE INTAKE STD  R/F","A01-2-AI6",2,0,2]
["313.","33363JHA60","SLEEVE, TRANSMISSION NO.1","A01-2-AJ1",10,0,10]
["314.","SZ17012051","NUT, HEXAGON","A01-2-AJ2",6,0,6]
["315.","SZ17820001","NUT DIFF","A01-2-AJ4",8,0,8]
["316.","SL51201236","L0CK WASHER R/F","A01-2-AK1",6,0,6]
["317.","1658178100","CLAMP, HOSE","A01-2-AK3",3,0,3]
["318.","111181011L","GASKET CAMSHAFT HOUSING *","A01-2-AK5",2,0,2]
["319.","90260T0004","RIVET,ROUND","A01-2-AK6",2,0,2]
["320.","3336537060","KEY,SYNCHROMESH SHI","A01-2-AL1",2,0,2]
["321.","22811E0040","STAY, INJECT PUMP","A01-2-AL2",1,0,1]
["322.","S1115E0040","BOLT CYLD HEAD","A01-2-AL3",12,0,12]
["323.","9003170106","NUT","A01-2-AL4",3,0,3]
["324.","13951E0070","SUPPORT, VALVE ROCKE","A01-2-AL5",3,0,3]
["325.","SH12130840","BOLT","A01-2-AL6",5,0,5]
["326.","9017952001","NUT","A01-2-AM2",1,1,0]
["327.","11811E0030","BEARING,CAMSHAFT,NO1","A01-2-AM3",1,0,1]
["328.","13951E0060","SUPPORT, VALVE ROCKER","A01-2-AM4",1,0,1]
["329.","75311F1010","PLATE, FRONT NAME, NO.1, HINO","A01-2-AN3",2,0,2]
["330.","13951E0080","SUPPORT, VALVE ROCKER","A01-2-AN4",1,0,1]
["331.","89411E0050","SENSOR ASSY SPEED","A01-2-AN5",2,0,2]
["332.","223231430L","SEAL CAP 0902850050","A01-2-AN6",4,1,3]
["333.","S373412000","DEFLECTOR 078","A01-2-AO1",1,0,1]
["334.","SL51201648","LOCK WASHER","A01-2-AO2",5,0,5]
["335.","11831E0020","BEARING,CAMSHAF,NO 3","A01-2-AO4",1,0,1]
["336.","S335531091","SEAT,SHIFT LEVER SPG","A01-2-AO6",1,0,1]
["337.","SZ11916004","BOLT","A01-2-AP1",4,0,4]
["338.","2769078110","SOLENOID A/S, W/BRKT","A01-2-AP2",1,0,1]
["339.","42427F1010","NUT LH,RR AXLE BEARING LOCK","A01-2-AP3",1,0,1]
["340.","SZ36635017","BEARING TAP ROL","A01-2-AP4",1,0,1]
["341.","42427F1020","NUT, RR AXLE BEARING LOCK","A01-2-AP6",1,0,1]
["342.","85214YX010","BLADE W/SHIELD RUBBER","A01-2-BA1",1,0,1]
["343.","82956EW010","COVER, ELECTRICAL PARTS","A01-2-BA2",3,0,3]
["344.","4752037110","CYLINDER ASSY WHELL","A01-2-BA5",1,0,1]
["345.","770170W020","TUBE S/A, FUEL TANK VENT","A01-2-BA6",3,0,3]
["346.","SZ36660008L","BEARING TAPPER 30312DJR","A01-2-BA7",1,0,1]
["347.","41371E0090","SPIDER DIFF R/F","A01-2-BB1",3,0,3]
["348.","04371E1261","SPIDER KIT UNIVERSAL","A01-2-BB3",2,0,2]
["349.","47550EV090","CYLINDER ASSY RR","A01-2-BB4",1,0,1]
["350.","9038916003L","BUSHING","A01-2-BB5",16,0,16]
["351.","SZ94084376","U-BOLT RR","A01-2-BB6",4,0,4]
["352.","454201611","END TIE ROD RH","A01-2-BC1",1,0,1]
["353.","SZ17730002","NUT PINION","A01-2-BC2",20,0,20]
["354.","SZ36690006","BEARING *1*","A01-2-BC3",1,0,1]
["355.","SZ10118015","BOLT,TORQUE ROD","A01-2-BC4",9,0,9]
["356.","SZ101JIA13","BOLT, TORQUE ROD","A01-2-BC5",1,0,1]
["357.","523070W010","BRACKET S/A CAB NO.2","A01-2-BC6",2,0,2]
["358.","3720735011L","CUSHION S/A CTR SUPPORT","A01-2-BD1",40,0,40]
["359.","S4606EV022","SHOE SUB ASSY","A01-2-BD2",2,0,2]
["360.","483061860L","BUMPER STOPPER (S)","A01-2-BD3",4,0,4]
["361.","48418LBC10","BRACKET HELPER FG8J","A01-2-BD4",2,0,2]
["362.","3123237010","CLIP","A01-2-BD5",10,0,10]
["363.","47570F1010","CYLNDER ASSY,WHEEL BRAKE,RR LH","A01-2-CA1",3,0,3]
["364.","47520F1010","CYLINDER ASSY, WHEEL","A01-2-CA5",6,0,6]
["365.","47540F1010","CYLINDER ASSY, WHEEL","A01-2-CA6",4,0,4]
["366.","47510F1010","CYLINDER ASSY, WHEEL","A01-2-CA7",7,0,7]
["367.","221044550L","PLUNGER 090150-6470","A01-2-CB2",10,4,6]
["368.","040220380L","OVERHAUL KIT 190440-0380","A01-2-CB3",3,1,2]
["369.","51431EW020","BRACKET E/MTG RR RH","A01-2-CB4",2,0,2]
["370.","411510W020","CAGE, DIFF DRIVE PINION T/B","A01-2-CB5",1,0,1]
["371.","47530F1010","CYLINDER ASSY, WHEEL","A01-2-CB7",7,0,7]
["372.","S411234260","SHIM DIFF.","A01-2-CC1",3,0,3]
["373.","27060E0450","ALTERNATOR W/R 078","A01-2-CC2",3,0,3]
["374.","33530E0120","LEVER ASSY, SHIFT","A01-2-CC3",2,0,2]
["375.","SZ117T0009","BOLT, U","A01-2-CD1",8,0,8]
["376.","483440W030","STOPPER BUMPER RR","A01-2-CD2",4,0,4]
["377.","SZ94087035","BUSHING","A02-1-AB1",20,0,20]
["378.","86650E0030","BUZZER ASSY","A02-1-AB2",3,0,3]
["379.","3142025040","CYL ASSY, CLUTCH  MASTER","A02-1-AB3",5,5,0]
["380.","3336437040","SLEEVE, TRANSMISSION HUB, NO.2","A02-1-AB4",1,0,1]
["381.","3303837030","RING SET, SYNCHRON N0.2 *1*","A02-1-AC1",3,0,3]
["382.","3303737050","RING SET, SYNCHRONIZ NO.1","A02-1-AC4",11,2,9]
["383.","3339636010","RING, SYNCHRONIZER NO.5TH","A02-1-AD1",2,0,2]
["384.","SZ10120001","BOLT","A02-1-AD2",10,0,10]
["385.","SZ36530002","BEARING","A02-1-AD3",6,0,6]
["386.","3336437052","SLEEVE, TRANSMISSION HUB, NO.2","A02-1-AD4",9,0,9]
["387.","S411234940","SHIM,DIFF","A02-1-AE1",2,0,2]
["388.","04042LBA50","HUB BOLT KIT RR, LH","A02-1-AE2",10,0,10]
["389.","9913221210","BULB","A02-1-AE4",24,0,24]
["390.","42323LGA10","WASHER CONE RR, AXLE SHAFT","A02-1-AF2",1000,118,882]
["391.","3339337051","HUB, TRANSMISSION CL","A02-1-AF3",1,0,1]
["392.","SZ31190005","SEAL OIL","A02-1-AF4",10,0,10]
["393.","0443AE0040","HUB BOLT KIT FRT RH","A02-1-AG4",26,0,26]
["394.","1324204009","CLUTCH BODY","A02-1-AH3",2,0,2]
["395.","9038916026","BUSH,FR SPRING NO.2*****","A02-1-AH4",42,0,42]
["396.","S276103870","VALVE ASSY,VACUUM","A02-1-BB2",5,0,5]
["397.","SZ31180004","SEAL, OIL","A02-1-BB3",2,0,2]
["398.","9098117019","BULB DUT 24 V","A02-1-BC2",20,0,20]
["399.","3336237030","HUB, TRANSMISSION CLUTCH, NO.2","A02-1-BC4",22,0,22]
["400.","04042LBA49","HUB BOLT KIT RR, RH","A02-1-BD1",12,7,5]
["401.","S411234910","SHIM,DIFF","A02-1-BD2",19,0,19]
["402.","9036347001","BEARING, RADIAL BALL","A02-1-BD3",7,0,7]
["403.","S281601580","ARMATURE ASSY START","A02-1-BD4",5,0,5]
["404.","9036340075","BEARING, RADIAL BALL","A02-1-BE1",28,0,28]
["405.","9031178001","SEAL OIL AXLE SHAFT RH/LH","A02-1-BE4",26,0,26]
["406.","1311304255","SYNCRHO.RING","A02-1-BF3",1,0,1]
["407.","3324437070","SHAFT, GEAR SHIFT FO","A02-1-BF4",1,0,1]
["408.","S314091040","CYL. ASSY CLUTCH MAIN","A02-1-BG2",1,0,1]
["409.","SZ37130016","BEARING,BALL","A02-1-BG3",8,0,8]
["410.","33038JHA40","RING SET, SYNCHRO NO.2","A02-1-BH1",6,0,6]
["411.","S1304E0160","RING SUB SET PISTON","A02-1-BH3",3,0,3]
["412.","NPNS002","REPAIR KIT, TURBOCHARGER","A02-1-BH4",5,0,5]
["413.","S130192080","RING S/SET PISTON","A02-1-CB4",1,0,1]
["414.","692600B010B1","HANDLE ASSY,DOOR WINDOW REGLTR","A02-1-CC1",2,2,0]
["415.","33037JHA50","RING SET SYNCHRO NO.1","A02-1-CC4",1,0,1]
["416.","90981JHA19","BULB DUT 24 V","A02-1-CD1",1,0,1]
["417.","3336937020","RING, SYNC, FOR 3RD GEAR","A02-1-CD2",16,0,16]
["418.","SZ31100003","SEAL TYPE T OIL","A02-1-CD3",16,0,16]
["419.","9036538006","BEARING, CYLINDRICAL","A02-1-CD4",1,0,1]
["420.","4734537060","TUBE WHEEL CYL RR LH","A02-1-CE1",1,0,1]
["421.","S470591210","REPAIR KIT CUP BRAKE RR WHEEL","A02-1-CE2",1,0,1]
["422.","175650W010","SUPPORT EXHAUST PIPE NO.4","A02-1-CE4",4,0,4]
["423.","90083LCC14","BULB 24V-25/10W (2 FILAMEN)","A02-1-CF1",20,0,20]
["424.","426310W010","BOLT, DOUBLE WHEEL S","A02-1-CF2",7,0,7]
["425.","6920537010","HANDLE A/S FR DR RH","A02-1-CF3",3,0,3]
["426.","3303336090","TRANS. GEAR 2ND","A02-1-CG1",1,0,1]
["427.","4734637020","TUBE WHEEL CYL RR LH","A02-1-CG2",14,10,4]
["428.","90070JHB09","RIVET M6X14.5 (STEEL)","A02-1-CG4",544,50,494]
["429.","9036449004","BEARING, NEEDLE ROLL","A02-1-CH3",1,0,1]
["430.","4242736030","NUT RR AXLE BRG LOCK","A02-1-CH4",50,0,50]
["431.","3336137060","HUB, TRANSMISSION NO.1","A02-1-DC2",41,0,41]
["432.","9036655060","BEARING, TAPERED ROL","A02-1-DC4",2,0,2]
["433.","27690E0250","VALVE ASSY, VACUUM SWITCHING","A02-1-DD1",2,0,2]
["434.","9036448012","BEARING, NEEDLE ROLL","A02-1-DD3",4,0,4]
["435.","0431125020","CYL KIT, CLUTCH MASTER","A02-1-DD4",1,0,1]
["436.","4232336010","WASHER CONE RR AXLE SHAFT","A02-1-DE1",20,0,20]
["437.","9913211210","BULB","A02-1-DE2",9,0,9]
["438.","3303837040","RING SET, SYNCHRON N0.2","A02-1-DF4",1,0,1]
["439.","8665037090","BUZZER ASSY","A02-1-DG3",43,0,43]
["440.","S234011133","FUEL FILTER ELEMENT","A02-1-DG4",1,0,1]
["441.","0490536160","CUP KIT,FRONT WHEEL CYL","A02-1-DH1",34,0,34]
["442.","90366JAA12","BEARING TAPROLL (90366-60012)","A02-1-DH3",9,0,9]
["443.","33383E0040","RING, 4TH SYNCHRONIZ *PLURAL","A02-1-DH4",2,0,2]
["444.","1268304594","SYNCRHO.RING","A02-2-AB1",1,0,1]
["445.","SZ52101002","RING RITAINER","A02-2-AB2",2,0,2]
["446.","31470E0042","CYL ASSY, CLUTCH RELEASE","A02-2-AB3",1,0,1]
["447.","SZ38450012","BUSHING","A02-2-AB4",8,0,8]
["448.","13041E0710","BEARING SET,CONROD U/S 0.25","A02-2-AC2",1,0,1]
["449.","33038JHA30","RING SET SYNCHRO NO.2","A02-2-AC3",11,0,11]
["450.","9413002002","NUT","A02-2-AC4",8,0,8]
["451.","23300E0221","FILTER ASSY, FUEL","A02-2-AD1",2,0,2]
["452.","9036448008","BEARING, NEEDLE ROLL","A02-2-AD2",1,0,1]
["453.","SZ31176002","SEAL OIL R/F","A02-2-AD3",3,0,3]
["454.","693100W010","LOCK A/S FR DR RH","A02-2-AD4",3,0,3]
["455.","33364JHA52","SLEEVE, TRANSMISSION HUB NO.2","A02-2-AE1",3,0,3]
["456.","SZ36663001","BEARING TAPPER ROLLER","A02-2-AE2",2,0,2]
["457.","48423E0030","PIN SPG BRACKET*****","A02-2-AE3",8,0,8]
["458.","9017910067","NUT","A02-2-AE4",4,4,0]
["459.","S322501380","PISTON ASSY 078","A02-2-AF2",1,0,1]
["460.","S110111240","WASHER SET,C/S THRUST STD","A02-2-AF3",10,0,10]
["461.","485220W010","PIN, FR SHOCK ABS","A02-2-AF4",6,0,6]
["462.","9098205062","TERMINAL ASSY, BATTERY (+)","A02-2-AG1",155,0,155]
["463.","90116LAB91","BOLT,STUD","A02-2-AG2",506,16,490]
["464.","9017816004","NUT, FLANGE","A02-2-AG3",14,0,14]
["465.","90083LCC15","BULB 24VOLT-25W","A02-2-AG4",118,1,117]
["466.","84112EV020","SWITCH SUB ASSY 078","A02-2-AH1",1,0,1]
["467.","90048LEG17","U BOLT M20X210X82L+NUT","A02-2-AH2",1,0,1]
["468.","1236178111","INSULATOR ENGINE FRONT","A02-2-AH3",7,0,7]
["469.","S281502244","SWITCH START MAGNET","A02-2-BB1",2,0,2]
["470.","4734237061","TUBE WHEL CYL NO.2 FR RH","A02-2-BB3",2,0,2]
["471.","S421471030","GUIDE OIL SEAL","A02-2-BB4",2,0,2]
["472.","372351060L","CUSHION CENTRE SG","A02-2-BC1",1,0,1]
["473.","4351437030","CAP FR HUB GREASE","A02-2-BC2",1,1,0]
["474.","33361E0090","HUB,TRANSMISSION C","A02-2-BC3",1,0,1]
["475.","4134136011","PINION RR DIFF","A02-2-BC4",27,0,27]
["476.","SZ38066003","BUSHING","A02-2-BD1",2,0,2]
["477.","0431337030","CYL KIT,CLUTCH WU300,340, XZU","A02-2-BD2",12,0,12]
["478.","SZ95062240","TUBE*****","A02-2-BD3",1,0,1]
["479.","9094202046","BOLT HUB RR LH","A02-2-BE1",109,0,109]
["480.","9094202045","BOLT HUB RR RH","A02-2-BE2",15,0,15]
["481.","SZ101JIA12","BOLT, TORQUE ROD","A02-2-BE4",10,0,10]
["482.","484231561L","PIN SPRING M22X138XD.30","A02-2-BF1",8,0,8]
["483.","S281401600","HOLDER BRUSH","A02-2-BF2",5,0,5]
["484.","9025010055","PIN","A02-2-BF4",235,4,231]
["485.","4462136070","SEAL, BOOSTER BODY,","A02-2-BG1",59,50,9]
["486.","4242737050","NUT RR AXLE BRG LOCK LH (NS)","A02-2-BG3",4,0,4]
["487.","94790LGB13","RIVET M6X12 (STEEL)","A02-2-BG4",3238,0,3238]
["488.","12305E0140","INSULATOR S/A ENGINE MT FR","A02-2-BH1",2,0,2]
["489.","48042LFA30","SHACKLE S/A SPRING","A02-2-BH2",2,2,0]
["490.","900484521L","U BOLT M20X200X82L+NUT","A02-2-BH3",6,0,6]
["491.","SZ940TJ004","U-BOLT,LEAF SPG","A02-2-BH4",2,0,2]
["492.","4477437250","HOSE UNION","A02-2-CB4",5,0,5]
["493.","SZ94021016","NUT HUB RH  R/F","A02-2-CC1",50,0,50]
["494.","3123037010","BEARING, CLUTCH RELEASE","A02-2-CD1",6,0,6]
["495.","SZ10612079","CENTER BOLT","A02-2-CD2",33,0,33]
["496.","S164011570L","CAP RADIATOR 0.9","A02-2-CD4",102,20,82]
["497.","SZ18639002","NUT","A02-2-CE1",12,0,12]
["498.","SZ21439004","WASHER LOCK","A02-2-CE2",9,0,9]
["499.","3303836010","RING SET","A02-2-CE3",4,0,4]
["500.","3303936010","RING SET","A02-2-CE4",9,0,9]
["501.","9017818002","NUT, FLANGE","A02-2-CF1",6,0,6]
["502.","90191LCD57","CENTER BOLT(M10X250)","A02-2-CF3",1,1,0]
["503.","SZ10916023","BOLT","A02-2-CG1",6,0,6]
["504.","90178JGA04","NUT, FLANGE","A02-2-CG2",219,2,217]
["505.","SH12231640","BOLT","A02-2-CG3",170,0,170]
["506.","4841837040","BRACKET HELPER, NO.6","A02-2-CH1",8,0,8]
["507.","4841637030","BRACKET, SPR,NO.4","A02-2-CH2",2,2,0]
["508.","48441E0070","SHACKLE S/A","A02-2-CH3",2,0,2]
["509.","69210E0030","HANDLE ASSY DOOR OUTER RH","A03-1-AA1",9,0,9]
["510.","S281502650","SWITCH ASSY,START MAGNT","A03-1-AA2",7,0,7]
["511.","852120W060","BLADE, FR WIPER, RH","A03-1-AB1",4,0,4]
["512.","S281201801","YOKE ASSY START 078","A03-1-AB3",1,0,1]
["513.","0411178092","GASKET KIT ENGINE O/H ST/LT","A03-1-AB4",1,0,1]
["514.","33395JGA50","SLEEVE, TRANSMISSION NO.3","A03-1-AB5",9,0,9]
["515.","1111578101","GASKET CYL HEAD","A03-1-AC1",6,6,0]
["516.","11115LAA30","GASKET,CYLINDER HEAD","A03-1-AC2",7,0,7]
["517.","74201E0021","PANEL SUB-ASSY, FR A","A03-1-AC3",1,0,1]
["518.","69220E0030","HANDLE ASSY,FR DOOR","A03-1-AD2",9,0,9]
["519.","041117C096","GASKET KIT ENGINE O/H","A03-1-AD3",5,5,0]
["520.","16100E0531","PUMP ASSY WATER","A03-1-AD4",1,1,0]
["521.","NPN371","DIFFERENTIAL GEAR KIT FG,FL,FM","A03-1-AE1",2,0,2]
["522.","S49N0EW010","CHAMBER ASSY AIR BRAKE, FR","A03-1-AE2",1,0,1]
["523.","S1570E0061","COOLER ASSY, OIL W/FLTR/ELMT","A03-1-AE4",1,0,1]
["524.","S281201960","YOKE ASSY, START","A03-1-BA1",3,0,3]
["525.","S475301160","WHEEL CYLINDER","A03-1-BA2",4,0,4]
["526.","692060W020B0","HANDLE S/A FR DOOR INSIDE LH","A03-1-BA3",4,0,4]
["527.","S282551022","SHAFT DRIVE 078","A03-1-BA4",14,0,14]
["528.","692050W020B0","HANDLE S/A FR DOOR INSIDE RH","A03-1-BA5",4,0,4]
["529.","4653037030","SHOE A/S, PARKING BRAKE","A03-1-BB1",1,0,1]
["530.","28150EV080","SWITCH ASSY, MAIN","A03-1-BB2",4,0,4]
["531.","S280111470","CLUTCH SUB ASSY,STAR","A03-1-BB3",4,0,4]
["532.","90981JDA58","BULB DUT 12 V","A03-1-BB4",105,1,104]
["533.","MBSME121646","SEPARATOR ASSY","A03-1-BB5",1,0,1]
["534.","S465301240","SHOE ASSY P/B","A03-1-BC2",12,0,12]
["535.","SU00200543","CENTER BRAKE ASSY","A03-1-BC3",3,0,3]
["536.","8445037120","SWITCH ASSY","A03-1-BC4",1,0,1]
["537.","48511LAA40","SHOCK ABSORBER, FRONT RH","A03-1-BD1",10,0,10]
["538.","746400W010B0","GRIP A/S,DOOR ASSY,LH","A03-1-BD2",4,0,4]
["539.","S49Q0EW010","CHAMBER ASSY BRAKE, RR","A03-1-BE2",1,0,1]
["540.","484120W020","BRACKET, SPRING NO.1 LH","A03-1-BE3",1,0,1]
["541.","28100JAE80","STARTER ASSY","A03-1-BE4",1,1,0]
["542.","870940W110","STAY S/A, OUTER RR MIRROR LH","A03-1-CA1",2,0,2]
["543.","538020W010","PANEL S/A, FR SIDE,LH","A03-1-CA2",2,0,2]
["544.","538010W010","PANEL S/A, FR SIDE,RH","A03-1-CA3",2,0,2]
["545.","48304LGA80","BUMPER S/A SPRING, FRONT","A03-1-CB1",26,4,22]
["546.","4830436080","BUMPER S/A FR SPRG *1*","A03-1-CB2",1,0,1]
["547.","9036650069","BEARING, TAPERED ROLL #","A03-1-CB3",8,5,3]
["548.","4830436080L","BUMPER STOPPER","A03-1-CC1",1,0,1]
["549.","988490107L","BEARING","A03-1-CC2",10,0,10]
["550.","988485117L","BEARING","A03-1-CC3",30,0,30]
["551.","48412EW010","BRACKET,SPRING,NO.1 LH","A03-1-CD1",1,0,1]
["552.","S120313040L","ENGINE MOUNTING FRT","A03-1-CE1",4,0,4]
["553.","28100E0090","STARTER ASSY","A03-1-CE2",2,0,2]
["554.","47420EV060","SHOE ASSY RR","A03-1-CE4",9,0,9]
["555.","87910LAB40","MIRROR ASSY, OUTER RH","A03-1-DA1",3,0,3]
["556.","44610E0023","BOOSTER A/S BRAKE","A03-1-DA2",1,1,0]
["557.","04431JHB80","KING PIN KIT","A03-1-DB1",18,0,18]
["558.","2815078090","SWITCH A/S MAINT (W04D)","A03-1-DB2",5,0,5]
["559.","0442AJAA80","HUB BOLT KIT, RR RH","A03-1-DB3",12,0,12]
["560.","SZ366JFA08","BEARING TAP ROLL,FR AXLE(INNER","A03-1-DC1",1,0,1]
["561.","S474511290","PIN SHOE ANCHOR","A03-1-DC2",39,0,39]
["562.","0443AJAD40","HUB BOLT KIT FR","A03-1-DC3",9,0,9]
["563.","90033LGB35","BEARING","A03-1-DC4",2,0,2]
["564.","98847JAB15","BEARING TAP ROLL, PINION GEAR","A03-1-DD1",1,0,1]
["565.","04431LHE60","KING PIN KIT, STERRING KNUCKLE","A03-1-DD2",3,3,0]
["566.","4242737050L","NUT RR AXLE LOCK LH","A03-1-DD3",55,15,40]
["567.","4242737020L","NUT RR AXLE LOCK RH","A03-1-DD4",66,0,66]
["568.","0449437021","SHOE KIT,FR BRAKE,75T","A03-1-DE2",1,0,1]
["569.","69310EW010","LOCK ASSY, FR DOOR RH","A03-2-AA2",5,0,5]
["570.","48403EW031","BRACKET SUB ASSY, SPRING","A03-2-AA3",4,0,4]
["571.","5211337900","EXTENSION LH","A03-2-AA4",2,0,2]
["572.","0437137110","SPIDER KIT, RR PROP SHAFT","A03-2-AB2",13,0,13]
["573.","6749537010","COVER","A03-2-AB4",1,0,1]
["574.","8121039145","LAMP ASSY, FOG","A03-2-AC3",9,0,9]
["575.","S374041230","BEARING CENTER","A03-2-AC4",1,0,1]
["576.","47550EV160","CYLINDER ASSY, WHEEL","A03-2-AC5",2,0,2]
["577.","13260EW021","CONNECTING ROD ASSY","A03-2-AD2",2,0,2]
["578.","48412E0020","BRACKET SPRING","A03-2-AE1",2,0,2]
["579.","48411E0020","BRACKET SPRING","A03-2-AE2",4,0,4]
["580.","0410721042","HINO GI PWR STRG FLUID 20LT","A03-2-AE5",68.5,4.5,64]
["581.","17113E0N40","PIPE INTAKE","A03-2-BA1",4,0,4]
["582.","47410EV240","BRAKE SHOE ASSY FR","A03-2-BA3",4,0,4]
["583.","S811041290","SOCKET SUB 078","A03-2-BB1",14,0,14]
["584.","SZ36685011","BEARING, TAP ROLLER","A03-2-BB2",1,0,1]
["585.","33381E0060","RING, 2ND SYNCHRONIZ","A03-2-BB3",1,0,1]
["586.","2330078450","FILTER ASSY, FUEL","A03-2-BB4",2,0,2]
["587.","16304E0060","OUTLET S/A","A03-2-BC1",5,0,5]
["588.","11520A","CATALOG NEW DUTRO 928A","A03-2-BC2",2,0,2]
["589.","18070A","CATALOG FL/FM8J (230 SERIES)","A03-2-BC3",1,0,1]
["590.","11525A","CATALOG NEW DUTRO 4","A03-2-BC4",3,0,3]
["591.","81670E0011","LAMP ASSY, BACKUP","A03-2-BD1",13,0,13]
["592.","16250E0280","CLUTCH ASSY, FAN","A03-2-BD2",2,0,2]
["593.","314810W060","TUBE MASTER CYL TO TUBE CONECT","A03-2-BD3",1,0,1]
["594.","S4605EV052","SHOE SUB ASSY","A03-2-BD4",2,0,2]
["595.","483440W020","STOPPER BUMPER RR LT/GT/HT","A03-2-BE2",3,0,3]
["596.","48344LAA20","STOPER BUMBER RR","A03-2-BE3",1,0,1]
["597.","0915136051","WRENCH HUB NUT BOX","A03-2-BE4",1,0,1]
["598.","48414E0020","BRACKET SPRING NO.3","A03-2-BE5",7,2,5]
["599.","6905837080","CAP & KEY SET, FUEL","A03-2-CA1",5,0,5]
["600.","4528625161B0","COVER, STEERING COLU","A03-2-CA2",4,0,4]
["601.","S470591260","REPAIR KIT CUP RR WHEEL","A03-2-CA3",2,0,2]
["602.","164700W010","RESERVE TANK ASSY, RADIATOR","A03-2-CA4",1,0,1]
["603.","23600E0010","HOLDER NOZZLE","A03-2-CA5",1,0,1]
["604.","SZ38071001","BUSHING","A03-2-CB3",4,0,4]
["605.","3123036200","BEARING ASSY, CLUTCH *1*","A03-2-CB4",13,0,13]
["606.","15110E0312","PUMP A/S, OIL ST,LT","A03-2-CB5",1,0,1]
["607.","S4540E0150","END TIE ROD RH","A03-2-CC1",1,0,1]
["608.","69810E0020","REGULATOR ASSY DOOR 078","A03-2-CC2",4,0,4]
["609.","6980237041","REGULATOR S/A, DOOR WINDOW LH","A03-2-CC3",6,0,6]
["610.","S4550E0150","END TIE ROD LH R/F","A03-2-CC4",3,0,3]
["611.","S130BE0K80","PISTON & PISTON RING","A03-2-CD1",2,0,2]
["612.","44101EV250","WORM ASSY STEERING","A03-2-CD2",1,0,1]
["613.","SZ36650014","BEARING TAP *1*","A03-2-CD3",4,0,4]
["614.","484130W010","BRACKET, SPRING NO.2","A03-2-CE1",2,0,2]
["615.","S098493203","WRENCH,HUB NUT","A03-2-CE4",13,0,13]
["616.","23761E0020","PIPE, NOZZLE LEAKAGE","A04-1-AB1",4,0,4]
["617.","8445037281","SWITCH ASSY IGNITION","A04-1-AB2",5,1,4]
["618.","0490637212","CUP KIT, RR WHEEL CYL","A04-1-AB3",13,0,13]
["619.","SZ36665007","BEARING","A04-1-AC2",3,0,3]
["620.","0490537141","CUP KIT,FR WHEEL CYL","A04-1-AC3",30,0,30]
["621.","4754037101","CYLINDER ASSY, WHEEL","A04-1-AD1",5,2,3]
["622.","4753037081","CYLINDER ASSY, WHEEL","A04-1-AD2",8,0,8]
["623.","4752037102","CYLINDER ASSY, WHEEL","A04-1-AD3",7,0,7]
["624.","45046LJE16","TIE ROD END DUTRO, RH","A04-1-AF1",1,1,0]
["625.","4720737020","CYLINDER S/A (U/BUSHNYA,27 MM)","A04-1-AF3",13,0,13]
["626.","4757037102","CYLINDER ASSY, WHEEL","A04-1-AG1",6,0,6]
["627.","15407E0210","PIPE S/A TURBO OIL INLET","A04-1-BB4",2,0,2]
["628.","0490637210","CUP KIT, RR WHEEL CYL","A04-1-BC3",49,0,49]
["629.","482840W100","NUT,RR CENTER BOLT","A04-1-BD4",131,0,131]
["630.","3723036063","BRG A/S CTR SUPPORT 1","A04-1-BE3",7,0,7]
["631.","SZ106JCA79","CENTER BOLT","A04-1-BF3",13,0,13]
["632.","S117011611","BEARING SET CRANKSHAFT","A04-1-BF4",22,0,22]
["633.","484232250L","PIN SPRING M30X149XD30","A04-1-BG1",9,0,9]
["634.","90033LGA38","BEARING RADIAL BALL","A04-1-BG3",8,0,8]
["635.","3671437241","GEAR,PTO","A04-1-BG4",1,0,1]
["636.","4754037110","CYLINDER ASSY, WHEEL","A04-1-CB4",14,0,14]
["637.","S117012420","BEARING SET,CRAN STD (FB2WGLZ)","A04-1-CC1",46,0,46]
["638.","4753037082","CYLINDER ASSY, WHEEL","A04-1-CC2",6,0,6]
["639.","3304437020","GEAR, 3RD","A04-1-CC3",7,0,7]
["640.","3342637020","GEAR, 1ST","A04-1-CD2",1,1,0]
["641.","3342537020","GEAR, REVERSE","A04-1-CD3",6,0,6]
["642.","3342437010","GEAR, 2ND","A04-1-CE2",7,2,5]
["643.","S374041240","BEARING SUB ASSY CENTER SG","A04-1-CE4",41,0,41]
["644.","S485221580","PIN FR SHOCKABSORBER *****","A04-1-CF1",2,0,2]
["645.","4504739225L","TIE ROD END, DUTRO LH","A04-1-CF3",37,0,37]
["646.","3321437040","FORK, GEAR SHIFT,NO.3","A04-1-CF4",1,0,1]
["647.","123610020L","ENGINE MOUNTING FRT DUTRO E2","A04-1-CG2",1,0,1]
["648.","9036655054","BEARING TAPROLL (LAL12-17220)#","A04-1-DB1",1,0,1]
["649.","9036635105","BEARING TAP(LAL12-17210)","A04-1-DB2",2,2,0]
["650.","SZ36665004","BEARING WHEEL RR OUTER *1*","A04-1-DB3",9,0,9]
["651.","S374041290","BEARING SUB ASSY CENTER","A04-1-DB4",1,0,1]
["652.","4133136031","GEAR RR DIFF SIDE","A04-1-DC1",8,0,8]
["653.","9038428009L","BUSHING SPRING 28X36X68","A04-1-DC2",15,0,15]
["654.","999312101L","BUSHING SPRING(OUT38XIN30XP78)","A04-1-DC3",8,0,8]
["655.","48423LCG60","PIN SPRING D.30X157","A04-1-DD2",10,0,10]
["656.","90384JIA05","BUSHING KIN PIN","A04-1-DD3",10,0,10]
["657.","9038916025","BUSH,FR SPRING NO.2*****","A04-1-DD4",1,0,1]
["658.","48423E0060","PIN SPRING *****","A04-1-DE2",24,0,24]
["659.","82123LAA20","CABLE BATTERY/ WIRE E/G NO.3","A04-1-DE3",50,0,50]
["660.","S819801930","FLASHER ASSY TURN SIGN 078","A04-1-DE4",9,0,9]
["661.","0443137180","KING PIN #","A04-1-DF1",12,0,12]
["662.","0443137460","KING PIN KIT, STRG KNUCKLE #","A04-1-DF2",17,0,17]
["663.","48424LAA10","PIN SPG BRACKET,NO.2","A04-1-DF3",1,0,1]
["664.","484232660L","PIN SPRING D30 X 157","A04-1-DG1",12,0,12]
["665.","48423LBF61","PIN SPRING M22X138XD.30","A04-1-DG4",1,0,1]
["666.","3321037020","FORK ASSY, GEAR SHIFT","A04-2-AB2",1,0,1]
["667.","SZ50203008","SPRING CONICAL 078","A04-2-AB3",147,0,147]
["668.","687100W011","HINGE ASSY, DOOR, UPR","A04-2-AB4",10,3,7]
["669.","82124E0100","CABLE","A04-2-AC2",20,0,20]
["670.","S443142010","SPRING,REG A/PRESS","A04-2-AC3",28,0,28]
["671.","S470591230","REPAIR KIT CUP FR WHEEL","A04-2-AD1",60,0,60]
["672.","SZ36650015","BEARING TAP ROL *1*","A04-2-AD2",11,0,11]
["673.","879020W050","ARM S/A, MIRROR RR,RH","A04-2-AD3",2,0,2]
["674.","S312421060","BEARING CLUTCH THROWOUT R/F","A04-2-AE1",2,0,2]
["675.","48423LAA10","PIN SPRING BRACKET M20X116,5X","A04-2-AE2",2,2,0]
["676.","S474501300","SPRING ASSY BRAKE","A04-2-AE3",110,0,110]
["677.","48423EW020","PIN, SPRING BRACKET","A04-2-AE4",7,0,7]
["678.","3320337020","SHAFT SUB-ASSY, SHIFT","A04-2-AF1",1,0,1]
["679.","4843536020L","ATTACHMENT LT/GT/HT LD/MD/HD","A04-2-AF2",16,6,10]
["680.","90048LEF21","U BOLT M20X200X82L+NUT","A04-2-AF3",20,0,20]
["681.","48423LBH90","PIN SPRING D.30X148L","A04-2-AF4",12,0,12]
["682.","9008011533A","BOLT U, FR","A04-2-AG1",6,0,6]
["683.","S139011190","SHAFT ROCKER ARM","A04-2-AG2",1,0,1]
["684.","900484617L","U BOLT M20X210X82L+NUT","A04-2-AG3",3,0,3]
["685.","90117LIA10","U-BOLT,RR","A04-2-AG4",2,0,2]
["686.","SZ31101046","SEAL OIL  R/F","A04-2-BB1",44,0,44]
["687.","SZ31101011","SEAL OIL","A04-2-BB2",6,0,6]
["688.","SZ31101033","SEAL OIL R/F","A04-2-BB4",20,0,20]
["689.","90311JHA03","SEAL OIL, FRONT AXLE","A04-2-BC1",31,4,27]
["690.","821230W040","WIRE ENGINE NO.3","A04-2-BC2",7,0,7]
["691.","693100W020","LOCK ASSY, FR DOOR, RH","A04-2-BC3",5,0,5]
["692.","693200W020","LOCK ASSY, FR DOOR, LH","A04-2-BC4",4,0,4]
["693.","28226EV070","KIT REPAIR SERVICE","A04-2-BD1",1,0,1]
["694.","3333537040","TRANS. GEAR 1ST","A04-2-BD2",1,0,1]
["695.","SZ10118013","BOLT,TORQUE ROD","A04-2-BD4",1,0,1]
["696.","2129878450","TUBE, FLOAT","A04-2-BE1",136,0,136]
["697.","SZ101JIA15","BOLT,TORQUE ROD","A04-2-BE2",7,0,7]
["698.","901916158L","BOLT CENTER REAR","A04-2-BE3",1,0,1]
["699.","48247LAA10","CENTER BOLT","A04-2-BE4",74,0,74]
["700.","17341E0210","HOSE, AIR","A04-2-BF1",3,0,3]
["701.","13251E0120","PIN,PISTON,STD  R/F","A04-2-BF2",7,0,7]
["702.","12361E0020","INSULATOR E/G MTG *******","A04-2-BF3",36,0,36]
["703.","901916307","BOLT CENTER","A04-2-BF4",44,0,44]
["704.","521410W020","STAY FR BUMPER RH","A04-2-BG2",1,1,0]
["705.","473270W010","TUBE RR BRAKE NO.7","A04-2-CB1",20,20,0]
["706.","473290W010","TUBE RR BRAKE NO.9","A04-2-CB3",30,0,30]
["707.","473270W020","TUBE RR BRAKE NO.7","A04-2-CB4",30,0,30]
["708.","S473269570","PIPE OIL","A04-2-CC2",17,0,17]
["709.","693200W010","LOCK A/S FR DR LH","A04-2-CC3",6,3,3]
["710.","821230W020","CABLE BATTERY/ WIRE E/G NO.3","A04-2-CC4",4,0,4]
["711.","16571E0610","HOSE, RADIATOR INLET FHO.117.0","A04-2-CD1",2,0,2]
["712.","372350W010","CUSHION,CTR SUPPORT BEARING","A04-2-CD4",1,0,1]
["713.","3723537030","CUSHION,CENTER SUPT","A04-2-CE1",8,0,8]
["714.","16306E0072","PIPE SUB-ASSY, WATER OUTLET","A04-2-CE2",4,2,2]
["715.","87207E0111","PIPE S/A VACUUM","A04-2-CE4",2,0,2]
["716.","29601E0510","PIPE S/A OIL","A04-2-CF2",2,0,2]
["717.","687300W011","HINGE ASSY, DOOR, LWR","A04-2-CF3",5,0,5]
["718.","165710W100","HOSE RADIATOR, NO.1 FHO-124.0","A04-2-CF4",23,10,13]
["719.","4841437160","BRACKET,SPR NO3 (RH/LH)","A04-2-CG1",3,0,3]
["720.","452100W012","SHAFT A/S STEERING (ST/LT)","A04-2-CG2",5,0,5]
["721.","521420W020","STAY FR BUMPER LH","A04-2-CG3",1,1,0]
["722.","85211YX010","ARM FR WIPER RH","A05-1-AA1",1,0,1]
["723.","85212YX010","BLADE A/S W/SHIELD WINDOW","A05-1-AA3",21,0,21]
["724.","85222YX010","BLADE FR WIFER, LH","A05-1-AA4",12,0,12]
["725.","4441137142","HOSE, PRESSURE FEED","A05-1-AA5",2,0,2]
["726.","464200W010A","CABLE A/S PARKING BRK","A05-1-AA6",8,0,8]
["727.","338200W160","CABLE ASSY,T/M CONTROL SH","A05-1-AB2",10,0,10]
["728.","S780253400","CABLE SUB ASS","A05-1-AB4",2,0,2]
["729.","33820E0060","CABLE ASSY,T/M CONTROL","A05-1-AB5",1,0,1]
["730.","S178012410","ELEMENT AIR CLEANER","A05-1-AC1",2,0,2]
["731.","2341478460","ELEMENT, FILTER","A05-1-AC2",3,0,3]
["732.","4756037042","WHEEL CYLINDER","A05-1-AC5",18,10,8]
["733.","9008011535L","U-BOLT SPRING STD DUTRO","A05-1-AD1",75,0,75]
["734.","2815078100","SWITCH ASSY, MAIN","A05-1-AD2",9,0,9]
["735.","648310W010","W/STRIP, BACK WINDOW GLASS","A05-1-BA1",1,0,1]
["736.","S683121310","W/S DOOR OPENING 078FG/L/M/SG","A05-1-BA3",1,0,1]
["737.","SZ91045240","V-BELT RDF B 46.2","A05-1-BA4",14,0,14]
["738.","S780253161","CABLE SUB ASS","A05-1-BA5",6,0,6]
["739.","SZ910T8001","BELT, SET V","A05-1-BA6",6,0,6]
["740.","338200W012","CABLE A/S TRANS CTRL","A05-1-BB1",1,0,1]
["741.","837100W052","CABLE A/S SPEEDOMETER","A05-1-BB2",4,0,4]
["742.","33820E0080","CABLE ASSY,T/M CONTROL","A05-1-BB4",2,0,2]
["743.","837100W021","CABLE A/S SPD DRIVE","A05-1-BB5",1,0,1]
["744.","338300W060","CABLE ASSY,TRANS CONTROL SELEC","A05-1-BB6",11,0,11]
["745.","S117012140","BEARING SET CRANKSHAFT R/F","A05-1-BC3",1,0,1]
["746.","47570EV071","WHEEL CYLINDER","A05-1-BC4",1,0,1]
["747.","47550EV091","CYLINDER ASSY RR","A05-1-BC5",2,0,2]
["748.","47570EV070","WHEEL CYLINDER","A05-1-BC6",3,0,3]
["749.","988465116L","BEARING","A05-1-BD2",8,0,8]
["750.","SZ91045367","V-BELT","A05-1-CA1",46,5,41]
["751.","S16LBE0020","V-BELT COOLING FAN ****","A05-1-CA2",2,0,2]
["752.","S780185160","CABLE S/A,ENG.STOP","A05-1-CA3",1,0,1]
["753.","SZ91045198","V-BELT RDF C 85,7","A05-1-CA4",2,0,2]
["754.","SZ91045120","V-BELT RPF B-50.5","A05-1-CA5",35,20,15]
["755.","464200W070","CABLE ASSY,PARKING BAKE,NO.2","A05-1-CA6",3,0,3]
["756.","33830EW031","CABLE ASSY,TRANS CTRL SELECT","A05-1-CB2",1,0,1]
["757.","837100W030","CABLE A/S SPD DRIVE","A05-1-CB3",7,0,7]
["758.","SZ91045354","V-BELT","A05-1-CB4",1,0,1]
["759.","781500W070","WIRE ASSY,ACCELERATOR FLEXIBLE","A05-1-CB5",2,0,2]
["760.","338300W020","CABLE TRANS,CTRL SELECT","A05-1-CB6",1,0,1]
["761.","623130W010B0","TRIM DOOR","A05-1-CD2",4,0,4]
["762.","678620W020","WEATHERSTRIP","A05-1-CD3",13,0,13]
["763.","S114673210","LINER CYL S/S","A05-1-DA1",2,0,2]
["764.","815200W040","LAMP A/ FRT TURN SIGNAL LH","A05-1-DA3",3,0,3]
["765.","815100W040","LAMP A/ FRT TURN SIGNAL RH","A05-1-DA4",5,5,0]
["766.","852110W060","ARM, FR WIPER,RH","A05-1-DB1",6,0,6]
["767.","S879121011","BRACKET, MIRROR UPR,","A05-1-DB2",4,0,4]
["768.","338200W120","CABLE A/S TRANS CTRL","A05-1-DC1",1,0,1]
["769.","33820E0S61","CABLE ASSY,T/M CONTROL","A05-1-DC3",7,0,7]
["770.","S360611441","CABLE PTO","A05-1-DC4",18,0,18]
["771.","174010W060","PIPE S/A EXHAUST FR","A05-2-AA1",3,0,3]
["772.","174010W050","PIPE S/A,EXHAUST, FR","A05-2-AA3",2,0,2]
["773.","11115EW040","GASKET CYL HEAD","A05-2-AA4",2,2,0]
["774.","4546009120","TIE ROD ASSY #","A05-2-AB3",1,0,1]
["775.","53111LAA40","GRILLE RADIATOR","A05-2-AB4",12,1,11]
["776.","679140W020B0","PLATE, FR DOOR SCUFF, LH","A05-2-BA1",1,0,1]
["777.","NPNA012","SIDE VISOR RH/LH DUTRO","A05-2-BA2",2,0,2]
["778.","121512611L","GASKET OIL PAN","A05-2-BA3",7,0,7]
["779.","111152340L","GASKET CYL HEAD","A05-2-BA4",1,0,1]
["780.","11115E0200","GASKET, CYL. HEAD","A05-2-BA6",1,0,1]
["781.","679130W020B0","PLATE, FR DOOR SCUFF, RH","A05-2-BB1",1,0,1]
["782.","681610W010","WEATHERSTRIP ASSY","A05-2-BB2",9,0,9]
["783.","681620W010","WEATHERSTRIP OUTER LH","A05-2-BB3",10,0,10]
["784.","681720W010","W/S, FR DOOR GLASS,INNER,LH","A05-2-BB4",2,0,2]
["785.","611090W010","REINF/MENT S/A,FR PLR,LW LH #","A05-2-BB5",1,0,1]
["786.","681710W010","W/S,FR DOOR GLASS,INNER RH","A05-2-BB6",3,0,3]
["787.","52111LAA10","BAR FR BUMPER","A05-2-CA1",5,1,4]
["788.","11115EW041","GASKET, CYLINDER HEAD","A05-2-CA3",2,2,0]
["789.","32915LVA10","FIL FILTER T/M FM2P-ZGJ","A06-1-AA1",10,0,10]
["790.","234011132L","FUEL FILTER ELEMENT FB2WG-LZ","A06-1-AA2",62,2,60]
["791.","NPNK111","DUTRO DIFF GEAR","A06-1-AA4",1,0,1]
["792.","167110W011","SHROUD, FAN","A06-1-BA2",11,0,11]
["793.","234011332L","FUEL FILTER FF,RK,AK,078FG/L/M","A06-1-BB2",380,0,380]
["794.","23304JAC70","ELEMENT SET,FUEL FILTER","A06-1-BC1",13,0,13]
["795.","156071731L","ELEMENT O/F FFRKAKRG,078FG/L/M","A06-1-BC2",3,0,3]
["796.","178012410L","ELEMENT A/C IN  FB2WG-LZ","A06-1-CB1",3,0,3]
["797.","178013360L","AIR FILTER 078 FG,FL,FM,SG","A06-1-CB2",1,0,1]
["798.","040421079L","HUB BOLT KIT RH","A06-1-CC1",46,0,46]
["799.","04042LBA79","HUB BOLT KIT RH","A06-1-CC2",9,0,9]
["800.","040421080L","HUB BOLT KIT LH","A06-1-CC3",54,0,54]
["801.","04042LBA80","HUB BOLT KIT LH","A06-1-CC4",49,0,49]
["802.","493051110L","BUSHING S/A, TORQUE","A06-1-CC5",39,0,39]
["803.","11464E0140","LINER CYL BLOCK Z","A06-1-DB1",52,0,52]
["804.","S114671792","LINER CYL BLOCK Z","A06-1-DB2",52,0,52]
["805.","87950EW011","MIRROR ASSY, OUTER UNDER RR","A06-1-DB3",1,0,1]
["806.","178011130L","ELEMENT S/A, AIR CLEANER D1","A06-1-DC1",10,0,10]
["807.","1636178070","F A N","A06-2-AA2",4,0,4]
["808.","132110247F","PISTON W04D EURO II","A06-2-AB1",1,0,1]
["809.","NPNA001M","REAR CAMERA","A06-2-AB3",22,0,22]
["810.","48511LAA30","SHOCK ABSORBER, FRONT RH","A06-2-AC1",9,8,1]
["811.","879102350L","MIRROR A/S OUTER RH","A06-2-BA1",11,0,11]
["812.","879401950L","MIRROR A/S OUTER LH","A06-2-BA2",5,0,5]
["813.","879010050L","MIRROR SUB ASSY DUTRO","A06-2-BA3",3,0,3]
["814.","81150LAE53","HEAD LAMP ASSY, LH","A06-2-BB1",4,0,4]
["815.","811103790L","HEAD LAMP RH FM8J","A06-2-BB3",3,0,3]
["816.","4528725051B0","COVER, STEERING COLU","A06-2-BB4",3,0,3]
["817.","42110LEB00","END RR AXLE HOUSING, RH","A06-2-BC1",7,0,7]
["818.","04043LBA39","HUB BOLT KIT FR, RH","A06-2-BC2",117,100,17]
["819.","NPND6FL","HUB BOLT, KIT","A06-2-BC3",2,0,2]
["820.","NPND6RL","HUB BOLT, KIT R/L","A06-2-BC4",27,0,27]
["821.","04043LBA40","HUB BOLT KIT FR, LH","A06-2-BC5",18,0,18]
["822.","811500W030","HEAD LAMP A/S LH","A06-2-CA3",7,0,7]
["823.","81110LAE83","HEAD LAMP ASSY, RH","A06-2-CB1",2,2,0]
["824.","811100W030","HEAD LAMP A/S RH","A06-2-CB3",1,0,1]
["825.","42110LEC00","END RR AXLE HOUSING, LH","A06-2-CC1",7,0,7]
["826.","31250E0321","DISC ASSY CLUTH *1*","A06-2-CC2",3,0,3]
["827.","31250JAE90","DISC ASSY CLUTCH","A06-2-CC3",6,0,6]
["828.","178013391L","ELEMENT A/C FG/L/M/SG8J (IN)","A07-1-AA1",15,0,15]
["829.","156072250L","OIL FILTER W04D DUTRO","A07-1-AB1",17,0,17]
["830.","040431060L","WHEEL HUB BOLT","A07-1-AB2",63,0,63]
["831.","17801LAA32","ELEMENT S/A AIR CLEANER","A07-1-BA1",26,1,25]
["832.","040431059L","WHEEL HUB BOLT","A07-1-BB1",166,0,166]
["833.","11463E0140","LINER CYL S/S","A07-1-CA1",3,0,3]
["834.","234017811L","FUEL FILTER GT/HT/LT/ST","A07-1-CA2",9,0,9]
["835.","15613LAA70","ELEMENT OIL FILTER","A07-1-CB1",451,51,400]
["836.","178012830L","ELEMENT AIR FILTER RG1JS","A07-1-DA1",1,0,1]
["837.","81560LAA10","COMBINATION LAMP LH","A07-1-DA2",4,0,4]
["838.","81550LAA10","COMBINATION LAMP RH","A07-1-DA3",6,0,6]
["839.","178011131L","ELEMENT S/A,AIR CLEANER  D2","A07-1-DB1",12,0,12]
["840.","879400W050","MIRROR A/S LH","A07-2-AA1",7,0,7]
["841.","04431E0050","KING PIN KIT","A07-2-AB2",18,0,18]
["842.","164000W080","RADIATOR DUTRO(EURO-2)","A07-2-BA3",1,1,0]
["843.","4351009011","HUB & BRAKE DRUM ASSY, FR, RH","A07-2-BB2",1,0,1]
["844.","84652EV180","SWITCH SUB ASSY, W/S WIPER 078","A07-2-BB3",1,0,1]
["845.","1636178030","FAN","A07-2-CA1",19,0,19]
["846.","81150LAA70","HEAD LAMP ASSY, LH","A07-2-CA2",3,0,3]
["847.","474419650LN","BRAKE LINING RR 078 FL/FM","A08-1-AA1",1,0,1]
["848.","474419640LN","BRAKE LINING FR 078 FL/FM","A08-1-AA2",8,0,8]
["849.","474414070LN","BRAKE LINING FRT(NON ASBES)","A08-1-AB1",83,0,83]
["850.","474431730LN","BRAKE LINING FB RR(NON ASBES)","A08-1-AB3",35,0,35]
["851.","474417590LN","BRAKE/L FRT (NON ASBES)","A08-1-BA1",16,0,16]
["852.","S474432550","LINING,BRAKE SHOE,RR","A08-1-BA2",8,0,8]
["853.","474415350LN","BRAKE LINING RR(NON ASBES)","A08-1-BA3",4,0,4]
["854.","474431350LN","BRAKE LINING RR(NON ASBES)","A08-1-BB1",248,0,248]
["855.","474423621LN","B/LINING F/RR(LT/GT-NON ASBES)","A08-1-BB2",27,0,27]
["856.","041101002L","BRAKE FLUID DOT3, 300 ML","A08-1-CB1",16,0,16]
["857.","041101001L","BRAKEFLUID-1 LTR DOT3.","A08-1-CB2",2,2,0]
["858.","NPNK041","W04D TP/TR FILTER KIT","A08-1-DA1",1,1,0]
["859.","4751037140","CYLINDER A/S","A08-1-DA2",7,0,7]
["860.","0449536051","SHOE KIT,REAR BRAKE","A08-2-AA4",5,0,5]
["861.","47442LAA20","BRAKE LINING DUTRO, RR","A08-2-AB2",25,2,23]
["862.","NPNK408","FILTER KIT 40K RN285","A08-2-BA3",1,0,1]
["863.","NPNK407","FILTER KIT 40K RK235/260","A08-2-BB1",1,0,1]
["864.","0449537220","SHOE KIT,RR BRAKE","A08-2-BB2",2,2,0]
["865.","0449437140","SHOE KIT,FR BRAKE","A08-2-BB3",8,4,4]
["866.","NPNK206","FILTER KIT 20K RK235/260","A08-2-CA3",1,0,1]
["867.","NPNK603","FILTER KIT 60K FG/FL C/R NEW.R","A08-2-CA4",1,0,1]
["868.","NPNK601","FILTER KIT 60K FG/FL NEW.RANGE","A08-2-CA6",1,0,1]
["869.","04495LHA32","SHOE KIT RR BRAKE","A08-2-CB1",1,0,1]
["870.","NPNK044","J08E I/P FILTER KIT","A08-2-CB2",10,3,7]
["871.","NPNK403","FILTER KIT 40K J08E C/R NEW.R","A08-2-CB2",1,0,1]
["872.","48223LAA11","LEAF RR HELPER SPG NO.5","A09-1-AA3",1,0,1]
["873.","48221LAA11","LEAF RR HELPER SPG NO.3","A09-1-AA4",5,0,5]
["874.","48216LAA11","LEAF RR SPG NO.6","A09-1-AA6",6,0,6]
["875.","48203LAA11","LEAF RR HELPER SPG NO.4","A09-1-AA7",8,0,8]
["876.","48219LAA11","LEAF RR HELPER SPG NO.2","A09-1-AB2",2,0,2]
["877.","482127170L","L/SPRG RR  NO.2 RH/LH 078 FG","A09-1-AC2",1,0,1]
["878.","48101EV050","LEAF S/A, FR SPRING W/BUSH","A09-1-AC3",1,0,1]
["879.","S481154620","L/SPRG FG FR RH/LH NO.6 W/CLIP","A09-1-BA1",1,0,1]
["880.","48217LAA11","LEAF RR SPG NO.7","A09-1-BA2",8,0,8]
["881.","48117LAA11","L/SPRG FRT NO.7","A09-1-BA4",1,0,1]
["882.","48226LAA11","LEAF RR HELPER SPG NO.8","A09-1-BA5",2,0,2]
["883.","48118LAA50","LEAF SPRING FR,  NO.8","A09-1-BA6",4,0,4]
["884.","48224LAA11","LEAF RR HELPER SPG NO.6","A09-1-BA7",3,0,3]
["885.","48201LAA11","LEAF RR SPG NO.1","A09-1-BB1",1,0,1]
["886.","S481116130","L/SPRG FRT NO.1 RH/LH 078 FG","A09-1-BB3",1,0,1]
["887.","48101LAA11","L/SPRG FRT NO.1","A09-1-BB4",6,4,2]
["888.","482170W010","L/SPRG RR NO.7","A09-1-CA1",4,0,4]
["889.","481164290L","L/SPRG FRT RH/LH NO.7 FG","A09-1-CA3",1,0,1]
["890.","S4806LAA50","LEAF SPRING FR,  NO.6","A09-1-CA5",1,0,1]
["891.","S4806EV050","LEAF S/A, FR SPRING, NO.6","A09-1-CA6",3,0,3]
["892.","481042860L","LEAF SPRING FRT NO.3","A09-1-CA7",4,0,4]
["893.","48225LAA11","LEAF RR HELPER SPG NO.7","A09-1-CA8",5,0,5]
["894.","482623590L","L/SPRG REAR RH/LH NO.H2 078 FG","A09-1-CC1",1,0,1]
["895.","482633090L","L/SPRG REAR RH/LH NO.H4 078 FG","A09-1-CC2",2,0,2]
["896.","482613120L","L/SPRG REAR RH/LH NO.H1 078 FG","A09-1-CC3",2,0,2]
["897.","S4905EV010","LEAF S/A, RR SPG W/CLIP,NO.5","A09-1-CC5",1,0,1]
["898.","482642920L","L/SPRG REAR RH/LH NO.H5 078 FG","A09-1-CC7",4,0,4]
["899.","482145870L","L/SPRG RR  NO.5 RH/LH 078 FG","A09-1-CC8",4,0,4]
["900.","48112LAA11","L/SPRG FRT NO.2","A09-1-CD1",36,36,0]
["901.","48212LAA11","LEAF RR SPG NO.2","A09-1-CD2",9,0,9]
["902.","48102LAA11","L/SPRG FRT NO.3","A09-1-CD3",10,2,8]
["903.","48202LAA11","LEAF RR SPG NO.3","A09-1-CD4",11,1,10]
["904.","482010W200","LEAF S/A, RR SPRING W/BUSH","A09-2-AA1",45,0,45]
["905.","482010W191","LEAF S/A, RR SPRING W/BUSH","A09-2-AA2",1,0,1]
["906.","481120W250","LEAF,FR SPRING,NO.2","A09-2-AA3",2,0,2]
["907.","481120W030","L/SPRG FRT NO.2 LT/GT, RH","A09-2-AA4",1,0,1]
["908.","482180W100","SPACER, RR SPRING","A09-2-AA6",20,0,20]
["909.","481120W280","LEAF,FR SPRING,NO.2","A09-2-CA1",51,0,51]
["910.","481010W280","LEAF S/A, FR SPRING W/BUSH","A09-2-DA2",12,0,12]
["911.","482020W200","LEAF S/A, RR SPRING W/CLIP, 1","A09-2-DA3",2,0,2]
["912.","482130W110","L/SPRG RR NO.3 LT/GT","A09-2-DA4",11,0,11]
["913.","S041040024","HINO GENUINE BEARING GREASE","A09-2-FA1",32,2,30]
["914.","04104GRS17","GREASE CHASSIS PERTAMINA SGX","A09-2-FA2",14.5,14.5,0]
["915.","S337551120","PLATE,SHIFT ROD BRG","A10-1-A100",1,0,1]
["916.","3312437050","PIPE, OIL RECEIVER","A10-1-A101",1,0,1]
["917.","21811E0050","BOLT, UNION","A10-1-A1010",8,0,8]
["918.","4841237090","BRACKET, SPR,NO1 LH","A10-1-A102",10,8,2]
["919.","4320137120","KNUCKLE, STEERING, RH","A10-1-A105",3,3,0]
["920.","4756036200","CYLINDER ASSY","A10-1-A110",16,16,0]
["921.","678610W040","WEATHERSTRIP,FR DOOR, RH","A10-1-A111",2,0,2]
["922.","678620W040","WEATHERSTRIP,FR DOOR, LH","A10-1-A112",2,0,2]
["923.","177000W050","CLEANER A/S, AIR","A10-1-A113",10,10,0]
["924.","04431JAA70","KING PIN KIT","A10-1-A115",1,0,1]
["925.","S475AEW160","PIPE AIR A","A10-1-A117",1,0,1]
["926.","4841337100","BRACKET, SPRING NO.2 #","A10-1-A118",10,10,0]
["927.","611320W010","PILLAR,FR BODY, OUTER LH","A10-1-A119",7,5,2]
["928.","178012200L","ELEMENT AIR CLEANER","A10-1-A12",6,0,6]
["929.","234011151L","ELEMENT FUEL FILTER","A10-1-A124",8,0,8]
["930.","BOL0000001","BOLT","A10-1-A128",6,6,0]
["931.","S485003700","SHOCKABSORBER","A10-1-A13",2,0,2]
["932.","SZ01071006","STOPPER","A10-1-A130",1,0,1]
["933.","S900754103","GROMMET","A10-1-A131",1,0,1]
["934.","SZ01015010","BEARING","A10-1-A135",1,0,1]
["935.","5221137010","SPACER","A10-1-A136",4,0,4]
["936.","33361JHA60","HUB TRANSMISSION CLUTCH NO.1","A10-1-A138",5,0,5]
["937.","473210W120","TUBE RR BRAKE NO.1","A10-1-A14",1,0,1]
["938.","S337561610","SEAT BALL","A10-1-A141",1,0,1]
["939.","S443931110","SEAL OIL P/S","A10-1-A143",2,0,2]
["940.","S348611070","SEAL JOINT TRANS","A10-1-A149",1,0,1]
["941.","S1206E0050","INSULATOR SUB-ASSY****","A10-1-A151",2,0,2]
["942.","6815137030","RUN, FR DOOR GLASS,","A10-1-A152",1,0,1]
["943.","611310W010","PILLAR,FR BODY, OUTER RH #","A10-1-A153",6,0,6]
["944.","41351E0020","WASHER DIFF. PINION R/F","A10-1-A18",4,0,4]
["945.","4754037102","CYLINDER ASSY, WHEEL","A10-1-A19",1,0,1]
["946.","1636178110","FAN","A10-1-A2",1,0,1]
["947.","4751036170","FRT WHEEL BRK CYL A/ RH NO.1","A10-1-A22",2,2,0]
["948.","4433737390","UNION SUCTION PORT","A10-1-A23",1,0,1]
["949.","CLT0000001","RADIATOR COOLANT","A10-1-A24",21,0,21]
["950.","56111EW041","GLASS, WINDSHIELD","A10-1-A25",7,0,7]
["951.","16100E0152","PUMP ASSY WATER","A10-1-A28",1,1,0]
["952.","681020W050","GLASS S/A, FR DOOR, LH","A10-1-A30",2,0,2]
["953.","6905737140","CYLINDER & KEY SET,","A10-1-A31",1,0,1]
["954.","041001001","HINO E/G OIL 15/40 (DRUM)","A10-1-A32",600,0,600]
["955.","S041024414","HINO GEAR OIL GL-5 80W90 (Drum)","A10-1-A33",8.1,0,8.1]
["956.","648110W360","GLASS, BACK WINDOW","A10-1-A35",2,0,2]
["957.","561110W700","GLASS, WINSHIELD","A10-1-A36",6,2,4]
["958.","681020W020","GLASS DOOR LH DUTRO","A10-1-A38",4,0,4]
["959.","681010W020","GLASS DOOR RH DUTRO","A10-1-A39",12,10,2]
["960.","S684501670","GLASS ASSY DOOR RH","A10-1-A43",3,0,3]
["961.","S684601970","GLASS DOOR LH FG/L/M/FM2P/SG8J","A10-1-A44",3,0,3]
["962.","S374011240","SPIDER SUB ASSY R/F","A10-1-A5",2,0,2]
["963.","04495LHA31","SHOE KIT REAR BRAKE","A10-1-A50",7,0,7]
["964.","SZ117T0004","BOLT, U","A10-1-A51",4,4,0]
["965.","746300W010B0","GRIP A/S,DOOR ASSY,RH","A10-1-A52",4,0,4]
["966.","SZ177JAA03","NUT LOCK","A10-1-A54",5,0,5]
["967.","588080W010","COVER SUB-ASSY, SHIFTING HOLE","A10-1-A55",2,0,2]
["968.","48418EW031","BRACKET, HELPER SPRING FRONT","A10-1-A56",4,0,4]
["969.","33362JHA30","HUB TRANSMISSION CLUTCH NO.2","A10-1-A57",9,0,9]
["970.","4704336160","PLATE SUB-ASSY, RH","A10-1-A71",9,7,2]
["971.","156071671L","ELEMENT OIL FILTER","A10-1-A74",12,0,12]
["972.","TRB0000001","THREEBOND ABU ABU 12TB","A10-1-A75",8,3,5]
["973.","178012850L","AIR FILTER","A10-1-A76",6,0,6]
["974.","78190F1010","CABLE ASSY,ACCEL CNTRL W/THRTL","A10-1-A78",3,0,3]
["975.","165720W120","HOSE RADIATOR, NO.2 FHO-126","A10-1-A79",5,0,5]
["976.","SZ93012031","SPACER  R/F","A10-1-A8",1,0,1]
["977.","710720W080B0","COVER S/A, FR SEAT CUSHION RH","A10-1-A85",5,0,5]
["978.","710740W090B0","COVER S/A, FR SEAT BACK LH","A10-1-A89",1,0,1]
["979.","NPL0000001","Nepel 12MM","A10-1-A91",7,0,7]
["980.","588080W010B0","COVER SUB-ASSY, SHIFTING HOLE","A10-1-A92",1,0,1]
["981.","S794131450","W/STRIP WS FHO-095","A10-1-A93",3,2,1]
["982.","870930W110","STAY S/A, OUTER RR MIRROR RH","A10-1-A98",3,0,3]
["983.","41301E0141","CASE SUB-ASSY, DIFFE","A10-1-A99",5,5,0]
["984.","04100HDR02","OIL HIDROLIK","GDG-OL4",38,0,38]
["985.","DLT0000001","OLI DELTALUBE SINGLE GRADE SAE 40","GDG-OL5",155,0,155]
["986.","SHL0000001","SHELL RIMULA R4X 15W-40 (1 L)","GDG-OL6",627,0,627]
["987.","SHL0000002","SHELL SPIRAX S2 A 80W-90 (1L)","GDG-OL7",209,0,209]
["988.","SHL0000003","SHELL SPIRAX S2 A 85W-140 (1L)","GDG-OL8",209,0,209]
["989.","04431E0060","KING PIN KIT","K01-001",82,0,82]
["990.","811500W031","HEAD LAMP A/S LH","K01-001",6,0,6]
["991.","838000W280","METER ASSY COMB","K01-002",12,0,12]
["992.","83800E0M40","METER ASSY,COMB 078","K01-004",2,0,2]
["993.","04494JHA21","SHOE KIT FRONT BRAKE","K01-005",1,0,1]
["994.","16100E0341","PUMP ASSY WATER","K01-005",19,0,19]
["995.","16701EW050","SHROUD SUB-ASSY, FAN","K01-007",1,0,1]
["996.","17201E0713","TURBOCHARGER SUB-ASSY","K01-008",10,0,10]
["997.","174030W030","PIPE S/A EXHAUST CTR","K01-009",3,0,3]
["998.","48213EV030","LEAF, RR SPRING, NO.3","K01-010",2,0,2]
["999.","31250E0850","DISC ASSY CLUTCH","K01-012",1,0,1]
["1,000.","4111037150","CARRIER ASSY","K01-013",1,0,1]
["1,001.","48101EV020","LEAF S/A, FR SPRING W/BUSH","K01-013",4,0,4]
["1,002.","412013790L","FINAL GEAR KIT, DIFF RR 7X41","K01-014",2,0,2]
["1,003.","48112JHD40","LEAF, FR SPG NO.2","K01-014",4,0,4]
["1,004.","48261EV011","LEAF,RR HELPER SPRING,NO.1","K01-016",10,0,10]
["1,005.","41301E0160","CASE SUB ASSY,DIFF","K01-017",10,0,10]
["1,006.","482155310L","L/SPRG RR NO.6 RH/LH 078 FG","K01-017",5,0,5]
["1,007.","42610JAC10","W/DISC 750X20X10X165","K01-018",1,0,1]
["1,008.","482174520L","L/SPRG RR RH/LH NO.10 078 FLFM","K01-018",32,0,32]
["1,009.","44610E0120","BOOSTER A/S BRAKE","K01-020",1,0,1]
["1,010.","44610E0130","BOOSTER ASSY, BRAKE","K01-021",1,0,1]
["1,011.","48101JGF70","LEAF /A, FR SPG NO.1","K01-023",4,0,4]
["1,012.","481124290L","LEAF SPRING NO.2 FF172/173NA","K01-026",20,0,20]
["1,013.","48211EV030","LEAF, RR SPRING, NO.1","K01-030",1,0,1]
["1,014.","48211JGH00","LEAF,RR SPG NO.1","K01-031",3,0,3]
["1,015.","482145780L","L/SPRG RR RH/LH NO.6&7 078FLFM","K01-031",29,0,29]
["1,016.","482127080L","L/SPRG RR  RH/LH NO.2 078/FLFM","K01-032",5,0,5]
["1,017.","48212EV010","LEAF, RR SPRING, NO.2","K01-033",4,0,4]
["1,018.","482662450L","L/SPRG RR  RH/LH NO.H6 078 SG","K01-036",44,0,44]
["1,019.","48213JGH70","LEAF,RR SPG NO.3","K01-037",7,0,7]
["1,020.","48213LAA60","LEAF SPRING NO. 3","K01-038",5,0,5]
["1,021.","48215JFC10","LEAF,RR SPG NO.8","K01-042",2,0,2]
["1,022.","482164770L","L/SPRG RR RH/LH NO.9   078FLFM","K01-043",29,0,29]
["1,023.","48218LAA60","LEAF SPRING RR, NO. 8","K01-046",1,0,1]
["1,024.","531000010L","GRILLE A/S,RADIATOR","K01-046",1,0,1]
["1,025.","482633130L","L/SPRG RR  RH/LH NO.H3 078 SG","K01-048",31,0,31]
["1,026.","482642960L","L/SPRG RR  RH/LH NO.H4 078 SG","K01-049",45,0,45]
["1,027.","482652770L","L/SPRG RR  RH/LH NO.H5 078 SG","K01-050",35,0,35]
["1,028.","51702E0020","BRACKET 078 MSP LH","K01-052",14,0,14]
["1,029.","537150W020","APRON, FDR SIDE RH","K01-054",1,0,1]
["1,030.","53715E0020","SPLASH BOARD RR RH MSP","K01-055",1,0,1]
["1,031.","53715JAA20","SPLASH BOARD RR, RH","K01-056",1,0,1]
["1,032.","553010W020B0","PANEL S/A INSTRUMENT","K01-057",2,0,2]
["1,033.","4120180373","FINAL GEAR KIT","K01-058",3,0,3]
["1,034.","5570037191","PANEL A/S FRT #","K01-058",1,0,1]
["1,035.","71100F1010","SEAT ASSY FR RH","K01-059",1,0,1]
["1,036.","811100W031","HEADLAMP ASSY, RH","K01-060",1,0,1]
["1,037.","81150E0B00","HEAD LAMP ASSY LH","K01-062",1,0,1]
["1,038.","81520EW010","LAMP ASSY,FR TURN SIGNAL LH","K01-063",1,0,1]
["1,039.","S040432075","PIN KIT,KING","K01-068",112,0,112]
["1,040.","S312506580","DISC ASSY CLUTCH","K01-069",5,0,5]
["1,041.","S130BE0391","PISTON & RING SET","K01-070",11,0,11]
["1,042.","S374041061","BEARING  R/F","K01-072",1,0,1]
["1,043.","S378301234","SHAFT ASSY PROP","K01-073",2,0,2]
["1,044.","13450EW010","FLYWHEEL ASSY","K01-074",3,0,3]
["1,045.","S412013300","RING GEAR & DRIVE PINION 078","K01-074",1,0,1]
["1,046.","S426113470","W/DISC 750X20X10X165*****","K01-075",6,0,6]
["1,047.","S481016480","L/SPRG FRT NO.1 RH/LH 078 FG","K01-076",5,0,5]
["1,048.","2706078270","ALTERNATOR ASSY W/REG","K01-077",9,0,9]
["1,049.","S482652730","L/SPRG RR RH/LH NO.H6W/CLIP078","K01-077",17,0,17]
["1,050.","44610E0022","BOOSTER A/S BRAKE","K01-080",5,0,5]
["1,051.","S114673200","LINER CYL S/S","K01-081",29,0,29]
["1,052.","2801178090","CLUTCH S/A","K01-082",18,0,18]
["1,053.","4110137050","CARRIER S/A DIFF","K01-083",2,0,2]
["1,054.","616110W010","PANEL,QUARTER OUTER RH","K02-003",1,0,1]
["1,055.","616120W010","PANEL,QUARTER OUTER LH","K02-004",1,0,1]
["1,056.","6700237180","PANEL S/A FR DR LH #","K02-005",1,0,1]
["1,057.","676200W010B0","PANEL A/S DR TRIM LH","K02-007",7,0,7]
["1,058.","6311137230","ROOF CABIN","K02-008",1,0,1]
["1,059.","160906710L","RADIATOR FM260PS","K03-001",69,0,69]
["1,060.","16041E0030L","RADIATOR ASSY FM2P","K03-002",1,0,1]
["1,061.","676100W010B0","PANEL ASSY, FR DOOR TRIM, RH","K03-004",17,0,17]
["1,062.","NPNK043","J08E I/P FILTER KIT","K04-001",72,0,72]
["1,063.","48210LAA11","L/SPRG ASSY,RR","K04-0010",5,0,5]
["1,064.","481100W270","SPRING ASSY, FR #","K04-002",6,0,6]
["1,065.","12101E0370","PAN SUB-ASSY, OIL #","K04-0023",1,1,0]
["1,066.","481100W030","SPRING ASSY FRT LT/GT #","K04-003",2,0,2]
["1,067.","43512LAA40","BRAKE DRUM, 65T LT/GT","K04-005",22,0,22]
["1,068.","48110LAA50","SPRING ASSY,FR","K04-005",2,0,2]
["1,069.","MTBMB429803","WHEEL DISC","K04-0050",9,0,9]
["1,070.","MTBMC803410","WHEEL DISC (VELG A.8)","K04-0058",9,5,4]
["1,071.","MTBMC812964","WHEEL DISC (VELG B.10)","K04-0059",16,1,15]
["1,072.","46510E0150","BRAKE ASSY PARKING 078","K04-006",4,0,4]
["1,073.","S424112501","HUB RR AXLE","K04-011",1,0,1]
["1,074.","714200W080B0","CUSHION ASSY, FR SEAT LH","K04-013",4,0,4]
["1,075.","71440F1010B0","BACK ASSY, FR SEAT LH","K04-014",4,0,4]
["1,076.","716100W040","SPRING A, FR SEAT CUSHION RH","K04-016",4,0,4]
["1,077.","S44N0EW043","BRACKET ASSY,AIR CHAMBER,RR,LH","K04-019",1,0,1]
["1,078.","42431LAA21","DRUM SUB ASSY, RR 75T (HT)","K04-020",1,0,1]
["1,079.","NPNK404","FILTER KIT 40K J08E C/R NEW RANGER FM","K04-021",11,0,11]
["1,080.","NPNK402","FILTER KIT 40K J08E I/P N.R FM","K04-022",1,0,1]
["1,081.","MTBMB429804","WHEEL DISC 6","K04-023",3,0,3]
["1,082.","43512LAA31","BRAKE DRUM 75T, FR (HT)","K04-05",2,0,2]
[]
["Sampit, 06-09-2023"]

{"sheet":"WH2","index":3,"n_rows":172,"n_cols":9,"rows_kept":172,"cut":false,"hidden":true,"merged":[]}
[null,null,null,null,"OH","ALLOC","AVAIL","TOTAL","BROKEN"]
["1.","3337137040","SPRING, SYNCHROMESH","A01-1-AC5",37,0,37]
["2.","9331116012","BOLT W/WASHER","A01-1-AE4",4,0,4]
["3.","S281421540","BRUSH STARTER","A01-1-AF4",21,0,21]
["4.","S413511170","WASHER DIFF. PINION","A01-1-AI4",24,0,24]
["5.","9031135023","SEAL OIL","A01-1-AI6",5,0,5]
["6.","9098209009","FUSE","A01-1-AJ1",4,0,4]
["7.","4845355010","PIN RR SPRING LOCK","A01-1-AP4",9,6,3]
["8.","853810W010","NOZZLE, FR WASHER","A01-1-BB3",2,0,2]
["9.","S413611500","WASHER,DIFF SIDE GEAR","A01-1-BL3",5,0,5]
["10.","33369JHA20","RING,SYNCHRO 3RD","A01-1-BP4",6,0,6]
["11.","753110W050","PLATE, FR NAME, NO.1","A01-1-CB2",2,0,2]
["12.","0490637440","CUP KIT, WHEEL CYL PISTON, RR","A01-1-CK6",1,1,0]
["13.","33387JHA30","RING, REVERSE SYNCHRONIZER","A01-1-CM5",2,0,2]
["14.","3338137051","RING SYNCHRONIZER","A01-1-DA6",1,0,1]
["15.","75315LAA40","ORNAMENT FR PANEL","A01-1-DE1",2,0,2]
["16.","S137191510","SEAL VALVE STEM OIL R/F","A01-1-DF1",5,0,5]
["17.","0490537220","CUP KIT, WHEEL CYL PISTON, FR","A01-1-DM2",6,3,3]
["18.","33381JHA51","RING SYNCHRONIZER","A01-1-DM4",5,0,5]
["19.","S137811350","ROD VALVE PUSH","A01-1-DP4",21,0,21]
["20.","483440W030","STOPPER BUMPER RR","A01-2-CD2",1,0,1]
["21.","0431126050","CYL KIT, CLUTCH MASTER","A02-1-AC2",11,0,11]
["22.","3339636010","RING, SYNCHRONIZER NO.5TH","A02-1-AD1",1,0,1]
["23.","SZ36530002","BEARING","A02-1-AD3",6,0,6]
["24.","3336437052","SLEEVE, TRANSMISSION HUB, NO.2","A02-1-AD4",3,0,3]
["25.","04042LBA50","HUB BOLT KIT RR, LH","A02-1-AE2",31,0,31]
["26.","42323LGA10","WASHER CONE RR, AXLE SHAFT","A02-1-AF2",24,8,16]
["27.","12371E0230","ENGINE MOUNTING","A02-1-AH4",1,0,1]
["28.","31230JGC00","BEARING CLUTCH","A02-1-BC3",18,0,18]
["29.","04042LBA49","HUB BOLT KIT RR, RH","A02-1-BD1",40,7,33]
["30.","S137111443","VALVE INTAKE","A02-1-BF1",8,0,8]
["31.","S137151251","VALVE EXHAUST STD","A02-1-BG1",1,0,1]
["32.","33038JHA40","RING SET, SYNCHRO NO.2","A02-1-BH1",2,0,2]
["33.","S1304E0160","RING SUB SET PISTON","A02-1-BH3",60,0,60]
["34.","33037JHA50","RING SET SYNCHRO NO.1","A02-1-CC4",6,0,6]
["35.","4242836020","PLATE RR AXLE LOCK NUT","A02-1-CE3",5,0,5]
["36.","225091160L","PUMP A/ 09213-00220","A02-1-CG3",3,1,2]
["37.","90070JHB09","RIVET M6X14.5 (STEEL)","A02-1-CG4",2,0,2]
["38.","31470E0042","CYL ASSY, CLUTCH RELEASE","A02-2-AB3",31,0,31]
["39.","S407LEV240","REPAIR KIT CUP RR WHEEL","A02-2-AC1",66,0,66]
["40.","33038JHA30","RING SET SYNCHRO NO.2","A02-2-AC3",7,0,7]
["41.","33364JHA52","SLEEVE, TRANSMISSION HUB NO.2","A02-2-AE1",7,0,7]
["42.","9017910067","NUT","A02-2-AE4",72,47,25]
["43.","S110111240","WASHER SET,C/S THRUST STD","A02-2-AF3",1,0,1]
["44.","90116LAB91","BOLT,STUD","A02-2-AG2",180,0,180]
["45.","90083LCC15","BULB 24VOLT-25W","A02-2-AG4",12,0,12]
["46.","0431337030","CYL KIT,CLUTCH WU300,340, XZU","A02-2-BD2",15,0,15]
["47.","9036454010","BEARING NEEDLE","A02-2-BG2",5,0,5]
["48.","48042LFA30","SHACKLE S/A SPRING","A02-2-BH2",1,0,1]
["49.","S164011570L","CAP RADIATOR 0.9","A02-2-CD4",8,0,8]
["50.","9017818002","NUT, FLANGE","A02-2-CF1",99,0,99]
["51.","90191LCD57","CENTER BOLT(M10X250)","A02-2-CF3",69,11,58]
["52.","4841837040","BRACKET HELPER, NO.6","A02-2-CH1",9,0,9]
["53.","33395JGA50","SLEEVE, TRANSMISSION NO.3","A03-1-AB5",2,0,2]
["54.","1111578101","GASKET CYL HEAD","A03-1-AC1",33,0,33]
["55.","11115LAA30","GASKET,CYLINDER HEAD","A03-1-AC2",20,0,20]
["56.","041117C096","GASKET KIT ENGINE O/H","A03-1-AD3",21,0,21]
["57.","NPN366","DIFFERENTIAL GEAR KIT","A03-1-AE3",2,0,2]
["58.","48304LGA80","BUMPER S/A SPRING, FRONT","A03-1-CB1",20,0,20]
["59.","9036650069","BEARING, TAPERED ROLL #","A03-1-CB3",11,0,11]
["60.","SZ36670017","BEARING TAPERED ROLLER RR","A03-1-CC4",7,0,7]
["61.","28100E0350","STARTER ASSY","A03-1-CE3",1,0,1]
["62.","90033JGA39","BEARING RADIAL BALL","A03-1-DB4",15,0,15]
["63.","04431LHE60","KING PIN KIT, STERRING KNUCKLE","A03-1-DD2",18,10,8]
["64.","4242737050L","NUT RR AXLE LOCK LH","A03-1-DD3",5,0,5]
["65.","4242737020L","NUT RR AXLE LOCK RH","A03-1-DD4",5,0,5]
["66.","3330237030","SHAFT SUB-ASSY, OUTP","A03-2-AD1",2,0,2]
["67.","13260EW021","CONNECTING ROD ASSY","A03-2-AD2",3,0,3]
["68.","3142037142","CYLINDER ASSY, MASTER L/RESERV","A03-2-CB1",8,0,8]
["69.","3333637061","GEAR, 5TH","A03-2-CB2",1,0,1]
["70.","0490537141","CUP KIT,FR WHEEL CYL","A04-1-AC3",67,0,67]
["71.","S1304E0281","RING SUB SET PISTON","A04-1-AC4",327,0,327]
["72.","45046LJE16","TIE ROD END DUTRO, RH","A04-1-AF1",113,1,112]
["73.","480410W010","SHACKLE SUB-ASSY,SPRING,NO.1","A04-1-AG2",4,4,0]
["74.","45047LJC25","TIE ROD END DUTRO, LH","A04-1-AG3",119,2,117]
["75.","0490537140","CUP KIT,FR WHEEL CYL","A04-1-BC2",3,0,3]
["76.","0490637210","CUP KIT, RR WHEEL CYL","A04-1-BC3",1,0,1]
["77.","13041E0690","BEARING SET CON *1*","A04-1-CB3",2,0,2]
["78.","13251E0120","PIN,PISTON,STD  R/F","A04-1-CC2",120,0,120]
["79.","3304437020","GEAR, 3RD","A04-1-CC3",5,0,5]
["80.","3342437040","GEAR, 2ND","A04-1-CE1",1,0,1]
["81.","3342437010","GEAR, 2ND","A04-1-CE2",2,0,2]
["82.","4504739225L","TIE ROD END, DUTRO LH","A04-1-CF3",19,0,19]
["83.","123710W020","INSULATOR ENGINE REAR","A04-1-CG1",4,0,4]
["84.","9036635105","BEARING TAP(LAL12-17210)","A04-1-DB2",22,22,0]
["85.","SZ36665004","BEARING WHEEL RR OUTER *1*","A04-1-DB3",4,0,4]
["86.","9038428009L","BUSHING SPRING 28X36X68","A04-1-DC2",33,0,33]
["87.","999312101L","BUSHING SPRING(OUT38XIN30XP78)","A04-1-DC3",1,0,1]
["88.","90384JIA05","BUSHING KIN PIN","A04-1-DD3",4,0,4]
["89.","48424LAA10","PIN SPG BRACKET,NO.2","A04-1-DF3",30,30,0]
["90.","SZ31265002","SEAL OIL","A04-2-AC1",12,0,12]
["91.","48423LAA10","PIN SPRING BRACKET M20X116,5X","A04-2-AE2",40,4,36]
["92.","4843536020L","ATTACHMENT LT/GT/HT LD/MD/HD","A04-2-AF2",1,0,1]
["93.","SZ31101046","SEAL OIL  R/F","A04-2-BB1",2,0,2]
["94.","SZ31101011","SEAL OIL","A04-2-BB2",91,7,84]
["95.","90311JHA03","SEAL OIL, FRONT AXLE","A04-2-BC1",1,0,1]
["96.","693100W020","LOCK ASSY, FR DOOR, RH","A04-2-BC3",2,0,2]
["97.","12361E0020","INSULATOR E/G MTG *******","A04-2-BF3",6,0,6]
["98.","90080LBF33","U-BOLT,FR","A04-2-BG1",27,1,26]
["99.","372350W010","CUSHION,CTR SUPPORT BEARING","A04-2-CD4",2,0,2]
["100.","9008011535L","U-BOLT SPRING STD DUTRO","A05-1-AD1",90,0,90]
["101.","837100W052","CABLE A/S SPEEDOMETER","A05-1-BB2",1,0,1]
["102.","4758037032","CYLINDER ASSY RR WHEEL","A05-1-BD3",1,0,1]
["103.","4754037140","CYLINDER ASSY, WHEEL","A05-1-BD4",3,0,3]
["104.","SZ91045367","V-BELT","A05-1-CA1",2,0,2]
["105.","561210W010","WEATHERSTRIP","A05-1-CD1",2,0,2]
["106.","454610W010","TIE ROD STEERING","A05-2-AB1",7,0,7]
["107.","521110W010","BAR FR BUMPER","A05-2-CA3",3,0,3]
["108.","23414LAA10","FUEL FILTER E2","A06-1-AB1",358,0,358]
["109.","23390LIE50","ELEMENT ASSY, FUEL FILTER","A06-1-AB2",47,20,27]
["110.","15613JAA10","ELEMENT SET,OIL FILTER","A06-1-AC2",21,0,21]
["111.","234011440L","ELEMENT SET PRE FUEL FILTER","A06-1-BB1",17,0,17]
["112.","234011332L","FUEL FILTER FF,RK,AK,078FG/L/M","A06-1-BB2",22,0,22]
["113.","23304JAC70","ELEMENT SET,FUEL FILTER","A06-1-BC1",60,0,60]
["114.","811100W070","HEADLAMP ASSY, RH","A06-1-CA1",1,0,1]
["115.","11462E0170","LINER CYL S/S","A06-1-CA3",80,0,80]
["116.","04042LBA79","HUB BOLT KIT RH","A06-1-CC2",6,0,6]
["117.","815500W050","LAMP ASSY,RR COMBINATION,RH","A06-1-DA2",3,0,3]
["118.","815600W050","LAMP ASSY,RR COMBINATION,LH","A06-1-DA3",3,0,3]
["119.","178011130L","ELEMENT S/A, AIR CLEANER D1","A06-1-DC1",245,30,215]
["120.","87901LAA80","MIRROR S/A, OUTER RR VIEW","A06-2-AA4",10,0,10]
["121.","132110247F","PISTON W04D EURO II","A06-2-AB1",122,0,122]
["122.","48511LAA30","SHOCK ABSORBER, FRONT RH","A06-2-AC1",29,0,29]
["123.","48531LAA50","SHOCK ABSORBER, REAR","A06-2-AC2",32,6,26]
["124.","879401950L","MIRROR A/S OUTER LH","A06-2-BA2",3,0,3]
["125.","NPND6RL","HUB BOLT, KIT R/L","A06-2-BC4",119,5,114]
["126.","81110LAA70","HEAD LAMP ASSY, RH","A06-2-CA1",3,0,3]
["127.","811500W070","HEADLAMP ASSY, LH","A06-2-CB2",2,0,2]
["128.","17801JAA10A","ELEMENT S/A,AIR CLEANER OUTER","A07-1-AA2",11,0,11]
["129.","156072250L","OIL FILTER W04D DUTRO","A07-1-AB1",330,50,280]
["130.","17801LAA32","ELEMENT S/A AIR CLEANER","A07-1-BA1",59,0,59]
["131.","11463E0140","LINER CYL S/S","A07-1-CA1",9,0,9]
["132.","NPNK303","FUEL STRAINER FILTER KIT TR","A07-1-CA3",14,0,14]
["133.","15613LAA70","ELEMENT OIL FILTER","A07-1-CB1",176,3,173]
["134.","81560LAA10","COMBINATION LAMP LH","A07-1-DA2",1,0,1]
["135.","81550LAA10","COMBINATION LAMP RH","A07-1-DA3",1,0,1]
["136.","178011131L","ELEMENT S/A,AIR CLEANER  D2","A07-1-DB1",9,0,9]
["137.","164000W140","RADIATOR ASSY E2","A07-2-AA2",11,0,11]
["138.","31210LAA50","COVER ASSY CLUCTH","A07-2-CB2",4,0,4]
["139.","NPND6RR","HUB BOLT, KIT R/R","A07-2-CB3",4,0,4]
["140.","474419650LN","BRAKE LINING RR 078 FL/FM","A08-1-AA1",20,0,20]
["141.","04477JAE50","BRAKE LINING, FR","A08-1-AA3",40,0,40]
["142.","474414890LN","BRAKE LINING FB FRT(NON ASBES)","A08-1-AB2",17,0,17]
["143.","474431730LN","BRAKE LINING FB RR(NON ASBES)","A08-1-AB3",10,0,10]
["144.","23304JAF20","ELEMENT SET, PRE-FILTER","A08-1-CA2",15,0,15]
["145.","041101001L","BRAKEFLUID-1 LTR DOT3.","A08-1-CB2",19,9,10]
["146.","NPNK041","W04D TP/TR FILTER KIT","A08-1-DA1",31,7,24]
["147.","47441LAA20","LINING, BRAKE SHOE FR","A08-1-DB1",2,0,2]
["148.","NPNK204","FILTER KIT 20K J08E C/R NEW.R","A08-2-CA5",1,0,1]
["149.","NPNK403","FILTER KIT 40K J08E C/R NEW.R","A08-2-CB2",20,0,20]
["150.","48215LAA11","LEAF RR SPG NO.5","A09-1-AA2",6,0,6]
["151.","48223LAA11","LEAF RR HELPER SPG NO.5","A09-1-AA3",1,0,1]
["152.","48221LAA11","LEAF RR HELPER SPG NO.3","A09-1-AA4",19,0,19]
["153.","48114LAA11","L/SPRG FRT NO.4","A09-1-AA5",9,0,9]
["154.","48203LAA11","LEAF RR HELPER SPG NO.4","A09-1-AA7",6,0,6]
["155.","48214LAA11","LEAF RR SPG NO.4","A09-1-AB3",1,0,1]
["156.","48117LAA11","L/SPRG FRT NO.7","A09-1-BA4",1,0,1]
["157.","48201LAA11","LEAF RR SPG NO.1","A09-1-BB1",18,4,14]
["158.","48101LAA11","L/SPRG FRT NO.1","A09-1-BB4",13,0,13]
["159.","48112LAA11","L/SPRG FRT NO.2","A09-1-CD1",1,1,0]
["160.","48212LAA11","LEAF RR SPG NO.2","A09-1-CD2",99,0,99]
["161.","48202LAA11","LEAF RR SPG NO.3","A09-1-CD4",7,0,7]
["162.","423110W030","SHAFT RR AXLE (RH/ LH).","A09-2-EA1",7,0,7]
["163.","42311LAA31","SHAFT AXLE RH/LH, RR","A09-2-EA2",71,0,71]
["164.","4754037102","CYLINDER ASSY, WHEEL","A10-1-A19",6,0,6]
["165.","NPNB50Z","BATTERY N50Z","A10-1-A20",6,0,6]
["166.","NPNB70S","BATTERY NS70","A10-1-A21",6,0,6]
["167.","NPNB750JS","TIRE 750-16-14PR","A10-1-A40",50,0,50]
["168.","0490537081","CUP KIT, WHEEL CYL PISTON","A10-1-A49",5,0,5]
["169.","426100W021","WHEEL ASSY, DISC","K04-004",4,4,0]
[]
["Sampit, 06-09-2023"]